{"text_format":"2","workbook":"xlsx","n_sheets":2,"sheets":["Retirement Planner","Calculations"],"not_rendered":{"charts":1,"images":1,"macros":0,"external_links":0,"defined_names":70,"comments":0,"pivot_tables":0},"unopened":[],"bounds":{"document_bytes":16777216,"sheet_cells":100000,"run_cost":"one","rows_first":2000,"rows_last":500,"rows_between":2000,"halvings":0,"cell_chars":16384,"cell_head_chars":4096},"cells_cut":0,"cells_raw":0,"read":"whole","date_system":"1900"}

{"sheet":"Retirement Planner","index":0,"n_rows":116,"n_cols":11,"rows_kept":116,"cut":false,"hidden":false,"merged":[[2,1,2,9],[3,1,3,9],[11,4,11,5],[8,1,8,2],[9,1,9,2],[10,1,10,2],[11,1,11,2],[12,1,12,2],[5,7,5,8],[5,4,5,5],[5,1,5,2],[6,1,6,2],[7,1,7,2],[6,4,6,5],[7,4,7,5],[6,7,6,8],[7,7,7,8],[8,7,8,8],[9,7,9,8],[10,7,10,8],[8,4,8,5],[9,4,9,5],[10,4,10,5]]}
[{"$nulls":10}," "]
[]
[null,{"$f":"IF(INDEX(SavingsBalance_RetiredPeriod,PlanYears)>=0,CONCATENATE(ResultsDisplay_Success_1,\"  \",ResultsDisplay_Success_2, \" \",ResultsDisplay_Success_3,\" \",ResultsDisplay_Success_4,\" \",ResultsDisplay_Success_5),CONCATENATE(ResultsDisplay_Failure_1,\"  \",ResultsDisplay_Failure_2,\" \",ResultsDisplay_Failure_3,\" \",ResultsDisplay_Failure_4))","v":"Congratulations!  At age 84, you will have a savings balance of $487,946."}]
[]
[null,"INPUT"]
[null,"NOW",null,null,"AT RETIREMENT",null,null,"UNCERTAINTY (%)"]
[null,"Your current age",null,25,"Annual pension benefit ($)",null,0,"Investment return uncertainty",null,0.02]
[null,"Annual income ($)",null,50000,"Annual pension benefit increases (%)",null,0,"Annual savings amount uncertainty",null,0]
[null,"Annual inflation & income increases (%)",null,0.02,"Desired retirement age",null,65,"Annual savings increases uncertainty",null,0]
[null,"Retirement savings balance ($)",null,5000,"Number of years of retirement income",null,20,"Annual pension benefit amount uncertainty",null,0]
[null,"Annual savings amount ($)",null,6000,"Income replacement (%)",null,0.75,"Annual Pension penefit increases uncertainty",null,0]
[null,"Annual savings increases (%)",null,0.02,"Investment return (%)",null,0.06]
[null,"Investment return (%)",null,0.06]
[]
[null,"Chart Details"]
[null,"Age","Salary","Balance","Interest","Yearly savings","Desired retirement income","Pension income","Year ending balance"]
[null,{"$f":"IFERROR(Calculations!B17,\"\")","v":25},{"$f":"IFERROR(Calculations!C17,\"\")","v":50000},{"$f":"IFERROR(Calculations!F17,\"\")","v":5000},{"$f":"IFERROR(Calculations!G17,\"\")","v":300},{"$f":"IFERROR(Calculations!H17,\"\")","v":6000},{"$f":"IFERROR(Calculations!I17,\"\")","v":0},{"$f":"IFERROR(Calculations!J17,\"\")","v":0},{"$f":"IFERROR(Calculations!K17,\"\")","v":11300}]
[null,{"$f":"IFERROR(Calculations!B18,\"\")","v":26},{"$f":"IFERROR(Calculations!C18,\"\")","v":51000},{"$f":"IFERROR(Calculations!F18,\"\")","v":11300},{"$f":"IFERROR(Calculations!G18,\"\")","v":678},{"$f":"IFERROR(Calculations!H18,\"\")","v":6120},{"$f":"IFERROR(Calculations!I18,\"\")","v":0},{"$f":"IFERROR(Calculations!J18,\"\")","v":0},{"$f":"IFERROR(Calculations!K18,\"\")","v":18098}]
[null,{"$f":"IFERROR(Calculations!B19,\"\")","v":27},{"$f":"IFERROR(Calculations!C19,\"\")","v":52020},{"$f":"IFERROR(Calculations!F19,\"\")","v":18098},{"$f":"IFERROR(Calculations!G19,\"\")","v":1085.8799999999999},{"$f":"IFERROR(Calculations!H19,\"\")","v":6242.4},{"$f":"IFERROR(Calculations!I19,\"\")","v":0},{"$f":"IFERROR(Calculations!J19,\"\")","v":0},{"$f":"IFERROR(Calculations!K19,\"\")","v":25426.28}]
[null,{"$f":"IFERROR(Calculations!B20,\"\")","v":28},{"$f":"IFERROR(Calculations!C20,\"\")","v":53060.4},{"$f":"IFERROR(Calculations!F20,\"\")","v":25426.28},{"$f":"IFERROR(Calculations!G20,\"\")","v":1525.5767999999998},{"$f":"IFERROR(Calculations!H20,\"\")","v":6367.2479999999996},{"$f":"IFERROR(Calculations!I20,\"\")","v":0},{"$f":"IFERROR(Calculations!J20,\"\")","v":0},{"$f":"IFERROR(Calculations!K20,\"\")","v":33319.104800000001}]
[null,{"$f":"IFERROR(Calculations!B21,\"\")","v":29},{"$f":"IFERROR(Calculations!C21,\"\")","v":54121.608},{"$f":"IFERROR(Calculations!F21,\"\")","v":33319.104800000001},{"$f":"IFERROR(Calculations!G21,\"\")","v":1999.1462879999999},{"$f":"IFERROR(Calculations!H21,\"\")","v":6494.5929599999999},{"$f":"IFERROR(Calculations!I21,\"\")","v":0},{"$f":"IFERROR(Calculations!J21,\"\")","v":0},{"$f":"IFERROR(Calculations!K21,\"\")","v":41812.844048000006}]
[null,{"$f":"IFERROR(Calculations!B22,\"\")","v":30},{"$f":"IFERROR(Calculations!C22,\"\")","v":55204.040159999997},{"$f":"IFERROR(Calculations!F22,\"\")","v":41812.844048000006},{"$f":"IFERROR(Calculations!G22,\"\")","v":2508.7706428800002},{"$f":"IFERROR(Calculations!H22,\"\")","v":6624.4848191999999},{"$f":"IFERROR(Calculations!I22,\"\")","v":0},{"$f":"IFERROR(Calculations!J22,\"\")","v":0},{"$f":"IFERROR(Calculations!K22,\"\")","v":50946.099510080006}]
[null,{"$f":"IFERROR(Calculations!B23,\"\")","v":31},{"$f":"IFERROR(Calculations!C23,\"\")","v":56308.120963199995},{"$f":"IFERROR(Calculations!F23,\"\")","v":50946.099510080006},{"$f":"IFERROR(Calculations!G23,\"\")","v":3056.7659706048003},{"$f":"IFERROR(Calculations!H23,\"\")","v":6756.9745155840001},{"$f":"IFERROR(Calculations!I23,\"\")","v":0},{"$f":"IFERROR(Calculations!J23,\"\")","v":0},{"$f":"IFERROR(Calculations!K23,\"\")","v":60759.839996268805}]
[null,{"$f":"IFERROR(Calculations!B24,\"\")","v":32},{"$f":"IFERROR(Calculations!C24,\"\")","v":57434.283382463997},{"$f":"IFERROR(Calculations!F24,\"\")","v":60759.839996268805},{"$f":"IFERROR(Calculations!G24,\"\")","v":3645.5903997761284},{"$f":"IFERROR(Calculations!H24,\"\")","v":6892.1140058956798},{"$f":"IFERROR(Calculations!I24,\"\")","v":0},{"$f":"IFERROR(Calculations!J24,\"\")","v":0},{"$f":"IFERROR(Calculations!K24,\"\")","v":71297.544401940613}]
[null,{"$f":"IFERROR(Calculations!B25,\"\")","v":33},{"$f":"IFERROR(Calculations!C25,\"\")","v":58582.969050113279},{"$f":"IFERROR(Calculations!F25,\"\")","v":71297.544401940613},{"$f":"IFERROR(Calculations!G25,\"\")","v":4277.8526641164362},{"$f":"IFERROR(Calculations!H25,\"\")","v":7029.9562860135939},{"$f":"IFERROR(Calculations!I25,\"\")","v":0},{"$f":"IFERROR(Calculations!J25,\"\")","v":0},{"$f":"IFERROR(Calculations!K25,\"\")","v":82605.353352070641}]
[null,{"$f":"IFERROR(Calculations!B26,\"\")","v":34},{"$f":"IFERROR(Calculations!C26,\"\")","v":59754.628431115547},{"$f":"IFERROR(Calculations!F26,\"\")","v":82605.353352070641},{"$f":"IFERROR(Calculations!G26,\"\")","v":4956.3212011242385},{"$f":"IFERROR(Calculations!H26,\"\")","v":7170.5554117338661},{"$f":"IFERROR(Calculations!I26,\"\")","v":0},{"$f":"IFERROR(Calculations!J26,\"\")","v":0},{"$f":"IFERROR(Calculations!K26,\"\")","v":94732.229964928745}]
[null,{"$f":"IFERROR(Calculations!B27,\"\")","v":35},{"$f":"IFERROR(Calculations!C27,\"\")","v":60949.72099973786},{"$f":"IFERROR(Calculations!F27,\"\")","v":94732.229964928745},{"$f":"IFERROR(Calculations!G27,\"\")","v":5683.9337978957246},{"$f":"IFERROR(Calculations!H27,\"\")","v":7313.9665199685433},{"$f":"IFERROR(Calculations!I27,\"\")","v":0},{"$f":"IFERROR(Calculations!J27,\"\")","v":0},{"$f":"IFERROR(Calculations!K27,\"\")","v":107730.130282793}]
[null,{"$f":"IFERROR(Calculations!B28,\"\")","v":36},{"$f":"IFERROR(Calculations!C28,\"\")","v":62168.715419732616},{"$f":"IFERROR(Calculations!F28,\"\")","v":107730.130282793},{"$f":"IFERROR(Calculations!G28,\"\")","v":6463.80781696758},{"$f":"IFERROR(Calculations!H28,\"\")","v":7460.2458503679145},{"$f":"IFERROR(Calculations!I28,\"\")","v":0},{"$f":"IFERROR(Calculations!J28,\"\")","v":0},{"$f":"IFERROR(Calculations!K28,\"\")","v":121654.1839501285}]
[null,{"$f":"IFERROR(Calculations!B29,\"\")","v":37},{"$f":"IFERROR(Calculations!C29,\"\")","v":63412.08972812727},{"$f":"IFERROR(Calculations!F29,\"\")","v":121654.1839501285},{"$f":"IFERROR(Calculations!G29,\"\")","v":7299.2510370077098},{"$f":"IFERROR(Calculations!H29,\"\")","v":7609.4507673752723},{"$f":"IFERROR(Calculations!I29,\"\")","v":0},{"$f":"IFERROR(Calculations!J29,\"\")","v":0},{"$f":"IFERROR(Calculations!K29,\"\")","v":136562.88575451149}]
[null,{"$f":"IFERROR(Calculations!B30,\"\")","v":38},{"$f":"IFERROR(Calculations!C30,\"\")","v":64680.331522689812},{"$f":"IFERROR(Calculations!F30,\"\")","v":136562.88575451149},{"$f":"IFERROR(Calculations!G30,\"\")","v":8193.7731452706885},{"$f":"IFERROR(Calculations!H30,\"\")","v":7761.6397827227775},{"$f":"IFERROR(Calculations!I30,\"\")","v":0},{"$f":"IFERROR(Calculations!J30,\"\")","v":0},{"$f":"IFERROR(Calculations!K30,\"\")","v":152518.29868250494}]
[null,{"$f":"IFERROR(Calculations!B31,\"\")","v":39},{"$f":"IFERROR(Calculations!C31,\"\")","v":65973.938153143608},{"$f":"IFERROR(Calculations!F31,\"\")","v":152518.29868250494},{"$f":"IFERROR(Calculations!G31,\"\")","v":9151.0979209502966},{"$f":"IFERROR(Calculations!H31,\"\")","v":7916.8725783772334},{"$f":"IFERROR(Calculations!I31,\"\")","v":0},{"$f":"IFERROR(Calculations!J31,\"\")","v":0},{"$f":"IFERROR(Calculations!K31,\"\")","v":169586.26918183247}]
[null,{"$f":"IFERROR(Calculations!B32,\"\")","v":40},{"$f":"IFERROR(Calculations!C32,\"\")","v":67293.416916206479},{"$f":"IFERROR(Calculations!F32,\"\")","v":169586.26918183247},{"$f":"IFERROR(Calculations!G32,\"\")","v":10175.176150909947},{"$f":"IFERROR(Calculations!H32,\"\")","v":8075.2100299447784},{"$f":"IFERROR(Calculations!I32,\"\")","v":0},{"$f":"IFERROR(Calculations!J32,\"\")","v":0},{"$f":"IFERROR(Calculations!K32,\"\")","v":187836.65536268719}]
[null,{"$f":"IFERROR(Calculations!B33,\"\")","v":41},{"$f":"IFERROR(Calculations!C33,\"\")","v":68639.285254530609},{"$f":"IFERROR(Calculations!F33,\"\")","v":187836.65536268719},{"$f":"IFERROR(Calculations!G33,\"\")","v":11270.199321761231},{"$f":"IFERROR(Calculations!H33,\"\")","v":8236.7142305436737},{"$f":"IFERROR(Calculations!I33,\"\")","v":0},{"$f":"IFERROR(Calculations!J33,\"\")","v":0},{"$f":"IFERROR(Calculations!K33,\"\")","v":207343.56891499209}]
[null,{"$f":"IFERROR(Calculations!B34,\"\")","v":42},{"$f":"IFERROR(Calculations!C34,\"\")","v":70012.070959621225},{"$f":"IFERROR(Calculations!F34,\"\")","v":207343.56891499209},{"$f":"IFERROR(Calculations!G34,\"\")","v":12440.614134899526},{"$f":"IFERROR(Calculations!H34,\"\")","v":8401.4485151545468},{"$f":"IFERROR(Calculations!I34,\"\")","v":0},{"$f":"IFERROR(Calculations!J34,\"\")","v":0},{"$f":"IFERROR(Calculations!K34,\"\")","v":228185.63156504615}]
[null,{"$f":"IFERROR(Calculations!B35,\"\")","v":43},{"$f":"IFERROR(Calculations!C35,\"\")","v":71412.312378813644},{"$f":"IFERROR(Calculations!F35,\"\")","v":228185.63156504615},{"$f":"IFERROR(Calculations!G35,\"\")","v":13691.137893902769},{"$f":"IFERROR(Calculations!H35,\"\")","v":8569.4774854576372},{"$f":"IFERROR(Calculations!I35,\"\")","v":0},{"$f":"IFERROR(Calculations!J35,\"\")","v":0},{"$f":"IFERROR(Calculations!K35,\"\")","v":250446.24694440656}]
[null,{"$f":"IFERROR(Calculations!B36,\"\")","v":44},{"$f":"IFERROR(Calculations!C36,\"\")","v":72840.558626389917},{"$f":"IFERROR(Calculations!F36,\"\")","v":250446.24694440656},{"$f":"IFERROR(Calculations!G36,\"\")","v":15026.774816664394},{"$f":"IFERROR(Calculations!H36,\"\")","v":8740.8670351667897},{"$f":"IFERROR(Calculations!I36,\"\")","v":0},{"$f":"IFERROR(Calculations!J36,\"\")","v":0},{"$f":"IFERROR(Calculations!K36,\"\")","v":274213.8887962377}]
[null,{"$f":"IFERROR(Calculations!B37,\"\")","v":45},{"$f":"IFERROR(Calculations!C37,\"\")","v":74297.369798917716},{"$f":"IFERROR(Calculations!F37,\"\")","v":274213.8887962377},{"$f":"IFERROR(Calculations!G37,\"\")","v":16452.83332777426},{"$f":"IFERROR(Calculations!H37,\"\")","v":8915.6843758701252},{"$f":"IFERROR(Calculations!I37,\"\")","v":0},{"$f":"IFERROR(Calculations!J37,\"\")","v":0},{"$f":"IFERROR(Calculations!K37,\"\")","v":299582.40649988205}]
[null,{"$f":"IFERROR(Calculations!B38,\"\")","v":46},{"$f":"IFERROR(Calculations!C38,\"\")","v":75783.317194896066},{"$f":"IFERROR(Calculations!F38,\"\")","v":299582.40649988205},{"$f":"IFERROR(Calculations!G38,\"\")","v":17974.944389992921},{"$f":"IFERROR(Calculations!H38,\"\")","v":9093.9980633875275},{"$f":"IFERROR(Calculations!I38,\"\")","v":0},{"$f":"IFERROR(Calculations!J38,\"\")","v":0},{"$f":"IFERROR(Calculations!K38,\"\")","v":326651.3489532625}]
[null,{"$f":"IFERROR(Calculations!B39,\"\")","v":47},{"$f":"IFERROR(Calculations!C39,\"\")","v":77298.983538793982},{"$f":"IFERROR(Calculations!F39,\"\")","v":326651.3489532625},{"$f":"IFERROR(Calculations!G39,\"\")","v":19599.080937195748},{"$f":"IFERROR(Calculations!H39,\"\")","v":9275.8780246552778},{"$f":"IFERROR(Calculations!I39,\"\")","v":0},{"$f":"IFERROR(Calculations!J39,\"\")","v":0},{"$f":"IFERROR(Calculations!K39,\"\")","v":355526.30791511352}]
[null,{"$f":"IFERROR(Calculations!B40,\"\")","v":48},{"$f":"IFERROR(Calculations!C40,\"\")","v":78844.963209569862},{"$f":"IFERROR(Calculations!F40,\"\")","v":355526.30791511352},{"$f":"IFERROR(Calculations!G40,\"\")","v":21331.578474906812},{"$f":"IFERROR(Calculations!H40,\"\")","v":9461.3955851483843},{"$f":"IFERROR(Calculations!I40,\"\")","v":0},{"$f":"IFERROR(Calculations!J40,\"\")","v":0},{"$f":"IFERROR(Calculations!K40,\"\")","v":386319.28197516868}]
[null,{"$f":"IFERROR(Calculations!B41,\"\")","v":49},{"$f":"IFERROR(Calculations!C41,\"\")","v":80421.862473761255},{"$f":"IFERROR(Calculations!F41,\"\")","v":386319.28197516868},{"$f":"IFERROR(Calculations!G41,\"\")","v":23179.156918510118},{"$f":"IFERROR(Calculations!H41,\"\")","v":9650.6234968513527},{"$f":"IFERROR(Calculations!I41,\"\")","v":0},{"$f":"IFERROR(Calculations!J41,\"\")","v":0},{"$f":"IFERROR(Calculations!K41,\"\")","v":419149.06239053013}]
[null,{"$f":"IFERROR(Calculations!B42,\"\")","v":50},{"$f":"IFERROR(Calculations!C42,\"\")","v":82030.299723236487},{"$f":"IFERROR(Calculations!F42,\"\")","v":419149.06239053013},{"$f":"IFERROR(Calculations!G42,\"\")","v":25148.943743431806},{"$f":"IFERROR(Calculations!H42,\"\")","v":9843.6359667883789},{"$f":"IFERROR(Calculations!I42,\"\")","v":0},{"$f":"IFERROR(Calculations!J42,\"\")","v":0},{"$f":"IFERROR(Calculations!K42,\"\")","v":454141.64210075035}]
[null,{"$f":"IFERROR(Calculations!B43,\"\")","v":51},{"$f":"IFERROR(Calculations!C43,\"\")","v":83670.905717701215},{"$f":"IFERROR(Calculations!F43,\"\")","v":454141.64210075035},{"$f":"IFERROR(Calculations!G43,\"\")","v":27248.498526045019},{"$f":"IFERROR(Calculations!H43,\"\")","v":10040.508686124147},{"$f":"IFERROR(Calculations!I43,\"\")","v":0},{"$f":"IFERROR(Calculations!J43,\"\")","v":0},{"$f":"IFERROR(Calculations!K43,\"\")","v":491430.64931291953}]
[null,{"$f":"IFERROR(Calculations!B44,\"\")","v":52},{"$f":"IFERROR(Calculations!C44,\"\")","v":85344.323832055234},{"$f":"IFERROR(Calculations!F44,\"\")","v":491430.64931291953},{"$f":"IFERROR(Calculations!G44,\"\")","v":29485.83895877517},{"$f":"IFERROR(Calculations!H44,\"\")","v":10241.318859846629},{"$f":"IFERROR(Calculations!I44,\"\")","v":0},{"$f":"IFERROR(Calculations!J44,\"\")","v":0},{"$f":"IFERROR(Calculations!K44,\"\")","v":531157.80713154131}]
[null,{"$f":"IFERROR(Calculations!B45,\"\")","v":53},{"$f":"IFERROR(Calculations!C45,\"\")","v":87051.210308696333},{"$f":"IFERROR(Calculations!F45,\"\")","v":531157.80713154131},{"$f":"IFERROR(Calculations!G45,\"\")","v":31869.468427892476},{"$f":"IFERROR(Calculations!H45,\"\")","v":10446.145237043562},{"$f":"IFERROR(Calculations!I45,\"\")","v":0},{"$f":"IFERROR(Calculations!J45,\"\")","v":0},{"$f":"IFERROR(Calculations!K45,\"\")","v":573473.42079647735}]
[null,{"$f":"IFERROR(Calculations!B46,\"\")","v":54},{"$f":"IFERROR(Calculations!C46,\"\")","v":88792.234514870259},{"$f":"IFERROR(Calculations!F46,\"\")","v":573473.42079647735},{"$f":"IFERROR(Calculations!G46,\"\")","v":34408.405247788643},{"$f":"IFERROR(Calculations!H46,\"\")","v":10655.068141784433},{"$f":"IFERROR(Calculations!I46,\"\")","v":0},{"$f":"IFERROR(Calculations!J46,\"\")","v":0},{"$f":"IFERROR(Calculations!K46,\"\")","v":618536.8941860504}]
[null,{"$f":"IFERROR(Calculations!B47,\"\")","v":55},{"$f":"IFERROR(Calculations!C47,\"\")","v":90568.079205167669},{"$f":"IFERROR(Calculations!F47,\"\")","v":618536.8941860504},{"$f":"IFERROR(Calculations!G47,\"\")","v":37112.213651163023},{"$f":"IFERROR(Calculations!H47,\"\")","v":10868.169504620122},{"$f":"IFERROR(Calculations!I47,\"\")","v":0},{"$f":"IFERROR(Calculations!J47,\"\")","v":0},{"$f":"IFERROR(Calculations!K47,\"\")","v":666517.27734183357}]
[null,{"$f":"IFERROR(Calculations!B48,\"\")","v":56},{"$f":"IFERROR(Calculations!C48,\"\")","v":92379.44078927103},{"$f":"IFERROR(Calculations!F48,\"\")","v":666517.27734183357},{"$f":"IFERROR(Calculations!G48,\"\")","v":39991.036640510014},{"$f":"IFERROR(Calculations!H48,\"\")","v":11085.532894712525},{"$f":"IFERROR(Calculations!I48,\"\")","v":0},{"$f":"IFERROR(Calculations!J48,\"\")","v":0},{"$f":"IFERROR(Calculations!K48,\"\")","v":717593.84687705606}]
[null,{"$f":"IFERROR(Calculations!B49,\"\")","v":57},{"$f":"IFERROR(Calculations!C49,\"\")","v":94227.02960505645},{"$f":"IFERROR(Calculations!F49,\"\")","v":717593.84687705606},{"$f":"IFERROR(Calculations!G49,\"\")","v":43055.630812623363},{"$f":"IFERROR(Calculations!H49,\"\")","v":11307.243552606777},{"$f":"IFERROR(Calculations!I49,\"\")","v":0},{"$f":"IFERROR(Calculations!J49,\"\")","v":0},{"$f":"IFERROR(Calculations!K49,\"\")","v":771956.72124228626}]
[null,{"$f":"IFERROR(Calculations!B50,\"\")","v":58},{"$f":"IFERROR(Calculations!C50,\"\")","v":96111.570197157576},{"$f":"IFERROR(Calculations!F50,\"\")","v":771956.72124228626},{"$f":"IFERROR(Calculations!G50,\"\")","v":46317.403274537173},{"$f":"IFERROR(Calculations!H50,\"\")","v":11533.388423658913},{"$f":"IFERROR(Calculations!I50,\"\")","v":0},{"$f":"IFERROR(Calculations!J50,\"\")","v":0},{"$f":"IFERROR(Calculations!K50,\"\")","v":829807.51294048235}]
[null,{"$f":"IFERROR(Calculations!B51,\"\")","v":59},{"$f":"IFERROR(Calculations!C51,\"\")","v":98033.801601100728},{"$f":"IFERROR(Calculations!F51,\"\")","v":829807.51294048235},{"$f":"IFERROR(Calculations!G51,\"\")","v":49788.450776428937},{"$f":"IFERROR(Calculations!H51,\"\")","v":11764.056192132091},{"$f":"IFERROR(Calculations!I51,\"\")","v":0},{"$f":"IFERROR(Calculations!J51,\"\")","v":0},{"$f":"IFERROR(Calculations!K51,\"\")","v":891360.01990904333}]
[null,{"$f":"IFERROR(Calculations!B52,\"\")","v":60},{"$f":"IFERROR(Calculations!C52,\"\")","v":99994.477633122748},{"$f":"IFERROR(Calculations!F52,\"\")","v":891360.01990904333},{"$f":"IFERROR(Calculations!G52,\"\")","v":53481.6011945426},{"$f":"IFERROR(Calculations!H52,\"\")","v":11999.337315974733},{"$f":"IFERROR(Calculations!I52,\"\")","v":0},{"$f":"IFERROR(Calculations!J52,\"\")","v":0},{"$f":"IFERROR(Calculations!K52,\"\")","v":956840.95841956069}]
[null,{"$f":"IFERROR(Calculations!B53,\"\")","v":61},{"$f":"IFERROR(Calculations!C53,\"\")","v":101994.3671857852},{"$f":"IFERROR(Calculations!F53,\"\")","v":956840.95841956069},{"$f":"IFERROR(Calculations!G53,\"\")","v":57410.457505173639},{"$f":"IFERROR(Calculations!H53,\"\")","v":12239.324062294228},{"$f":"IFERROR(Calculations!I53,\"\")","v":0},{"$f":"IFERROR(Calculations!J53,\"\")","v":0},{"$f":"IFERROR(Calculations!K53,\"\")","v":1026490.7399870285}]
[null,{"$f":"IFERROR(Calculations!B54,\"\")","v":62},{"$f":"IFERROR(Calculations!C54,\"\")","v":104034.2545295009},{"$f":"IFERROR(Calculations!F54,\"\")","v":1026490.7399870285},{"$f":"IFERROR(Calculations!G54,\"\")","v":61589.444399221713},{"$f":"IFERROR(Calculations!H54,\"\")","v":12484.110543540113},{"$f":"IFERROR(Calculations!I54,\"\")","v":0},{"$f":"IFERROR(Calculations!J54,\"\")","v":0},{"$f":"IFERROR(Calculations!K54,\"\")","v":1100564.2949297905}]
[null,{"$f":"IFERROR(Calculations!B55,\"\")","v":63},{"$f":"IFERROR(Calculations!C55,\"\")","v":106114.93962009093},{"$f":"IFERROR(Calculations!F55,\"\")","v":1100564.2949297905},{"$f":"IFERROR(Calculations!G55,\"\")","v":66033.857695787432},{"$f":"IFERROR(Calculations!H55,\"\")","v":12733.792754410915},{"$f":"IFERROR(Calculations!I55,\"\")","v":0},{"$f":"IFERROR(Calculations!J55,\"\")","v":0},{"$f":"IFERROR(Calculations!K55,\"\")","v":1179331.945379989}]
[null,{"$f":"IFERROR(Calculations!B56,\"\")","v":64},{"$f":"IFERROR(Calculations!C56,\"\")","v":108237.23841249275},{"$f":"IFERROR(Calculations!F56,\"\")","v":1179331.945379989},{"$f":"IFERROR(Calculations!G56,\"\")","v":70759.916722799331},{"$f":"IFERROR(Calculations!H56,\"\")","v":12988.468609499134},{"$f":"IFERROR(Calculations!I56,\"\")","v":0},{"$f":"IFERROR(Calculations!J56,\"\")","v":0},{"$f":"IFERROR(Calculations!K56,\"\")","v":1263080.3307122875}]
[null,{"$f":"IFERROR(Calculations!B57,\"\")","v":65},{"$f":"IFERROR(Calculations!C57,\"\")","v":0},{"$f":"IFERROR(Calculations!F57,\"\")","v":1263080.3307122875},{"$f":"IFERROR(Calculations!G57,\"\")","v":75784.819842737241},{"$f":"IFERROR(Calculations!H57,\"\")","v":0},{"$f":"IFERROR(Calculations!I57,\"\")","v":82801.487385556946},{"$f":"IFERROR(Calculations!J57,\"\")","v":0},{"$f":"IFERROR(Calculations!K57,\"\")","v":1256063.6631694676}]
[null,{"$f":"IFERROR(Calculations!B58,\"\")","v":66},{"$f":"IFERROR(Calculations!C58,\"\")","v":0},{"$f":"IFERROR(Calculations!F58,\"\")","v":1256063.6631694676},{"$f":"IFERROR(Calculations!G58,\"\")","v":75363.819790168054},{"$f":"IFERROR(Calculations!H58,\"\")","v":0},{"$f":"IFERROR(Calculations!I58,\"\")","v":84457.517133268077},{"$f":"IFERROR(Calculations!J58,\"\")","v":0},{"$f":"IFERROR(Calculations!K58,\"\")","v":1246969.9658263675}]
[null,{"$f":"IFERROR(Calculations!B59,\"\")","v":67},{"$f":"IFERROR(Calculations!C59,\"\")","v":0},{"$f":"IFERROR(Calculations!F59,\"\")","v":1246969.9658263675},{"$f":"IFERROR(Calculations!G59,\"\")","v":74818.197949582041},{"$f":"IFERROR(Calculations!H59,\"\")","v":0},{"$f":"IFERROR(Calculations!I59,\"\")","v":86146.667475933442},{"$f":"IFERROR(Calculations!J59,\"\")","v":0},{"$f":"IFERROR(Calculations!K59,\"\")","v":1235641.4963000161}]
[null,{"$f":"IFERROR(Calculations!B60,\"\")","v":68},{"$f":"IFERROR(Calculations!C60,\"\")","v":0},{"$f":"IFERROR(Calculations!F60,\"\")","v":1235641.4963000161},{"$f":"IFERROR(Calculations!G60,\"\")","v":74138.489778000963},{"$f":"IFERROR(Calculations!H60,\"\")","v":0},{"$f":"IFERROR(Calculations!I60,\"\")","v":87869.6008254521},{"$f":"IFERROR(Calculations!J60,\"\")","v":0},{"$f":"IFERROR(Calculations!K60,\"\")","v":1221910.3852525649}]
[null,{"$f":"IFERROR(Calculations!B61,\"\")","v":69},{"$f":"IFERROR(Calculations!C61,\"\")","v":0},{"$f":"IFERROR(Calculations!F61,\"\")","v":1221910.3852525649},{"$f":"IFERROR(Calculations!G61,\"\")","v":73314.623115153896},{"$f":"IFERROR(Calculations!H61,\"\")","v":0},{"$f":"IFERROR(Calculations!I61,\"\")","v":89626.992841961153},{"$f":"IFERROR(Calculations!J61,\"\")","v":0},{"$f":"IFERROR(Calculations!K61,\"\")","v":1205598.0155257578}]
[null,{"$f":"IFERROR(Calculations!B62,\"\")","v":70},{"$f":"IFERROR(Calculations!C62,\"\")","v":0},{"$f":"IFERROR(Calculations!F62,\"\")","v":1205598.0155257578},{"$f":"IFERROR(Calculations!G62,\"\")","v":72335.880931545471},{"$f":"IFERROR(Calculations!H62,\"\")","v":0},{"$f":"IFERROR(Calculations!I62,\"\")","v":91419.532698800365},{"$f":"IFERROR(Calculations!J62,\"\")","v":0},{"$f":"IFERROR(Calculations!K62,\"\")","v":1186514.363758503}]
[null,{"$f":"IFERROR(Calculations!B63,\"\")","v":71},{"$f":"IFERROR(Calculations!C63,\"\")","v":0},{"$f":"IFERROR(Calculations!F63,\"\")","v":1186514.363758503},{"$f":"IFERROR(Calculations!G63,\"\")","v":71190.861825510176},{"$f":"IFERROR(Calculations!H63,\"\")","v":0},{"$f":"IFERROR(Calculations!I63,\"\")","v":93247.923352776386},{"$f":"IFERROR(Calculations!J63,\"\")","v":0},{"$f":"IFERROR(Calculations!K63,\"\")","v":1164457.3022312368}]
[null,{"$f":"IFERROR(Calculations!B64,\"\")","v":72},{"$f":"IFERROR(Calculations!C64,\"\")","v":0},{"$f":"IFERROR(Calculations!F64,\"\")","v":1164457.3022312368},{"$f":"IFERROR(Calculations!G64,\"\")","v":69867.43813387421},{"$f":"IFERROR(Calculations!H64,\"\")","v":0},{"$f":"IFERROR(Calculations!I64,\"\")","v":95112.881819831891},{"$f":"IFERROR(Calculations!J64,\"\")","v":0},{"$f":"IFERROR(Calculations!K64,\"\")","v":1139211.8585452791}]
[null,{"$f":"IFERROR(Calculations!B65,\"\")","v":73},{"$f":"IFERROR(Calculations!C65,\"\")","v":0},{"$f":"IFERROR(Calculations!F65,\"\")","v":1139211.8585452791},{"$f":"IFERROR(Calculations!G65,\"\")","v":68352.711512716749},{"$f":"IFERROR(Calculations!H65,\"\")","v":0},{"$f":"IFERROR(Calculations!I65,\"\")","v":97015.139456228542},{"$f":"IFERROR(Calculations!J65,\"\")","v":0},{"$f":"IFERROR(Calculations!K65,\"\")","v":1110549.4306017673}]
[null,{"$f":"IFERROR(Calculations!B66,\"\")","v":74},{"$f":"IFERROR(Calculations!C66,\"\")","v":0},{"$f":"IFERROR(Calculations!F66,\"\")","v":1110549.4306017673},{"$f":"IFERROR(Calculations!G66,\"\")","v":66632.965836106028},{"$f":"IFERROR(Calculations!H66,\"\")","v":0},{"$f":"IFERROR(Calculations!I66,\"\")","v":98955.442245353115},{"$f":"IFERROR(Calculations!J66,\"\")","v":0},{"$f":"IFERROR(Calculations!K66,\"\")","v":1078226.9541925204}]
[null,{"$f":"IFERROR(Calculations!B67,\"\")","v":75},{"$f":"IFERROR(Calculations!C67,\"\")","v":0},{"$f":"IFERROR(Calculations!F67,\"\")","v":1078226.9541925204},{"$f":"IFERROR(Calculations!G67,\"\")","v":64693.617251551215},{"$f":"IFERROR(Calculations!H67,\"\")","v":0},{"$f":"IFERROR(Calculations!I67,\"\")","v":100934.55109026018},{"$f":"IFERROR(Calculations!J67,\"\")","v":0},{"$f":"IFERROR(Calculations!K67,\"\")","v":1041986.0203538114}]
[null,{"$f":"IFERROR(Calculations!B68,\"\")","v":76},{"$f":"IFERROR(Calculations!C68,\"\")","v":0},{"$f":"IFERROR(Calculations!F68,\"\")","v":1041986.0203538114},{"$f":"IFERROR(Calculations!G68,\"\")","v":62519.161221228685},{"$f":"IFERROR(Calculations!H68,\"\")","v":0},{"$f":"IFERROR(Calculations!I68,\"\")","v":102953.24211206537},{"$f":"IFERROR(Calculations!J68,\"\")","v":0},{"$f":"IFERROR(Calculations!K68,\"\")","v":1001551.9394629747}]
[null,{"$f":"IFERROR(Calculations!B69,\"\")","v":77},{"$f":"IFERROR(Calculations!C69,\"\")","v":0},{"$f":"IFERROR(Calculations!F69,\"\")","v":1001551.9394629747},{"$f":"IFERROR(Calculations!G69,\"\")","v":60093.116367778479},{"$f":"IFERROR(Calculations!H69,\"\")","v":0},{"$f":"IFERROR(Calculations!I69,\"\")","v":105012.3069543067},{"$f":"IFERROR(Calculations!J69,\"\")","v":0},{"$f":"IFERROR(Calculations!K69,\"\")","v":956632.74887644651}]
[null,{"$f":"IFERROR(Calculations!B70,\"\")","v":78},{"$f":"IFERROR(Calculations!C70,\"\")","v":0},{"$f":"IFERROR(Calculations!F70,\"\")","v":956632.74887644651},{"$f":"IFERROR(Calculations!G70,\"\")","v":57397.964932586787},{"$f":"IFERROR(Calculations!H70,\"\")","v":0},{"$f":"IFERROR(Calculations!I70,\"\")","v":107112.55309339281},{"$f":"IFERROR(Calculations!J70,\"\")","v":0},{"$f":"IFERROR(Calculations!K70,\"\")","v":906918.16071564052}]
[null,{"$f":"IFERROR(Calculations!B71,\"\")","v":79},{"$f":"IFERROR(Calculations!C71,\"\")","v":0},{"$f":"IFERROR(Calculations!F71,\"\")","v":906918.16071564052},{"$f":"IFERROR(Calculations!G71,\"\")","v":54415.08964293843},{"$f":"IFERROR(Calculations!H71,\"\")","v":0},{"$f":"IFERROR(Calculations!I71,\"\")","v":109254.80415526069},{"$f":"IFERROR(Calculations!J71,\"\")","v":0},{"$f":"IFERROR(Calculations!K71,\"\")","v":852078.44620331831}]
[null,{"$f":"IFERROR(Calculations!B72,\"\")","v":80},{"$f":"IFERROR(Calculations!C72,\"\")","v":0},{"$f":"IFERROR(Calculations!F72,\"\")","v":852078.44620331831},{"$f":"IFERROR(Calculations!G72,\"\")","v":51124.706772199097},{"$f":"IFERROR(Calculations!H72,\"\")","v":0},{"$f":"IFERROR(Calculations!I72,\"\")","v":111439.90023836587},{"$f":"IFERROR(Calculations!J72,\"\")","v":0},{"$f":"IFERROR(Calculations!K72,\"\")","v":791763.25273715158}]
[null,{"$f":"IFERROR(Calculations!B73,\"\")","v":81},{"$f":"IFERROR(Calculations!C73,\"\")","v":0},{"$f":"IFERROR(Calculations!F73,\"\")","v":791763.25273715158},{"$f":"IFERROR(Calculations!G73,\"\")","v":47505.795164229094},{"$f":"IFERROR(Calculations!H73,\"\")","v":0},{"$f":"IFERROR(Calculations!I73,\"\")","v":113668.69824313319},{"$f":"IFERROR(Calculations!J73,\"\")","v":0},{"$f":"IFERROR(Calculations!K73,\"\")","v":725600.34965824755}]
[null,{"$f":"IFERROR(Calculations!B74,\"\")","v":82},{"$f":"IFERROR(Calculations!C74,\"\")","v":0},{"$f":"IFERROR(Calculations!F74,\"\")","v":725600.34965824755},{"$f":"IFERROR(Calculations!G74,\"\")","v":43536.020979494853},{"$f":"IFERROR(Calculations!H74,\"\")","v":0},{"$f":"IFERROR(Calculations!I74,\"\")","v":115942.07220799585},{"$f":"IFERROR(Calculations!J74,\"\")","v":0},{"$f":"IFERROR(Calculations!K74,\"\")","v":653194.29842974665}]
[null,{"$f":"IFERROR(Calculations!B75,\"\")","v":83},{"$f":"IFERROR(Calculations!C75,\"\")","v":0},{"$f":"IFERROR(Calculations!F75,\"\")","v":653194.29842974665},{"$f":"IFERROR(Calculations!G75,\"\")","v":39191.657905784799},{"$f":"IFERROR(Calculations!H75,\"\")","v":0},{"$f":"IFERROR(Calculations!I75,\"\")","v":118260.91365215578},{"$f":"IFERROR(Calculations!J75,\"\")","v":0},{"$f":"IFERROR(Calculations!K75,\"\")","v":574125.04268337565}]
[null,{"$f":"IFERROR(Calculations!B76,\"\")","v":84},{"$f":"IFERROR(Calculations!C76,\"\")","v":0},{"$f":"IFERROR(Calculations!F76,\"\")","v":574125.04268337565},{"$f":"IFERROR(Calculations!G76,\"\")","v":34447.50256100254},{"$f":"IFERROR(Calculations!H76,\"\")","v":0},{"$f":"IFERROR(Calculations!I76,\"\")","v":120626.13192519888},{"$f":"IFERROR(Calculations!J76,\"\")","v":0},{"$f":"IFERROR(Calculations!K76,\"\")","v":487946.41331917926}]
[null,{"$f":"IFERROR(Calculations!B77,\"\")","v":""},{"$f":"IFERROR(Calculations!C77,\"\")","v":""},{"$f":"IFERROR(Calculations!F77,\"\")","v":""},{"$f":"IFERROR(Calculations!G77,\"\")","v":""},{"$f":"IFERROR(Calculations!H77,\"\")","v":""},{"$f":"IFERROR(Calculations!I77,\"\")","v":""},{"$f":"IFERROR(Calculations!J77,\"\")","v":""},{"$f":"IFERROR(Calculations!K77,\"\")","v":""}]
[null,{"$f":"IFERROR(Calculations!B78,\"\")","v":""},{"$f":"IFERROR(Calculations!C78,\"\")","v":""},{"$f":"IFERROR(Calculations!F78,\"\")","v":""},{"$f":"IFERROR(Calculations!G78,\"\")","v":""},{"$f":"IFERROR(Calculations!H78,\"\")","v":""},{"$f":"IFERROR(Calculations!I78,\"\")","v":""},{"$f":"IFERROR(Calculations!J78,\"\")","v":""},{"$f":"IFERROR(Calculations!K78,\"\")","v":""}]
[null,{"$f":"IFERROR(Calculations!B79,\"\")","v":""},{"$f":"IFERROR(Calculations!C79,\"\")","v":""},{"$f":"IFERROR(Calculations!F79,\"\")","v":""},{"$f":"IFERROR(Calculations!G79,\"\")","v":""},{"$f":"IFERROR(Calculations!H79,\"\")","v":""},{"$f":"IFERROR(Calculations!I79,\"\")","v":""},{"$f":"IFERROR(Calculations!J79,\"\")","v":""},{"$f":"IFERROR(Calculations!K79,\"\")","v":""}]
[null,{"$f":"IFERROR(Calculations!B80,\"\")","v":""},{"$f":"IFERROR(Calculations!C80,\"\")","v":""},{"$f":"IFERROR(Calculations!F80,\"\")","v":""},{"$f":"IFERROR(Calculations!G80,\"\")","v":""},{"$f":"IFERROR(Calculations!H80,\"\")","v":""},{"$f":"IFERROR(Calculations!I80,\"\")","v":""},{"$f":"IFERROR(Calculations!J80,\"\")","v":""},{"$f":"IFERROR(Calculations!K80,\"\")","v":""}]
[null,{"$f":"IFERROR(Calculations!B81,\"\")","v":""},{"$f":"IFERROR(Calculations!C81,\"\")","v":""},{"$f":"IFERROR(Calculations!F81,\"\")","v":""},{"$f":"IFERROR(Calculations!G81,\"\")","v":""},{"$f":"IFERROR(Calculations!H81,\"\")","v":""},{"$f":"IFERROR(Calculations!I81,\"\")","v":""},{"$f":"IFERROR(Calculations!J81,\"\")","v":""},{"$f":"IFERROR(Calculations!K81,\"\")","v":""}]
[null,{"$f":"IFERROR(Calculations!B82,\"\")","v":""},{"$f":"IFERROR(Calculations!C82,\"\")","v":""},{"$f":"IFERROR(Calculations!F82,\"\")","v":""},{"$f":"IFERROR(Calculations!G82,\"\")","v":""},{"$f":"IFERROR(Calculations!H82,\"\")","v":""},{"$f":"IFERROR(Calculations!I82,\"\")","v":""},{"$f":"IFERROR(Calculations!J82,\"\")","v":""},{"$f":"IFERROR(Calculations!K82,\"\")","v":""}]
[null,{"$f":"IFERROR(Calculations!B83,\"\")","v":""},{"$f":"IFERROR(Calculations!C83,\"\")","v":""},{"$f":"IFERROR(Calculations!F83,\"\")","v":""},{"$f":"IFERROR(Calculations!G83,\"\")","v":""},{"$f":"IFERROR(Calculations!H83,\"\")","v":""},{"$f":"IFERROR(Calculations!I83,\"\")","v":""},{"$f":"IFERROR(Calculations!J83,\"\")","v":""},{"$f":"IFERROR(Calculations!K83,\"\")","v":""}]
[null,{"$f":"IFERROR(Calculations!B84,\"\")","v":""},{"$f":"IFERROR(Calculations!C84,\"\")","v":""},{"$f":"IFERROR(Calculations!F84,\"\")","v":""},{"$f":"IFERROR(Calculations!G84,\"\")","v":""},{"$f":"IFERROR(Calculations!H84,\"\")","v":""},{"$f":"IFERROR(Calculations!I84,\"\")","v":""},{"$f":"IFERROR(Calculations!J84,\"\")","v":""},{"$f":"IFERROR(Calculations!K84,\"\")","v":""}]
[null,{"$f":"IFERROR(Calculations!B85,\"\")","v":""},{"$f":"IFERROR(Calculations!C85,\"\")","v":""},{"$f":"IFERROR(Calculations!F85,\"\")","v":""},{"$f":"IFERROR(Calculations!G85,\"\")","v":""},{"$f":"IFERROR(Calculations!H85,\"\")","v":""},{"$f":"IFERROR(Calculations!I85,\"\")","v":""},{"$f":"IFERROR(Calculations!J85,\"\")","v":""},{"$f":"IFERROR(Calculations!K85,\"\")","v":""}]
[null,{"$f":"IFERROR(Calculations!B86,\"\")","v":""},{"$f":"IFERROR(Calculations!C86,\"\")","v":""},{"$f":"IFERROR(Calculations!F86,\"\")","v":""},{"$f":"IFERROR(Calculations!G86,\"\")","v":""},{"$f":"IFERROR(Calculations!H86,\"\")","v":""},{"$f":"IFERROR(Calculations!I86,\"\")","v":""},{"$f":"IFERROR(Calculations!J86,\"\")","v":""},{"$f":"IFERROR(Calculations!K86,\"\")","v":""}]
[null,{"$f":"IFERROR(Calculations!B87,\"\")","v":""},{"$f":"IFERROR(Calculations!C87,\"\")","v":""},{"$f":"IFERROR(Calculations!F87,\"\")","v":""},{"$f":"IFERROR(Calculations!G87,\"\")","v":""},{"$f":"IFERROR(Calculations!H87,\"\")","v":""},{"$f":"IFERROR(Calculations!I87,\"\")","v":""},{"$f":"IFERROR(Calculations!J87,\"\")","v":""},{"$f":"IFERROR(Calculations!K87,\"\")","v":""}]
[null,{"$f":"IFERROR(Calculations!B88,\"\")","v":""},{"$f":"IFERROR(Calculations!C88,\"\")","v":""},{"$f":"IFERROR(Calculations!F88,\"\")","v":""},{"$f":"IFERROR(Calculations!G88,\"\")","v":""},{"$f":"IFERROR(Calculations!H88,\"\")","v":""},{"$f":"IFERROR(Calculations!I88,\"\")","v":""},{"$f":"IFERROR(Calculations!J88,\"\")","v":""},{"$f":"IFERROR(Calculations!K88,\"\")","v":""}]
[null,{"$f":"IFERROR(Calculations!B89,\"\")","v":""},{"$f":"IFERROR(Calculations!C89,\"\")","v":""},{"$f":"IFERROR(Calculations!F89,\"\")","v":""},{"$f":"IFERROR(Calculations!G89,\"\")","v":""},{"$f":"IFERROR(Calculations!H89,\"\")","v":""},{"$f":"IFERROR(Calculations!I89,\"\")","v":""},{"$f":"IFERROR(Calculations!J89,\"\")","v":""},{"$f":"IFERROR(Calculations!K89,\"\")","v":""}]
[null,{"$f":"IFERROR(Calculations!B90,\"\")","v":""},{"$f":"IFERROR(Calculations!C90,\"\")","v":""},{"$f":"IFERROR(Calculations!F90,\"\")","v":""},{"$f":"IFERROR(Calculations!G90,\"\")","v":""},{"$f":"IFERROR(Calculations!H90,\"\")","v":""},{"$f":"IFERROR(Calculations!I90,\"\")","v":""},{"$f":"IFERROR(Calculations!J90,\"\")","v":""},{"$f":"IFERROR(Calculations!K90,\"\")","v":""}]
[null,{"$f":"IFERROR(Calculations!B91,\"\")","v":""},{"$f":"IFERROR(Calculations!C91,\"\")","v":""},{"$f":"IFERROR(Calculations!F91,\"\")","v":""},{"$f":"IFERROR(Calculations!G91,\"\")","v":""},{"$f":"IFERROR(Calculations!H91,\"\")","v":""},{"$f":"IFERROR(Calculations!I91,\"\")","v":""},{"$f":"IFERROR(Calculations!J91,\"\")","v":""},{"$f":"IFERROR(Calculations!K91,\"\")","v":""}]
[null,{"$f":"IFERROR(Calculations!B92,\"\")","v":""},{"$f":"IFERROR(Calculations!C92,\"\")","v":""},{"$f":"IFERROR(Calculations!F92,\"\")","v":""},{"$f":"IFERROR(Calculations!G92,\"\")","v":""},{"$f":"IFERROR(Calculations!H92,\"\")","v":""},{"$f":"IFERROR(Calculations!I92,\"\")","v":""},{"$f":"IFERROR(Calculations!J92,\"\")","v":""},{"$f":"IFERROR(Calculations!K92,\"\")","v":""}]
[null,{"$f":"IFERROR(Calculations!B93,\"\")","v":""},{"$f":"IFERROR(Calculations!C93,\"\")","v":""},{"$f":"IFERROR(Calculations!F93,\"\")","v":""},{"$f":"IFERROR(Calculations!G93,\"\")","v":""},{"$f":"IFERROR(Calculations!H93,\"\")","v":""},{"$f":"IFERROR(Calculations!I93,\"\")","v":""},{"$f":"IFERROR(Calculations!J93,\"\")","v":""},{"$f":"IFERROR(Calculations!K93,\"\")","v":""}]
[null,{"$f":"IFERROR(Calculations!B94,\"\")","v":""},{"$f":"IFERROR(Calculations!C94,\"\")","v":""},{"$f":"IFERROR(Calculations!F94,\"\")","v":""},{"$f":"IFERROR(Calculations!G94,\"\")","v":""},{"$f":"IFERROR(Calculations!H94,\"\")","v":""},{"$f":"IFERROR(Calculations!I94,\"\")","v":""},{"$f":"IFERROR(Calculations!J94,\"\")","v":""},{"$f":"IFERROR(Calculations!K94,\"\")","v":""}]
[null,{"$f":"IFERROR(Calculations!B95,\"\")","v":""},{"$f":"IFERROR(Calculations!C95,\"\")","v":""},{"$f":"IFERROR(Calculations!F95,\"\")","v":""},{"$f":"IFERROR(Calculations!G95,\"\")","v":""},{"$f":"IFERROR(Calculations!H95,\"\")","v":""},{"$f":"IFERROR(Calculations!I95,\"\")","v":""},{"$f":"IFERROR(Calculations!J95,\"\")","v":""},{"$f":"IFERROR(Calculations!K95,\"\")","v":""}]
[null,{"$f":"IFERROR(Calculations!B96,\"\")","v":""},{"$f":"IFERROR(Calculations!C96,\"\")","v":""},{"$f":"IFERROR(Calculations!F96,\"\")","v":""},{"$f":"IFERROR(Calculations!G96,\"\")","v":""},{"$f":"IFERROR(Calculations!H96,\"\")","v":""},{"$f":"IFERROR(Calculations!I96,\"\")","v":""},{"$f":"IFERROR(Calculations!J96,\"\")","v":""},{"$f":"IFERROR(Calculations!K96,\"\")","v":""}]
[null,{"$f":"IFERROR(Calculations!B97,\"\")","v":""},{"$f":"IFERROR(Calculations!C97,\"\")","v":""},{"$f":"IFERROR(Calculations!F97,\"\")","v":""},{"$f":"IFERROR(Calculations!G97,\"\")","v":""},{"$f":"IFERROR(Calculations!H97,\"\")","v":""},{"$f":"IFERROR(Calculations!I97,\"\")","v":""},{"$f":"IFERROR(Calculations!J97,\"\")","v":""},{"$f":"IFERROR(Calculations!K97,\"\")","v":""}]
[null,{"$f":"IFERROR(Calculations!B98,\"\")","v":""},{"$f":"IFERROR(Calculations!C98,\"\")","v":""},{"$f":"IFERROR(Calculations!F98,\"\")","v":""},{"$f":"IFERROR(Calculations!G98,\"\")","v":""},{"$f":"IFERROR(Calculations!H98,\"\")","v":""},{"$f":"IFERROR(Calculations!I98,\"\")","v":""},{"$f":"IFERROR(Calculations!J98,\"\")","v":""},{"$f":"IFERROR(Calculations!K98,\"\")","v":""}]
[null,{"$f":"IFERROR(Calculations!B99,\"\")","v":""},{"$f":"IFERROR(Calculations!C99,\"\")","v":""},{"$f":"IFERROR(Calculations!F99,\"\")","v":""},{"$f":"IFERROR(Calculations!G99,\"\")","v":""},{"$f":"IFERROR(Calculations!H99,\"\")","v":""},{"$f":"IFERROR(Calculations!I99,\"\")","v":""},{"$f":"IFERROR(Calculations!J99,\"\")","v":""},{"$f":"IFERROR(Calculations!K99,\"\")","v":""}]
[null,{"$f":"IFERROR(Calculations!B100,\"\")","v":""},{"$f":"IFERROR(Calculations!C100,\"\")","v":""},{"$f":"IFERROR(Calculations!F100,\"\")","v":""},{"$f":"IFERROR(Calculations!G100,\"\")","v":""},{"$f":"IFERROR(Calculations!H100,\"\")","v":""},{"$f":"IFERROR(Calculations!I100,\"\")","v":""},{"$f":"IFERROR(Calculations!J100,\"\")","v":""},{"$f":"IFERROR(Calculations!K100,\"\")","v":""}]
[null,{"$f":"IFERROR(Calculations!B101,\"\")","v":""},{"$f":"IFERROR(Calculations!C101,\"\")","v":""},{"$f":"IFERROR(Calculations!F101,\"\")","v":""},{"$f":"IFERROR(Calculations!G101,\"\")","v":""},{"$f":"IFERROR(Calculations!H101,\"\")","v":""},{"$f":"IFERROR(Calculations!I101,\"\")","v":""},{"$f":"IFERROR(Calculations!J101,\"\")","v":""},{"$f":"IFERROR(Calculations!K101,\"\")","v":""}]
[null,{"$f":"IFERROR(Calculations!B102,\"\")","v":""},{"$f":"IFERROR(Calculations!C102,\"\")","v":""},{"$f":"IFERROR(Calculations!F102,\"\")","v":""},{"$f":"IFERROR(Calculations!G102,\"\")","v":""},{"$f":"IFERROR(Calculations!H102,\"\")","v":""},{"$f":"IFERROR(Calculations!I102,\"\")","v":""},{"$f":"IFERROR(Calculations!J102,\"\")","v":""},{"$f":"IFERROR(Calculations!K102,\"\")","v":""}]
[null,{"$f":"IFERROR(Calculations!B103,\"\")","v":""},{"$f":"IFERROR(Calculations!C103,\"\")","v":""},{"$f":"IFERROR(Calculations!F103,\"\")","v":""},{"$f":"IFERROR(Calculations!G103,\"\")","v":""},{"$f":"IFERROR(Calculations!H103,\"\")","v":""},{"$f":"IFERROR(Calculations!I103,\"\")","v":""},{"$f":"IFERROR(Calculations!J103,\"\")","v":""},{"$f":"IFERROR(Calculations!K103,\"\")","v":""}]
[null,{"$f":"IFERROR(Calculations!B104,\"\")","v":""},{"$f":"IFERROR(Calculations!C104,\"\")","v":""},{"$f":"IFERROR(Calculations!F104,\"\")","v":""},{"$f":"IFERROR(Calculations!G104,\"\")","v":""},{"$f":"IFERROR(Calculations!H104,\"\")","v":""},{"$f":"IFERROR(Calculations!I104,\"\")","v":""},{"$f":"IFERROR(Calculations!J104,\"\")","v":""},{"$f":"IFERROR(Calculations!K104,\"\")","v":""}]
[null,{"$f":"IFERROR(Calculations!B105,\"\")","v":""},{"$f":"IFERROR(Calculations!C105,\"\")","v":""},{"$f":"IFERROR(Calculations!F105,\"\")","v":""},{"$f":"IFERROR(Calculations!G105,\"\")","v":""},{"$f":"IFERROR(Calculations!H105,\"\")","v":""},{"$f":"IFERROR(Calculations!I105,\"\")","v":""},{"$f":"IFERROR(Calculations!J105,\"\")","v":""},{"$f":"IFERROR(Calculations!K105,\"\")","v":""}]
[null,{"$f":"IFERROR(Calculations!B106,\"\")","v":""},{"$f":"IFERROR(Calculations!C106,\"\")","v":""},{"$f":"IFERROR(Calculations!F106,\"\")","v":""},{"$f":"IFERROR(Calculations!G106,\"\")","v":""},{"$f":"IFERROR(Calculations!H106,\"\")","v":""},{"$f":"IFERROR(Calculations!I106,\"\")","v":""},{"$f":"IFERROR(Calculations!J106,\"\")","v":""},{"$f":"IFERROR(Calculations!K106,\"\")","v":""}]
[null,{"$f":"IFERROR(Calculations!B107,\"\")","v":""},{"$f":"IFERROR(Calculations!C107,\"\")","v":""},{"$f":"IFERROR(Calculations!F107,\"\")","v":""},{"$f":"IFERROR(Calculations!G107,\"\")","v":""},{"$f":"IFERROR(Calculations!H107,\"\")","v":""},{"$f":"IFERROR(Calculations!I107,\"\")","v":""},{"$f":"IFERROR(Calculations!J107,\"\")","v":""},{"$f":"IFERROR(Calculations!K107,\"\")","v":""}]
[null,{"$f":"IFERROR(Calculations!B108,\"\")","v":""},{"$f":"IFERROR(Calculations!C108,\"\")","v":""},{"$f":"IFERROR(Calculations!F108,\"\")","v":""},{"$f":"IFERROR(Calculations!G108,\"\")","v":""},{"$f":"IFERROR(Calculations!H108,\"\")","v":""},{"$f":"IFERROR(Calculations!I108,\"\")","v":""},{"$f":"IFERROR(Calculations!J108,\"\")","v":""},{"$f":"IFERROR(Calculations!K108,\"\")","v":""}]
[null,{"$f":"IFERROR(Calculations!B109,\"\")","v":""},{"$f":"IFERROR(Calculations!C109,\"\")","v":""},{"$f":"IFERROR(Calculations!F109,\"\")","v":""},{"$f":"IFERROR(Calculations!G109,\"\")","v":""},{"$f":"IFERROR(Calculations!H109,\"\")","v":""},{"$f":"IFERROR(Calculations!I109,\"\")","v":""},{"$f":"IFERROR(Calculations!J109,\"\")","v":""},{"$f":"IFERROR(Calculations!K109,\"\")","v":""}]
[null,{"$f":"IFERROR(Calculations!B110,\"\")","v":""},{"$f":"IFERROR(Calculations!C110,\"\")","v":""},{"$f":"IFERROR(Calculations!F110,\"\")","v":""},{"$f":"IFERROR(Calculations!G110,\"\")","v":""},{"$f":"IFERROR(Calculations!H110,\"\")","v":""},{"$f":"IFERROR(Calculations!I110,\"\")","v":""},{"$f":"IFERROR(Calculations!J110,\"\")","v":""},{"$f":"IFERROR(Calculations!K110,\"\")","v":""}]
[null,{"$f":"IFERROR(Calculations!B111,\"\")","v":""},{"$f":"IFERROR(Calculations!C111,\"\")","v":""},{"$f":"IFERROR(Calculations!F111,\"\")","v":""},{"$f":"IFERROR(Calculations!G111,\"\")","v":""},{"$f":"IFERROR(Calculations!H111,\"\")","v":""},{"$f":"IFERROR(Calculations!I111,\"\")","v":""},{"$f":"IFERROR(Calculations!J111,\"\")","v":""},{"$f":"IFERROR(Calculations!K111,\"\")","v":""}]
[null,{"$f":"IFERROR(Calculations!B112,\"\")","v":""},{"$f":"IFERROR(Calculations!C112,\"\")","v":""},{"$f":"IFERROR(Calculations!F112,\"\")","v":""},{"$f":"IFERROR(Calculations!G112,\"\")","v":""},{"$f":"IFERROR(Calculations!H112,\"\")","v":""},{"$f":"IFERROR(Calculations!I112,\"\")","v":""},{"$f":"IFERROR(Calculations!J112,\"\")","v":""},{"$f":"IFERROR(Calculations!K112,\"\")","v":""}]
[null,{"$f":"IFERROR(Calculations!B113,\"\")","v":""},{"$f":"IFERROR(Calculations!C113,\"\")","v":""},{"$f":"IFERROR(Calculations!F113,\"\")","v":""},{"$f":"IFERROR(Calculations!G113,\"\")","v":""},{"$f":"IFERROR(Calculations!H113,\"\")","v":""},{"$f":"IFERROR(Calculations!I113,\"\")","v":""},{"$f":"IFERROR(Calculations!J113,\"\")","v":""},{"$f":"IFERROR(Calculations!K113,\"\")","v":""}]
[null,{"$f":"IFERROR(Calculations!B114,\"\")","v":""},{"$f":"IFERROR(Calculations!C114,\"\")","v":""},{"$f":"IFERROR(Calculations!F114,\"\")","v":""},{"$f":"IFERROR(Calculations!G114,\"\")","v":""},{"$f":"IFERROR(Calculations!H114,\"\")","v":""},{"$f":"IFERROR(Calculations!I114,\"\")","v":""},{"$f":"IFERROR(Calculations!J114,\"\")","v":""},{"$f":"IFERROR(Calculations!K114,\"\")","v":""}]
[null,{"$f":"IFERROR(Calculations!B115,\"\")","v":""},{"$f":"IFERROR(Calculations!C115,\"\")","v":""},{"$f":"IFERROR(Calculations!F115,\"\")","v":""},{"$f":"IFERROR(Calculations!G115,\"\")","v":""},{"$f":"IFERROR(Calculations!H115,\"\")","v":""},{"$f":"IFERROR(Calculations!I115,\"\")","v":""},{"$f":"IFERROR(Calculations!J115,\"\")","v":""},{"$f":"IFERROR(Calculations!K115,\"\")","v":""}]
[null,{"$f":"IFERROR(Calculations!B116,\"\")","v":""},{"$f":"IFERROR(Calculations!C116,\"\")","v":""},{"$f":"IFERROR(Calculations!F116,\"\")","v":""},{"$f":"IFERROR(Calculations!G116,\"\")","v":""},{"$f":"IFERROR(Calculations!H116,\"\")","v":""},{"$f":"IFERROR(Calculations!I116,\"\")","v":""},{"$f":"IFERROR(Calculations!J116,\"\")","v":""},{"$f":"IFERROR(Calculations!K116,\"\")","v":""}]

{"sheet":"Calculations","index":1,"n_rows":116,"n_cols":34,"rows_kept":116,"cut":false,"hidden":true,"merged":[]}
[]
[null,"Calculations"]
[null,"This sheet should remain hidden. Any modifications may result in errors in the Retirement Planner."]
[{"$nulls":7},{"$f":"INDEX(B17:B116,MATCH(MIN(IF(ISNUMBER(SavingsBalance_RetiredPeriod),IF((SavingsBalance_RetiredPeriod>0),SavingsBalance_RetiredPeriod))),SavingsBalance_RetiredPeriod,0))","v":84},"Failure Template:",null,"Oops. This plan will only provide income to age [AGE]. You'll need to make some modifications."]
[{"$nulls":6},{"$f":"TEXT(INDEX(SavingsBalance_RetiredPeriod,PlanYears),\"$#,###\")","v":"$487,946"},{"$f":"YourCurrentAge+PlanYears-1","v":84},"Success Template:",null,"Congratulations! Your plan seems to work. At age [AGE], you will still have a savings balance of [BALANCE]."]
[]
[{"$nulls":7},{"$f":"INDEX($H$4:$H$5,(INDEX(SavingsBalance_RetiredPeriod,PlanYears)>0)+1)","v":84},"Failure Display:",null,{"$f":"REPT(SUBSTITUTE(SUBSTITUTE(K4,\"[AGE]\",$H$7),\"[BALANCE]\",$G$5),INDEX(SavingsBalance_RetiredPeriod,PlanYears)<0)","v":""}]
[{"$nulls":7},{"$f":"INDEX($H$4:$H$5,(INDEX(SavingsBalance_RetiredPeriod,PlanYears)>0)+1)","v":84},"Success Display:",null,{"$f":"REPT(SUBSTITUTE(SUBSTITUTE(K5,\"[AGE]\",$H$7),\"[BALANCE]\",$G$5),INDEX(SavingsBalance_RetiredPeriod,PlanYears)>=0)","v":"Congratulations! Your plan seems to work. At age 84, you will still have a savings balance of $487,946."}]
[{"$nulls":5},"Success:",{"$f":"INDEX(SavingsBalance_RetiredPeriod,PlanYears)>=0","v":true},null,"Success",null,"Failure"]
[{"$nulls":7},1,{"$f":"REPT(\"Congratulations!\",Success)","v":"Congratulations!"},null,{"$f":"REPT(\"OOPS!\",Success=FALSE)","v":""}]
[{"$nulls":7},2,{"$f":"REPT(\"At age\",Success)","v":"At age"},null,{"$f":"REPT(\"This plan will only provide income to age\",Success=FALSE)","v":""}]
[{"$nulls":7},3,{"$f":"REPT(YourCurrentAge+PlanYears-1 & \",\",Success)","v":"84,"},null,{"$f":"REPT(H4 & \".\",Success=FALSE)","v":""}]
[{"$nulls":7},4,{"$f":"REPT(\"you will have a savings balance of\",Success)","v":"you will have a savings balance of"},null,{"$f":"REPT(\"You'll need to make some adjustments.\",Success=FALSE)","v":""}]
[{"$nulls":7},5,{"$f":"REPT(TEXT(INDEX(SavingsBalance_RetiredPeriod,PlanYears),\"$#,###.\"),Success)","v":"$487,946."}]
[]
[null,"Age","Salary",null,null,"Balance","Interest","Yearly Savings","Desired Retirement Income","Pension Income","End Balance",null,null,"Balance","Interest","Yearly Savings","Desired Retirement Income","Pension Income","End Balance",null,null,"Balance","Interest","Yearly Savings","Desired Retirement Income","Pension Income","End Balance",null,null,"Saving","Retired",null,null,"Uncertainty"]
[null,{"$f":"Age","v":25},{"$f":"CurrentAnnualIncome","v":50000},null,null,{"$f":"CurrentRetirementSavingsBalance","v":5000},{"$f":"Interest","v":300},{"$f":"CurrentAnnualSavingsAmount","v":6000},{"$f":"DesiredRetirementIncome","v":0},{"$f":"PensionIncome","v":0},{"$f":"EndBalance","v":11300},null,null,{"$f":"CurrentRetirementSavingsBalance","v":5000},{"$f":"Interest_Under","v":249.99999999999997},{"$f":"CurrentAnnualSavingsAmount_Under","v":6000},{"$f":"DesiredRetirementIncome","v":0},{"$f":"PensionIncome_Under","v":0},{"$f":"EndBalance","v":11250},null,null,{"$f":"CurrentRetirementSavingsBalance","v":5000},{"$f":"Interest_Over","v":349.99999999999994},{"$f":"CurrentAnnualSavingsAmount_Over","v":6000},{"$f":"DesiredRetirementIncome","v":0},{"$f":"PensionIncome_Over","v":0},{"$f":"EndBalance","v":11350},null,null,{"$f":"IF(Calculations!B17<DesiredRetirementAge,K17,NA())","v":11300},{"$f":"IF(Calculations!B17>=(DesiredRetirementAge-1),K17,NA())","v":{"$error":"#N/A"}},null,null,{"$f":"AA17-S17","v":100}]
[null,{"$f":"Age","v":26},{"$f":"Salary","v":51000},null,null,{"$f":"Balance","v":11300},{"$f":"Interest","v":678},{"$f":"YearlySavings","v":6120},{"$f":"DesiredRetirementIncome","v":0},{"$f":"PensionIncome","v":0},{"$f":"EndBalance","v":18098},null,null,{"$f":"Balance_Under","v":11250},{"$f":"Interest_Under","v":562.5},{"$f":"YearlySavings_Under","v":6120},{"$f":"DesiredRetirementIncome","v":0},{"$f":"PensionIncome_Under","v":0},{"$f":"EndBalance","v":17932.5},null,null,{"$f":"Balance_Over","v":11350},{"$f":"Interest_Over","v":794.49999999999989},{"$f":"YearlySavings_Over","v":6120},{"$f":"DesiredRetirementIncome","v":0},{"$f":"PensionIncome_Over","v":0},{"$f":"EndBalance","v":18264.5},null,null,{"$f":"IF(Calculations!B18<DesiredRetirementAge,K18,NA())","v":18098},{"$f":"IF(Calculations!B18>=(DesiredRetirementAge-1),K18,NA())","v":{"$error":"#N/A"}},null,null,{"$f":"AA18-S18","v":332}]
[null,{"$f":"Age","v":27},{"$f":"Salary","v":52020},null,null,{"$f":"Balance","v":18098},{"$f":"Interest","v":1085.8799999999999},{"$f":"YearlySavings","v":6242.4},{"$f":"DesiredRetirementIncome","v":0},{"$f":"PensionIncome","v":0},{"$f":"EndBalance","v":25426.28},null,null,{"$f":"Balance_Under","v":17932.5},{"$f":"Interest_Under","v":896.62499999999989},{"$f":"YearlySavings_Under","v":6242.4},{"$f":"DesiredRetirementIncome","v":0},{"$f":"PensionIncome_Under","v":0},{"$f":"EndBalance","v":25071.525000000001},null,null,{"$f":"Balance_Over","v":18264.5},{"$f":"Interest_Over","v":1278.5149999999999},{"$f":"YearlySavings_Over","v":6242.4},{"$f":"DesiredRetirementIncome","v":0},{"$f":"PensionIncome_Over","v":0},{"$f":"EndBalance","v":25785.415000000001},null,null,{"$f":"IF(Calculations!B19<DesiredRetirementAge,K19,NA())","v":25426.28},{"$f":"IF(Calculations!B19>=(DesiredRetirementAge-1),K19,NA())","v":{"$error":"#N/A"}},null,null,713.88999999999942]
[null,{"$f":"Age","v":28},{"$f":"Salary","v":53060.4},null,null,{"$f":"Balance","v":25426.28},{"$f":"Interest","v":1525.5767999999998},{"$f":"YearlySavings","v":6367.2479999999996},{"$f":"DesiredRetirementIncome","v":0},{"$f":"PensionIncome","v":0},{"$f":"EndBalance","v":33319.104800000001},null,null,{"$f":"Balance_Under","v":25071.525000000001},{"$f":"Interest_Under","v":1253.5762500000001},{"$f":"YearlySavings_Under","v":6367.2479999999996},{"$f":"DesiredRetirementIncome","v":0},{"$f":"PensionIncome_Under","v":0},{"$f":"EndBalance","v":32692.349249999999},null,null,{"$f":"Balance_Over","v":25785.415000000001},{"$f":"Interest_Over","v":1804.9790499999999},{"$f":"YearlySavings_Over","v":6367.2479999999996},{"$f":"DesiredRetirementIncome","v":0},{"$f":"PensionIncome_Over","v":0},{"$f":"EndBalance","v":33957.642050000002},null,null,{"$f":"IF(Calculations!B20<DesiredRetirementAge,K20,NA())","v":33319.104800000001},{"$f":"IF(Calculations!B20>=(DesiredRetirementAge-1),K20,NA())","v":{"$error":"#N/A"}},null,null,1265.2928000000029]
[null,{"$f":"Age","v":29},{"$f":"Salary","v":54121.608},null,null,{"$f":"Balance","v":33319.104800000001},{"$f":"Interest","v":1999.1462879999999},{"$f":"YearlySavings","v":6494.5929599999999},{"$f":"DesiredRetirementIncome","v":0},{"$f":"PensionIncome","v":0},{"$f":"EndBalance","v":41812.844048000006},null,null,{"$f":"Balance_Under","v":32692.349249999999},{"$f":"Interest_Under","v":1634.6174624999999},{"$f":"YearlySavings_Under","v":6494.5929599999999},{"$f":"DesiredRetirementIncome","v":0},{"$f":"PensionIncome_Under","v":0},{"$f":"EndBalance","v":40821.5596725},null,null,{"$f":"Balance_Over","v":33957.642050000002},{"$f":"Interest_Over","v":2377.0349434999998},{"$f":"YearlySavings_Over","v":6494.5929599999999},{"$f":"DesiredRetirementIncome","v":0},{"$f":"PensionIncome_Over","v":0},{"$f":"EndBalance","v":42829.269953500007},null,null,{"$f":"IF(Calculations!B21<DesiredRetirementAge,K21,NA())","v":41812.844048000006},{"$f":"IF(Calculations!B21>=(DesiredRetirementAge-1),K21,NA())","v":{"$error":"#N/A"}},null,null,2007.7102810000069]
[null,{"$f":"Age","v":30},{"$f":"Salary","v":55204.040159999997},null,null,{"$f":"Balance","v":41812.844048000006},{"$f":"Interest","v":2508.7706428800002},{"$f":"YearlySavings","v":6624.4848191999999},{"$f":"DesiredRetirementIncome","v":0},{"$f":"PensionIncome","v":0},{"$f":"EndBalance","v":50946.099510080006},null,null,{"$f":"Balance_Under","v":40821.5596725},{"$f":"Interest_Under","v":2041.0779836249999},{"$f":"YearlySavings_Under","v":6624.4848191999999},{"$f":"DesiredRetirementIncome","v":0},{"$f":"PensionIncome_Under","v":0},{"$f":"EndBalance","v":49487.122475324999},null,null,{"$f":"Balance_Over","v":42829.269953500007},{"$f":"Interest_Over","v":2998.0488967450001},{"$f":"YearlySavings_Over","v":6624.4848191999999},{"$f":"DesiredRetirementIncome","v":0},{"$f":"PensionIncome_Over","v":0},{"$f":"EndBalance","v":52451.803669445006},null,null,{"$f":"IF(Calculations!B22<DesiredRetirementAge,K22,NA())","v":50946.099510080006},{"$f":"IF(Calculations!B22>=(DesiredRetirementAge-1),K22,NA())","v":{"$error":"#N/A"}},null,null,2964.6811941200067]
[null,{"$f":"Age","v":31},{"$f":"Salary","v":56308.120963199995},null,null,{"$f":"Balance","v":50946.099510080006},{"$f":"Interest","v":3056.7659706048003},{"$f":"YearlySavings","v":6756.9745155840001},{"$f":"DesiredRetirementIncome","v":0},{"$f":"PensionIncome","v":0},{"$f":"EndBalance","v":60759.839996268805},null,null,{"$f":"Balance_Under","v":49487.122475324999},{"$f":"Interest_Under","v":2474.3561237662498},{"$f":"YearlySavings_Under","v":6756.9745155840001},{"$f":"DesiredRetirementIncome","v":0},{"$f":"PensionIncome_Under","v":0},{"$f":"EndBalance","v":58718.453114675249},null,null,{"$f":"Balance_Over","v":52451.803669445006},{"$f":"Interest_Over","v":3671.6262568611501},{"$f":"YearlySavings_Over","v":6756.9745155840001},{"$f":"DesiredRetirementIncome","v":0},{"$f":"PensionIncome_Over","v":0},{"$f":"EndBalance","v":62880.404441890154},null,null,{"$f":"IF(Calculations!B23<DesiredRetirementAge,K23,NA())","v":60759.839996268805},{"$f":"IF(Calculations!B23>=(DesiredRetirementAge-1),K23,NA())","v":{"$error":"#N/A"}},null,null,4161.9513272149052]
[null,{"$f":"Age","v":32},{"$f":"Salary","v":57434.283382463997},null,null,{"$f":"Balance","v":60759.839996268805},{"$f":"Interest","v":3645.5903997761284},{"$f":"YearlySavings","v":6892.1140058956798},{"$f":"DesiredRetirementIncome","v":0},{"$f":"PensionIncome","v":0},{"$f":"EndBalance","v":71297.544401940613},null,null,{"$f":"Balance_Under","v":58718.453114675249},{"$f":"Interest_Under","v":2935.922655733762},{"$f":"YearlySavings_Under","v":6892.1140058956798},{"$f":"DesiredRetirementIncome","v":0},{"$f":"PensionIncome_Under","v":0},{"$f":"EndBalance","v":68546.48977630469},null,null,{"$f":"Balance_Over","v":62880.404441890154},{"$f":"Interest_Over","v":4401.6283109323103},{"$f":"YearlySavings_Over","v":6892.1140058956798},{"$f":"DesiredRetirementIncome","v":0},{"$f":"PensionIncome_Over","v":0},{"$f":"EndBalance","v":74174.14675871814},null,null,{"$f":"IF(Calculations!B24<DesiredRetirementAge,K24,NA())","v":71297.544401940613},{"$f":"IF(Calculations!B24>=(DesiredRetirementAge-1),K24,NA())","v":{"$error":"#N/A"}},null,null,5627.6569824134494]
[null,{"$f":"Age","v":33},{"$f":"Salary","v":58582.969050113279},null,null,{"$f":"Balance","v":71297.544401940613},{"$f":"Interest","v":4277.8526641164362},{"$f":"YearlySavings","v":7029.9562860135939},{"$f":"DesiredRetirementIncome","v":0},{"$f":"PensionIncome","v":0},{"$f":"EndBalance","v":82605.353352070641},null,null,{"$f":"Balance_Under","v":68546.48977630469},{"$f":"Interest_Under","v":3427.3244888152344},{"$f":"YearlySavings_Under","v":7029.9562860135939},{"$f":"DesiredRetirementIncome","v":0},{"$f":"PensionIncome_Under","v":0},{"$f":"EndBalance","v":79003.770551133523},null,null,{"$f":"Balance_Over","v":74174.14675871814},{"$f":"Interest_Over","v":5192.1902731102691},{"$f":"YearlySavings_Over","v":7029.9562860135939},{"$f":"DesiredRetirementIncome","v":0},{"$f":"PensionIncome_Over","v":0},{"$f":"EndBalance","v":86396.293317842006},null,null,{"$f":"IF(Calculations!B25<DesiredRetirementAge,K25,NA())","v":82605.353352070641},{"$f":"IF(Calculations!B25>=(DesiredRetirementAge-1),K25,NA())","v":{"$error":"#N/A"}},null,null,7392.5227667084837]
[null,{"$f":"Age","v":34},{"$f":"Salary","v":59754.628431115547},null,null,{"$f":"Balance","v":82605.353352070641},{"$f":"Interest","v":4956.3212011242385},{"$f":"YearlySavings","v":7170.5554117338661},{"$f":"DesiredRetirementIncome","v":0},{"$f":"PensionIncome","v":0},{"$f":"EndBalance","v":94732.229964928745},null,null,{"$f":"Balance_Under","v":79003.770551133523},{"$f":"Interest_Under","v":3950.1885275566756},{"$f":"YearlySavings_Under","v":7170.5554117338661},{"$f":"DesiredRetirementIncome","v":0},{"$f":"PensionIncome_Under","v":0},{"$f":"EndBalance","v":90124.514490424059},null,null,{"$f":"Balance_Over","v":86396.293317842006},{"$f":"Interest_Over","v":6047.7405322489394},{"$f":"YearlySavings_Over","v":7170.5554117338661},{"$f":"DesiredRetirementIncome","v":0},{"$f":"PensionIncome_Over","v":0},{"$f":"EndBalance","v":99614.589261824804},null,null,{"$f":"IF(Calculations!B26<DesiredRetirementAge,K26,NA())","v":94732.229964928745},{"$f":"IF(Calculations!B26>=(DesiredRetirementAge-1),K26,NA())","v":{"$error":"#N/A"}},null,null,9490.0747714007448]
[null,{"$f":"Age","v":35},{"$f":"Salary","v":60949.72099973786},null,null,{"$f":"Balance","v":94732.229964928745},{"$f":"Interest","v":5683.9337978957246},{"$f":"YearlySavings","v":7313.9665199685433},{"$f":"DesiredRetirementIncome","v":0},{"$f":"PensionIncome","v":0},{"$f":"EndBalance","v":107730.130282793},null,null,{"$f":"Balance_Under","v":90124.514490424059},{"$f":"Interest_Under","v":4506.2257245212022},{"$f":"YearlySavings_Under","v":7313.9665199685433},{"$f":"DesiredRetirementIncome","v":0},{"$f":"PensionIncome_Under","v":0},{"$f":"EndBalance","v":101944.70673491379},null,null,{"$f":"Balance_Over","v":99614.589261824804},{"$f":"Interest_Over","v":6973.0212483277355},{"$f":"YearlySavings_Over","v":7313.9665199685433},{"$f":"DesiredRetirementIncome","v":0},{"$f":"PensionIncome_Over","v":0},{"$f":"EndBalance","v":113901.57703012107},null,null,{"$f":"IF(Calculations!B27<DesiredRetirementAge,K27,NA())","v":107730.130282793},{"$f":"IF(Calculations!B27>=(DesiredRetirementAge-1),K27,NA())","v":{"$error":"#N/A"}},null,null,11956.870295207278]
[null,{"$f":"Age","v":36},{"$f":"Salary","v":62168.715419732616},null,null,{"$f":"Balance","v":107730.130282793},{"$f":"Interest","v":6463.80781696758},{"$f":"YearlySavings","v":7460.2458503679145},{"$f":"DesiredRetirementIncome","v":0},{"$f":"PensionIncome","v":0},{"$f":"EndBalance","v":121654.1839501285},null,null,{"$f":"Balance_Under","v":101944.70673491379},{"$f":"Interest_Under","v":5097.235336745689},{"$f":"YearlySavings_Under","v":7460.2458503679145},{"$f":"DesiredRetirementIncome","v":0},{"$f":"PensionIncome_Under","v":0},{"$f":"EndBalance","v":114502.1879220274},null,null,{"$f":"Balance_Over","v":113901.57703012107},{"$f":"Interest_Over","v":7973.1103921084741},{"$f":"YearlySavings_Over","v":7460.2458503679145},{"$f":"DesiredRetirementIncome","v":0},{"$f":"PensionIncome_Over","v":0},{"$f":"EndBalance","v":129334.93327259745},null,null,{"$f":"IF(Calculations!B28<DesiredRetirementAge,K28,NA())","v":121654.1839501285},{"$f":"IF(Calculations!B28>=(DesiredRetirementAge-1),K28,NA())","v":{"$error":"#N/A"}},null,null,14832.745350570054]
[null,{"$f":"Age","v":37},{"$f":"Salary","v":63412.08972812727},null,null,{"$f":"Balance","v":121654.1839501285},{"$f":"Interest","v":7299.2510370077098},{"$f":"YearlySavings","v":7609.4507673752723},{"$f":"DesiredRetirementIncome","v":0},{"$f":"PensionIncome","v":0},{"$f":"EndBalance","v":136562.88575451149},null,null,{"$f":"Balance_Under","v":114502.1879220274},{"$f":"Interest_Under","v":5725.1093961013694},{"$f":"YearlySavings_Under","v":7609.4507673752723},{"$f":"DesiredRetirementIncome","v":0},{"$f":"PensionIncome_Under","v":0},{"$f":"EndBalance","v":127836.74808550403},null,null,{"$f":"Balance_Over","v":129334.93327259745},{"$f":"Interest_Over","v":9053.4453290818201},{"$f":"YearlySavings_Over","v":7609.4507673752723},{"$f":"DesiredRetirementIncome","v":0},{"$f":"PensionIncome_Over","v":0},{"$f":"EndBalance","v":145997.82936905455},null,null,{"$f":"IF(Calculations!B29<DesiredRetirementAge,K29,NA())","v":136562.88575451149},{"$f":"IF(Calculations!B29>=(DesiredRetirementAge-1),K29,NA())","v":{"$error":"#N/A"}},null,null,18161.08128355052]
[null,{"$f":"Age","v":38},{"$f":"Salary","v":64680.331522689812},null,null,{"$f":"Balance","v":136562.88575451149},{"$f":"Interest","v":8193.7731452706885},{"$f":"YearlySavings","v":7761.6397827227775},{"$f":"DesiredRetirementIncome","v":0},{"$f":"PensionIncome","v":0},{"$f":"EndBalance","v":152518.29868250494},null,null,{"$f":"Balance_Under","v":127836.74808550403},{"$f":"Interest_Under","v":6391.8374042752012},{"$f":"YearlySavings_Under","v":7761.6397827227775},{"$f":"DesiredRetirementIncome","v":0},{"$f":"PensionIncome_Under","v":0},{"$f":"EndBalance","v":141990.22527250202},null,null,{"$f":"Balance_Over","v":145997.82936905455},{"$f":"Interest_Over","v":10219.848055833818},{"$f":"YearlySavings_Over","v":7761.6397827227775},{"$f":"DesiredRetirementIncome","v":0},{"$f":"PensionIncome_Over","v":0},{"$f":"EndBalance","v":163979.31720761114},null,null,{"$f":"IF(Calculations!B30<DesiredRetirementAge,K30,NA())","v":152518.29868250494},{"$f":"IF(Calculations!B30>=(DesiredRetirementAge-1),K30,NA())","v":{"$error":"#N/A"}},null,null,21989.091935109114]
[null,{"$f":"Age","v":39},{"$f":"Salary","v":65973.938153143608},null,null,{"$f":"Balance","v":152518.29868250494},{"$f":"Interest","v":9151.0979209502966},{"$f":"YearlySavings","v":7916.8725783772334},{"$f":"DesiredRetirementIncome","v":0},{"$f":"PensionIncome","v":0},{"$f":"EndBalance","v":169586.26918183247},null,null,{"$f":"Balance_Under","v":141990.22527250202},{"$f":"Interest_Under","v":7099.5112636251006},{"$f":"YearlySavings_Under","v":7916.8725783772334},{"$f":"DesiredRetirementIncome","v":0},{"$f":"PensionIncome_Under","v":0},{"$f":"EndBalance","v":157006.60911450436},null,null,{"$f":"Balance_Over","v":163979.31720761114},{"$f":"Interest_Over","v":11478.552204532778},{"$f":"YearlySavings_Over","v":7916.8725783772334},{"$f":"DesiredRetirementIncome","v":0},{"$f":"PensionIncome_Over","v":0},{"$f":"EndBalance","v":183374.74199052114},null,null,{"$f":"IF(Calculations!B31<DesiredRetirementAge,K31,NA())","v":169586.26918183247},{"$f":"IF(Calculations!B31>=(DesiredRetirementAge-1),K31,NA())","v":{"$error":"#N/A"}},null,null,26368.132876016782]
[null,{"$f":"Age","v":40},{"$f":"Salary","v":67293.416916206479},null,null,{"$f":"Balance","v":169586.26918183247},{"$f":"Interest","v":10175.176150909947},{"$f":"YearlySavings","v":8075.2100299447784},{"$f":"DesiredRetirementIncome","v":0},{"$f":"PensionIncome","v":0},{"$f":"EndBalance","v":187836.65536268719},null,null,{"$f":"Balance_Under","v":157006.60911450436},{"$f":"Interest_Under","v":7850.3304557252177},{"$f":"YearlySavings_Under","v":8075.2100299447784},{"$f":"DesiredRetirementIncome","v":0},{"$f":"PensionIncome_Under","v":0},{"$f":"EndBalance","v":172932.14960017437},null,null,{"$f":"Balance_Over","v":183374.74199052114},{"$f":"Interest_Over","v":12836.231939336478},{"$f":"YearlySavings_Over","v":8075.2100299447784},{"$f":"DesiredRetirementIncome","v":0},{"$f":"PensionIncome_Over","v":0},{"$f":"EndBalance","v":204286.18395980241},null,null,{"$f":"IF(Calculations!B32<DesiredRetirementAge,K32,NA())","v":187836.65536268719},{"$f":"IF(Calculations!B32>=(DesiredRetirementAge-1),K32,NA())","v":{"$error":"#N/A"}},null,null,31354.034359628044]
[null,{"$f":"Age","v":41},{"$f":"Salary","v":68639.285254530609},null,null,{"$f":"Balance","v":187836.65536268719},{"$f":"Interest","v":11270.199321761231},{"$f":"YearlySavings","v":8236.7142305436737},{"$f":"DesiredRetirementIncome","v":0},{"$f":"PensionIncome","v":0},{"$f":"EndBalance","v":207343.56891499209},null,null,{"$f":"Balance_Under","v":172932.14960017437},{"$f":"Interest_Under","v":8646.6074800087172},{"$f":"YearlySavings_Under","v":8236.7142305436737},{"$f":"DesiredRetirementIncome","v":0},{"$f":"PensionIncome_Under","v":0},{"$f":"EndBalance","v":189815.47131072675},null,null,{"$f":"Balance_Over","v":204286.18395980241},{"$f":"Interest_Over","v":14300.032877186168},{"$f":"YearlySavings_Over","v":8236.7142305436737},{"$f":"DesiredRetirementIncome","v":0},{"$f":"PensionIncome_Over","v":0},{"$f":"EndBalance","v":226822.93106753225},null,null,{"$f":"IF(Calculations!B33<DesiredRetirementAge,K33,NA())","v":207343.56891499209},{"$f":"IF(Calculations!B33>=(DesiredRetirementAge-1),K33,NA())","v":{"$error":"#N/A"}},null,null,37007.459756805503]
[null,{"$f":"Age","v":42},{"$f":"Salary","v":70012.070959621225},null,null,{"$f":"Balance","v":207343.56891499209},{"$f":"Interest","v":12440.614134899526},{"$f":"YearlySavings","v":8401.4485151545468},{"$f":"DesiredRetirementIncome","v":0},{"$f":"PensionIncome","v":0},{"$f":"EndBalance","v":228185.63156504615},null,null,{"$f":"Balance_Under","v":189815.47131072675},{"$f":"Interest_Under","v":9490.7735655363358},{"$f":"YearlySavings_Under","v":8401.4485151545468},{"$f":"DesiredRetirementIncome","v":0},{"$f":"PensionIncome_Under","v":0},{"$f":"EndBalance","v":207707.69339141762},null,null,{"$f":"Balance_Over","v":226822.93106753225},{"$f":"Interest_Over","v":15877.605174727256},{"$f":"YearlySavings_Over","v":8401.4485151545468},{"$f":"DesiredRetirementIncome","v":0},{"$f":"PensionIncome_Over","v":0},{"$f":"EndBalance","v":251101.98475741403},null,null,{"$f":"IF(Calculations!B34<DesiredRetirementAge,K34,NA())","v":228185.63156504615},{"$f":"IF(Calculations!B34>=(DesiredRetirementAge-1),K34,NA())","v":{"$error":"#N/A"}},null,null,43394.291365996411]
[null,{"$f":"Age","v":43},{"$f":"Salary","v":71412.312378813644},null,null,{"$f":"Balance","v":228185.63156504615},{"$f":"Interest","v":13691.137893902769},{"$f":"YearlySavings","v":8569.4774854576372},{"$f":"DesiredRetirementIncome","v":0},{"$f":"PensionIncome","v":0},{"$f":"EndBalance","v":250446.24694440656},null,null,{"$f":"Balance_Under","v":207707.69339141762},{"$f":"Interest_Under","v":10385.38466957088},{"$f":"YearlySavings_Under","v":8569.4774854576372},{"$f":"DesiredRetirementIncome","v":0},{"$f":"PensionIncome_Under","v":0},{"$f":"EndBalance","v":226662.55554644615},null,null,{"$f":"Balance_Over","v":251101.98475741403},{"$f":"Interest_Over","v":17577.138933018981},{"$f":"YearlySavings_Over","v":8569.4774854576372},{"$f":"DesiredRetirementIncome","v":0},{"$f":"PensionIncome_Over","v":0},{"$f":"EndBalance","v":277248.6011758906},null,null,{"$f":"IF(Calculations!B35<DesiredRetirementAge,K35,NA())","v":250446.24694440656},{"$f":"IF(Calculations!B35>=(DesiredRetirementAge-1),K35,NA())","v":{"$error":"#N/A"}},null,null,50586.045629444445]
[null,{"$f":"Age","v":44},{"$f":"Salary","v":72840.558626389917},null,null,{"$f":"Balance","v":250446.24694440656},{"$f":"Interest","v":15026.774816664394},{"$f":"YearlySavings","v":8740.8670351667897},{"$f":"DesiredRetirementIncome","v":0},{"$f":"PensionIncome","v":0},{"$f":"EndBalance","v":274213.8887962377},null,null,{"$f":"Balance_Under","v":226662.55554644615},{"$f":"Interest_Under","v":11333.127777322306},{"$f":"YearlySavings_Under","v":8740.8670351667897},{"$f":"DesiredRetirementIncome","v":0},{"$f":"PensionIncome_Under","v":0},{"$f":"EndBalance","v":246736.55035893526},null,null,{"$f":"Balance_Over","v":277248.6011758906},{"$f":"Interest_Over","v":19407.402082312339},{"$f":"YearlySavings_Over","v":8740.8670351667897},{"$f":"DesiredRetirementIncome","v":0},{"$f":"PensionIncome_Over","v":0},{"$f":"EndBalance","v":305396.87029336969},null,null,{"$f":"IF(Calculations!B36<DesiredRetirementAge,K36,NA())","v":274213.8887962377},{"$f":"IF(Calculations!B36>=(DesiredRetirementAge-1),K36,NA())","v":{"$error":"#N/A"}},null,null,58660.319934434432]
[null,{"$f":"Age","v":45},{"$f":"Salary","v":74297.369798917716},null,null,{"$f":"Balance","v":274213.8887962377},{"$f":"Interest","v":16452.83332777426},{"$f":"YearlySavings","v":8915.6843758701252},{"$f":"DesiredRetirementIncome","v":0},{"$f":"PensionIncome","v":0},{"$f":"EndBalance","v":299582.40649988205},null,null,{"$f":"Balance_Under","v":246736.55035893526},{"$f":"Interest_Under","v":12336.827517946762},{"$f":"YearlySavings_Under","v":8915.6843758701252},{"$f":"DesiredRetirementIncome","v":0},{"$f":"PensionIncome_Under","v":0},{"$f":"EndBalance","v":267989.06225275213},null,null,{"$f":"Balance_Over","v":305396.87029336969},{"$f":"Interest_Over","v":21377.780920535875},{"$f":"YearlySavings_Over","v":8915.6843758701252},{"$f":"DesiredRetirementIncome","v":0},{"$f":"PensionIncome_Over","v":0},{"$f":"EndBalance","v":335690.33558977564},null,null,{"$f":"IF(Calculations!B37<DesiredRetirementAge,K37,NA())","v":299582.40649988205},{"$f":"IF(Calculations!B37>=(DesiredRetirementAge-1),K37,NA())","v":{"$error":"#N/A"}},null,null,67701.273337023507]
[null,{"$f":"Age","v":46},{"$f":"Salary","v":75783.317194896066},null,null,{"$f":"Balance","v":299582.40649988205},{"$f":"Interest","v":17974.944389992921},{"$f":"YearlySavings","v":9093.9980633875275},{"$f":"DesiredRetirementIncome","v":0},{"$f":"PensionIncome","v":0},{"$f":"EndBalance","v":326651.3489532625},null,null,{"$f":"Balance_Under","v":267989.06225275213},{"$f":"Interest_Under","v":13399.453112637606},{"$f":"YearlySavings_Under","v":9093.9980633875275},{"$f":"DesiredRetirementIncome","v":0},{"$f":"PensionIncome_Under","v":0},{"$f":"EndBalance","v":290482.51342877728},null,null,{"$f":"Balance_Over","v":335690.33558977564},{"$f":"Interest_Over","v":23498.323491284293},{"$f":"YearlySavings_Over","v":9093.9980633875275},{"$f":"DesiredRetirementIncome","v":0},{"$f":"PensionIncome_Over","v":0},{"$f":"EndBalance","v":368282.65714444744},null,null,{"$f":"IF(Calculations!B38<DesiredRetirementAge,K38,NA())","v":326651.3489532625},{"$f":"IF(Calculations!B38>=(DesiredRetirementAge-1),K38,NA())","v":{"$error":"#N/A"}},null,null,77800.143715670158]
[null,{"$f":"Age","v":47},{"$f":"Salary","v":77298.983538793982},null,null,{"$f":"Balance","v":326651.3489532625},{"$f":"Interest","v":19599.080937195748},{"$f":"YearlySavings","v":9275.8780246552778},{"$f":"DesiredRetirementIncome","v":0},{"$f":"PensionIncome","v":0},{"$f":"EndBalance","v":355526.30791511352},null,null,{"$f":"Balance_Under","v":290482.51342877728},{"$f":"Interest_Under","v":14524.125671438864},{"$f":"YearlySavings_Under","v":9275.8780246552778},{"$f":"DesiredRetirementIncome","v":0},{"$f":"PensionIncome_Under","v":0},{"$f":"EndBalance","v":314282.51712487143},null,null,{"$f":"Balance_Over","v":368282.65714444744},{"$f":"Interest_Over","v":25779.786000111319},{"$f":"YearlySavings_Over","v":9275.8780246552778},{"$f":"DesiredRetirementIncome","v":0},{"$f":"PensionIncome_Over","v":0},{"$f":"EndBalance","v":403338.32116921403},null,null,{"$f":"IF(Calculations!B39<DesiredRetirementAge,K39,NA())","v":355526.30791511352},{"$f":"IF(Calculations!B39>=(DesiredRetirementAge-1),K39,NA())","v":{"$error":"#N/A"}},null,null,89055.8040443426]
[null,{"$f":"Age","v":48},{"$f":"Salary","v":78844.963209569862},null,null,{"$f":"Balance","v":355526.30791511352},{"$f":"Interest","v":21331.578474906812},{"$f":"YearlySavings","v":9461.3955851483843},{"$f":"DesiredRetirementIncome","v":0},{"$f":"PensionIncome","v":0},{"$f":"EndBalance","v":386319.28197516868},null,null,{"$f":"Balance_Under","v":314282.51712487143},{"$f":"Interest_Under","v":15714.125856243571},{"$f":"YearlySavings_Under","v":9461.3955851483843},{"$f":"DesiredRetirementIncome","v":0},{"$f":"PensionIncome_Under","v":0},{"$f":"EndBalance","v":339458.03856626339},null,null,{"$f":"Balance_Over","v":403338.32116921403},{"$f":"Interest_Over","v":28233.682481844979},{"$f":"YearlySavings_Over","v":9461.3955851483843},{"$f":"DesiredRetirementIncome","v":0},{"$f":"PensionIncome_Over","v":0},{"$f":"EndBalance","v":441033.39923620736},null,null,{"$f":"IF(Calculations!B40<DesiredRetirementAge,K40,NA())","v":386319.28197516868},{"$f":"IF(Calculations!B40>=(DesiredRetirementAge-1),K40,NA())","v":{"$error":"#N/A"}},null,null,101575.36066994397]
[null,{"$f":"Age","v":49},{"$f":"Salary","v":80421.862473761255},null,null,{"$f":"Balance","v":386319.28197516868},{"$f":"Interest","v":23179.156918510118},{"$f":"YearlySavings","v":9650.6234968513527},{"$f":"DesiredRetirementIncome","v":0},{"$f":"PensionIncome","v":0},{"$f":"EndBalance","v":419149.06239053013},null,null,{"$f":"Balance_Under","v":339458.03856626339},{"$f":"Interest_Under","v":16972.901928313167},{"$f":"YearlySavings_Under","v":9650.6234968513527},{"$f":"DesiredRetirementIncome","v":0},{"$f":"PensionIncome_Under","v":0},{"$f":"EndBalance","v":366081.56399142795},null,null,{"$f":"Balance_Over","v":441033.39923620736},{"$f":"Interest_Over","v":30872.337946534513},{"$f":"YearlySavings_Over","v":9650.6234968513527},{"$f":"DesiredRetirementIncome","v":0},{"$f":"PensionIncome_Over","v":0},{"$f":"EndBalance","v":481556.36067959323},null,null,{"$f":"IF(Calculations!B41<DesiredRetirementAge,K41,NA())","v":419149.06239053013},{"$f":"IF(Calculations!B41>=(DesiredRetirementAge-1),K41,NA())","v":{"$error":"#N/A"}},null,null,115474.79668816528]
[null,{"$f":"Age","v":50},{"$f":"Salary","v":82030.299723236487},null,null,{"$f":"Balance","v":419149.06239053013},{"$f":"Interest","v":25148.943743431806},{"$f":"YearlySavings","v":9843.6359667883789},{"$f":"DesiredRetirementIncome","v":0},{"$f":"PensionIncome","v":0},{"$f":"EndBalance","v":454141.64210075035},null,null,{"$f":"Balance_Under","v":366081.56399142795},{"$f":"Interest_Under","v":18304.078199571395},{"$f":"YearlySavings_Under","v":9843.6359667883789},{"$f":"DesiredRetirementIncome","v":0},{"$f":"PensionIncome_Under","v":0},{"$f":"EndBalance","v":394229.27815778775},null,null,{"$f":"Balance_Over","v":481556.36067959323},{"$f":"Interest_Over","v":33708.945247571522},{"$f":"YearlySavings_Over","v":9843.6359667883789},{"$f":"DesiredRetirementIncome","v":0},{"$f":"PensionIncome_Over","v":0},{"$f":"EndBalance","v":525108.94189395313},null,null,{"$f":"IF(Calculations!B42<DesiredRetirementAge,K42,NA())","v":454141.64210075035},{"$f":"IF(Calculations!B42>=(DesiredRetirementAge-1),K42,NA())","v":{"$error":"#N/A"}},null,null,130879.66373616538]
[null,{"$f":"Age","v":51},{"$f":"Salary","v":83670.905717701215},null,null,{"$f":"Balance","v":454141.64210075035},{"$f":"Interest","v":27248.498526045019},{"$f":"YearlySavings","v":10040.508686124147},{"$f":"DesiredRetirementIncome","v":0},{"$f":"PensionIncome","v":0},{"$f":"EndBalance","v":491430.64931291953},null,null,{"$f":"Balance_Under","v":394229.27815778775},{"$f":"Interest_Under","v":19711.463907889385},{"$f":"YearlySavings_Under","v":10040.508686124147},{"$f":"DesiredRetirementIncome","v":0},{"$f":"PensionIncome_Under","v":0},{"$f":"EndBalance","v":423981.2507518013},null,null,{"$f":"Balance_Over","v":525108.94189395313},{"$f":"Interest_Over","v":36757.625932576717},{"$f":"YearlySavings_Over","v":10040.508686124147},{"$f":"DesiredRetirementIncome","v":0},{"$f":"PensionIncome_Over","v":0},{"$f":"EndBalance","v":571907.07651265396},null,null,{"$f":"IF(Calculations!B43<DesiredRetirementAge,K43,NA())","v":491430.64931291953},{"$f":"IF(Calculations!B43>=(DesiredRetirementAge-1),K43,NA())","v":{"$error":"#N/A"}},null,null,147925.82576085266]
[null,{"$f":"Age","v":52},{"$f":"Salary","v":85344.323832055234},null,null,{"$f":"Balance","v":491430.64931291953},{"$f":"Interest","v":29485.83895877517},{"$f":"YearlySavings","v":10241.318859846629},{"$f":"DesiredRetirementIncome","v":0},{"$f":"PensionIncome","v":0},{"$f":"EndBalance","v":531157.80713154131},null,null,{"$f":"Balance_Under","v":423981.2507518013},{"$f":"Interest_Under","v":21199.062537590064},{"$f":"YearlySavings_Under","v":10241.318859846629},{"$f":"DesiredRetirementIncome","v":0},{"$f":"PensionIncome_Under","v":0},{"$f":"EndBalance","v":455421.63214923796},null,null,{"$f":"Balance_Over","v":571907.07651265396},{"$f":"Interest_Over","v":40033.495355885774},{"$f":"YearlySavings_Over","v":10241.318859846629},{"$f":"DesiredRetirementIncome","v":0},{"$f":"PensionIncome_Over","v":0},{"$f":"EndBalance","v":622181.89072838647},null,null,{"$f":"IF(Calculations!B44<DesiredRetirementAge,K44,NA())","v":531157.80713154131},{"$f":"IF(Calculations!B44>=(DesiredRetirementAge-1),K44,NA())","v":{"$error":"#N/A"}},null,null,166760.2585791485]
[null,{"$f":"Age","v":53},{"$f":"Salary","v":87051.210308696333},null,null,{"$f":"Balance","v":531157.80713154131},{"$f":"Interest","v":31869.468427892476},{"$f":"YearlySavings","v":10446.145237043562},{"$f":"DesiredRetirementIncome","v":0},{"$f":"PensionIncome","v":0},{"$f":"EndBalance","v":573473.42079647735},null,null,{"$f":"Balance_Under","v":455421.63214923796},{"$f":"Interest_Under","v":22771.081607461896},{"$f":"YearlySavings_Under","v":10446.145237043562},{"$f":"DesiredRetirementIncome","v":0},{"$f":"PensionIncome_Under","v":0},{"$f":"EndBalance","v":488638.85899374343},null,null,{"$f":"Balance_Over","v":622181.89072838647},{"$f":"Interest_Over","v":43552.732350987048},{"$f":"YearlySavings_Over","v":10446.145237043562},{"$f":"DesiredRetirementIncome","v":0},{"$f":"PensionIncome_Over","v":0},{"$f":"EndBalance","v":676180.76831641712},null,null,{"$f":"IF(Calculations!B45<DesiredRetirementAge,K45,NA())","v":573473.42079647735},{"$f":"IF(Calculations!B45>=(DesiredRetirementAge-1),K45,NA())","v":{"$error":"#N/A"}},null,null,187541.90932267369]
[null,{"$f":"Age","v":54},{"$f":"Salary","v":88792.234514870259},null,null,{"$f":"Balance","v":573473.42079647735},{"$f":"Interest","v":34408.405247788643},{"$f":"YearlySavings","v":10655.068141784433},{"$f":"DesiredRetirementIncome","v":0},{"$f":"PensionIncome","v":0},{"$f":"EndBalance","v":618536.8941860504},null,null,{"$f":"Balance_Under","v":488638.85899374343},{"$f":"Interest_Under","v":24431.942949687171},{"$f":"YearlySavings_Under","v":10655.068141784433},{"$f":"DesiredRetirementIncome","v":0},{"$f":"PensionIncome_Under","v":0},{"$f":"EndBalance","v":523725.87008521508},null,null,{"$f":"Balance_Over","v":676180.76831641712},{"$f":"Interest_Over","v":47332.653782149195},{"$f":"YearlySavings_Over","v":10655.068141784433},{"$f":"DesiredRetirementIncome","v":0},{"$f":"PensionIncome_Over","v":0},{"$f":"EndBalance","v":734168.49024035071},null,null,{"$f":"IF(Calculations!B46<DesiredRetirementAge,K46,NA())","v":618536.8941860504},{"$f":"IF(Calculations!B46>=(DesiredRetirementAge-1),K46,NA())","v":{"$error":"#N/A"}},null,null,{"$f":"AA46-S46","v":210442.62015513564}]
[null,{"$f":"Age","v":55},{"$f":"Salary","v":90568.079205167669},null,null,{"$f":"Balance","v":618536.8941860504},{"$f":"Interest","v":37112.213651163023},{"$f":"YearlySavings","v":10868.169504620122},{"$f":"DesiredRetirementIncome","v":0},{"$f":"PensionIncome","v":0},{"$f":"EndBalance","v":666517.27734183357},null,null,{"$f":"Balance_Under","v":523725.87008521508},{"$f":"Interest_Under","v":26186.293504260753},{"$f":"YearlySavings_Under","v":10868.169504620122},{"$f":"DesiredRetirementIncome","v":0},{"$f":"PensionIncome_Under","v":0},{"$f":"EndBalance","v":560780.33309409593},null,null,{"$f":"Balance_Over","v":734168.49024035071},{"$f":"Interest_Over","v":51391.794316824547},{"$f":"YearlySavings_Over","v":10868.169504620122},{"$f":"DesiredRetirementIncome","v":0},{"$f":"PensionIncome_Over","v":0},{"$f":"EndBalance","v":796428.45406179538},null,null,{"$f":"IF(Calculations!B47<DesiredRetirementAge,K47,NA())","v":666517.27734183357},{"$f":"IF(Calculations!B47>=(DesiredRetirementAge-1),K47,NA())","v":{"$error":"#N/A"}},null,null,235648.12096769945]
[null,{"$f":"Age","v":56},{"$f":"Salary","v":92379.44078927103},null,null,{"$f":"Balance","v":666517.27734183357},{"$f":"Interest","v":39991.036640510014},{"$f":"YearlySavings","v":11085.532894712525},{"$f":"DesiredRetirementIncome","v":0},{"$f":"PensionIncome","v":0},{"$f":"EndBalance","v":717593.84687705606},null,null,{"$f":"Balance_Under","v":560780.33309409593},{"$f":"Interest_Under","v":28039.016654704796},{"$f":"YearlySavings_Under","v":11085.532894712525},{"$f":"DesiredRetirementIncome","v":0},{"$f":"PensionIncome_Under","v":0},{"$f":"EndBalance","v":599904.88264351327},null,null,{"$f":"Balance_Over","v":796428.45406179538},{"$f":"Interest_Over","v":55749.99178432567},{"$f":"YearlySavings_Over","v":11085.532894712525},{"$f":"DesiredRetirementIncome","v":0},{"$f":"PensionIncome_Over","v":0},{"$f":"EndBalance","v":863263.97874083358},null,null,{"$f":"IF(Calculations!B48<DesiredRetirementAge,K48,NA())","v":717593.84687705606},{"$f":"IF(Calculations!B48>=(DesiredRetirementAge-1),K48,NA())","v":{"$error":"#N/A"}},null,null,263359.09609732032]
[null,{"$f":"Age","v":57},{"$f":"Salary","v":94227.02960505645},null,null,{"$f":"Balance","v":717593.84687705606},{"$f":"Interest","v":43055.630812623363},{"$f":"YearlySavings","v":11307.243552606777},{"$f":"DesiredRetirementIncome","v":0},{"$f":"PensionIncome","v":0},{"$f":"EndBalance","v":771956.72124228626},null,null,{"$f":"Balance_Under","v":599904.88264351327},{"$f":"Interest_Under","v":29995.24413217566},{"$f":"YearlySavings_Under","v":11307.243552606777},{"$f":"DesiredRetirementIncome","v":0},{"$f":"PensionIncome_Under","v":0},{"$f":"EndBalance","v":641207.37032829574},null,null,{"$f":"Balance_Over","v":863263.97874083358},{"$f":"Interest_Over","v":60428.478511858346},{"$f":"YearlySavings_Over","v":11307.243552606777},{"$f":"DesiredRetirementIncome","v":0},{"$f":"PensionIncome_Over","v":0},{"$f":"EndBalance","v":934999.70080529875},null,null,{"$f":"IF(Calculations!B49<DesiredRetirementAge,K49,NA())","v":771956.72124228626},{"$f":"IF(Calculations!B49>=(DesiredRetirementAge-1),K49,NA())","v":{"$error":"#N/A"}},null,null,293792.33047700301]
[null,{"$f":"Age","v":58},{"$f":"Salary","v":96111.570197157576},null,null,{"$f":"Balance","v":771956.72124228626},{"$f":"Interest","v":46317.403274537173},{"$f":"YearlySavings","v":11533.388423658913},{"$f":"DesiredRetirementIncome","v":0},{"$f":"PensionIncome","v":0},{"$f":"EndBalance","v":829807.51294048235},null,null,{"$f":"Balance_Under","v":641207.37032829574},{"$f":"Interest_Under","v":32060.368516414783},{"$f":"YearlySavings_Under","v":11533.388423658913},{"$f":"DesiredRetirementIncome","v":0},{"$f":"PensionIncome_Under","v":0},{"$f":"EndBalance","v":684801.12726836943},null,null,{"$f":"Balance_Over","v":934999.70080529875},{"$f":"Interest_Over","v":65449.979056370903},{"$f":"YearlySavings_Over","v":11533.388423658913},{"$f":"DesiredRetirementIncome","v":0},{"$f":"PensionIncome_Over","v":0},{"$f":"EndBalance","v":1011983.0682853286},null,null,{"$f":"IF(Calculations!B50<DesiredRetirementAge,K50,NA())","v":829807.51294048235},{"$f":"IF(Calculations!B50>=(DesiredRetirementAge-1),K50,NA())","v":{"$error":"#N/A"}},null,null,327181.94101695914]
[null,{"$f":"Age","v":59},{"$f":"Salary","v":98033.801601100728},null,null,{"$f":"Balance","v":829807.51294048235},{"$f":"Interest","v":49788.450776428937},{"$f":"YearlySavings","v":11764.056192132091},{"$f":"DesiredRetirementIncome","v":0},{"$f":"PensionIncome","v":0},{"$f":"EndBalance","v":891360.01990904333},null,null,{"$f":"Balance_Under","v":684801.12726836943},{"$f":"Interest_Under","v":34240.056363418465},{"$f":"YearlySavings_Under","v":11764.056192132091},{"$f":"DesiredRetirementIncome","v":0},{"$f":"PensionIncome_Under","v":0},{"$f":"EndBalance","v":730805.23982391995},null,null,{"$f":"Balance_Over","v":1011983.0682853286},{"$f":"Interest_Over","v":70838.814779972992},{"$f":"YearlySavings_Over","v":11764.056192132091},{"$f":"DesiredRetirementIncome","v":0},{"$f":"PensionIncome_Over","v":0},{"$f":"EndBalance","v":1094585.9392574336},null,null,{"$f":"IF(Calculations!B51<DesiredRetirementAge,K51,NA())","v":891360.01990904333},{"$f":"IF(Calculations!B51>=(DesiredRetirementAge-1),K51,NA())","v":{"$error":"#N/A"}},null,null,363780.69943351368]
[null,{"$f":"Age","v":60},{"$f":"Salary","v":99994.477633122748},null,null,{"$f":"Balance","v":891360.01990904333},{"$f":"Interest","v":53481.6011945426},{"$f":"YearlySavings","v":11999.337315974733},{"$f":"DesiredRetirementIncome","v":0},{"$f":"PensionIncome","v":0},{"$f":"EndBalance","v":956840.95841956069},null,null,{"$f":"Balance_Under","v":730805.23982391995},{"$f":"Interest_Under","v":36540.261991195992},{"$f":"YearlySavings_Under","v":11999.337315974733},{"$f":"DesiredRetirementIncome","v":0},{"$f":"PensionIncome_Under","v":0},{"$f":"EndBalance","v":779344.83913109067},null,null,{"$f":"Balance_Over","v":1094585.9392574336},{"$f":"Interest_Over","v":76621.015748020349},{"$f":"YearlySavings_Over","v":11999.337315974733},{"$f":"DesiredRetirementIncome","v":0},{"$f":"PensionIncome_Over","v":0},{"$f":"EndBalance","v":1183206.2923214287},null,null,{"$f":"IF(Calculations!B52<DesiredRetirementAge,K52,NA())","v":956840.95841956069},{"$f":"IF(Calculations!B52>=(DesiredRetirementAge-1),K52,NA())","v":{"$error":"#N/A"}},null,null,403861.45319033798]
[null,{"$f":"Age","v":61},{"$f":"Salary","v":101994.3671857852},null,null,{"$f":"Balance","v":956840.95841956069},{"$f":"Interest","v":57410.457505173639},{"$f":"YearlySavings","v":12239.324062294228},{"$f":"DesiredRetirementIncome","v":0},{"$f":"PensionIncome","v":0},{"$f":"EndBalance","v":1026490.7399870285},null,null,{"$f":"Balance_Under","v":779344.83913109067},{"$f":"Interest_Under","v":38967.241956554528},{"$f":"YearlySavings_Under","v":12239.324062294228},{"$f":"DesiredRetirementIncome","v":0},{"$f":"PensionIncome_Under","v":0},{"$f":"EndBalance","v":830551.40514993935},null,null,{"$f":"Balance_Over","v":1183206.2923214287},{"$f":"Interest_Over","v":82824.440462500002},{"$f":"YearlySavings_Over","v":12239.324062294228},{"$f":"DesiredRetirementIncome","v":0},{"$f":"PensionIncome_Over","v":0},{"$f":"EndBalance","v":1278270.0568462231},null,null,{"$f":"IF(Calculations!B53<DesiredRetirementAge,K53,NA())","v":1026490.7399870285},{"$f":"IF(Calculations!B53>=(DesiredRetirementAge-1),K53,NA())","v":{"$error":"#N/A"}},null,null,447718.65169628372]
[null,{"$f":"Age","v":62},{"$f":"Salary","v":104034.2545295009},null,null,{"$f":"Balance","v":1026490.7399870285},{"$f":"Interest","v":61589.444399221713},{"$f":"YearlySavings","v":12484.110543540113},{"$f":"DesiredRetirementIncome","v":0},{"$f":"PensionIncome","v":0},{"$f":"EndBalance","v":1100564.2949297905},null,null,{"$f":"Balance_Under","v":830551.40514993935},{"$f":"Interest_Under","v":41527.570257496962},{"$f":"YearlySavings_Under","v":12484.110543540113},{"$f":"DesiredRetirementIncome","v":0},{"$f":"PensionIncome_Under","v":0},{"$f":"EndBalance","v":884563.08595097635},null,null,{"$f":"Balance_Over","v":1278270.0568462231},{"$f":"Interest_Over","v":89478.903979235605},{"$f":"YearlySavings_Over","v":12484.110543540113},{"$f":"DesiredRetirementIncome","v":0},{"$f":"PensionIncome_Over","v":0},{"$f":"EndBalance","v":1380233.0713689988},null,null,{"$f":"IF(Calculations!B54<DesiredRetirementAge,K54,NA())","v":1100564.2949297905},{"$f":"IF(Calculations!B54>=(DesiredRetirementAge-1),K54,NA())","v":{"$error":"#N/A"}},null,null,495669.98541802249]
[null,{"$f":"Age","v":63},{"$f":"Salary","v":106114.93962009093},null,null,{"$f":"Balance","v":1100564.2949297905},{"$f":"Interest","v":66033.857695787432},{"$f":"YearlySavings","v":12733.792754410915},{"$f":"DesiredRetirementIncome","v":0},{"$f":"PensionIncome","v":0},{"$f":"EndBalance","v":1179331.945379989},null,null,{"$f":"Balance_Under","v":884563.08595097635},{"$f":"Interest_Under","v":44228.154297548812},{"$f":"YearlySavings_Under","v":12733.792754410915},{"$f":"DesiredRetirementIncome","v":0},{"$f":"PensionIncome_Under","v":0},{"$f":"EndBalance","v":941525.03300293605},null,null,{"$f":"Balance_Over","v":1380233.0713689988},{"$f":"Interest_Over","v":96616.314995829904},{"$f":"YearlySavings_Over","v":12733.792754410915},{"$f":"DesiredRetirementIncome","v":0},{"$f":"PensionIncome_Over","v":0},{"$f":"EndBalance","v":1489583.1791192398},null,null,{"$f":"IF(Calculations!B55<DesiredRetirementAge,K55,NA())","v":1179331.945379989},{"$f":"IF(Calculations!B55>=(DesiredRetirementAge-1),K55,NA())","v":{"$error":"#N/A"}},null,null,548058.14611630375]
[null,{"$f":"Age","v":64},{"$f":"Salary","v":108237.23841249275},null,null,{"$f":"Balance","v":1179331.945379989},{"$f":"Interest","v":70759.916722799331},{"$f":"YearlySavings","v":12988.468609499134},{"$f":"DesiredRetirementIncome","v":0},{"$f":"PensionIncome","v":0},{"$f":"EndBalance","v":1263080.3307122875},null,null,{"$f":"Balance_Under","v":941525.03300293605},{"$f":"Interest_Under","v":47076.251650146798},{"$f":"YearlySavings_Under","v":12988.468609499134},{"$f":"DesiredRetirementIncome","v":0},{"$f":"PensionIncome_Under","v":0},{"$f":"EndBalance","v":1001589.753262582},null,null,{"$f":"Balance_Over","v":1489583.1791192398},{"$f":"Interest_Over","v":104270.82253834678},{"$f":"YearlySavings_Over","v":12988.468609499134},{"$f":"DesiredRetirementIncome","v":0},{"$f":"PensionIncome_Over","v":0},{"$f":"EndBalance","v":1606842.4702670856},null,null,{"$f":"IF(Calculations!B56<DesiredRetirementAge,K56,NA())","v":1263080.3307122875},{"$f":"IF(Calculations!B56>=(DesiredRetirementAge-1),K56,NA())","v":1263080.3307122875},null,null,605252.71700450359]
[null,{"$f":"Age","v":65},{"$f":"Salary","v":0},null,null,{"$f":"Balance","v":1263080.3307122875},{"$f":"Interest","v":75784.819842737241},{"$f":"YearlySavings","v":0},{"$f":"DesiredRetirementIncome","v":82801.487385556946},{"$f":"PensionIncome","v":0},{"$f":"EndBalance","v":1256063.6631694676},null,null,{"$f":"Balance_Under","v":1001589.753262582},{"$f":"Interest_Under","v":50079.487663129097},{"$f":"YearlySavings_Under","v":0},{"$f":"DesiredRetirementIncome","v":82801.487385556946},{"$f":"PensionIncome_Under","v":0},{"$f":"EndBalance","v":968867.7535401542},null,null,{"$f":"Balance_Over","v":1606842.4702670856},{"$f":"Interest_Over","v":112478.97291869597},{"$f":"YearlySavings_Over","v":0},{"$f":"DesiredRetirementIncome","v":82801.487385556946},{"$f":"PensionIncome_Over","v":0},{"$f":"EndBalance","v":1636519.9558002246},null,null,{"$f":"IF(Calculations!B57<DesiredRetirementAge,K57,NA())","v":{"$error":"#N/A"}},{"$f":"IF(Calculations!B57>=(DesiredRetirementAge-1),K57,NA())","v":1256063.6631694676},null,null,667652.20226007036]
[null,{"$f":"Age","v":66},{"$f":"Salary","v":0},null,null,{"$f":"Balance","v":1256063.6631694676},{"$f":"Interest","v":75363.819790168054},{"$f":"YearlySavings","v":0},{"$f":"DesiredRetirementIncome","v":84457.517133268077},{"$f":"PensionIncome","v":0},{"$f":"EndBalance","v":1246969.9658263675},null,null,{"$f":"Balance_Under","v":968867.7535401542},{"$f":"Interest_Under","v":48443.387677007704},{"$f":"YearlySavings_Under","v":0},{"$f":"DesiredRetirementIncome","v":84457.517133268077},{"$f":"PensionIncome_Under","v":0},{"$f":"EndBalance","v":932853.62408389384},null,null,{"$f":"Balance_Over","v":1636519.9558002246},{"$f":"Interest_Over","v":114556.39690601571},{"$f":"YearlySavings_Over","v":0},{"$f":"DesiredRetirementIncome","v":84457.517133268077},{"$f":"PensionIncome_Over","v":0},{"$f":"EndBalance","v":1666618.8355729722},null,null,{"$f":"IF(Calculations!B58<DesiredRetirementAge,K58,NA())","v":{"$error":"#N/A"}},{"$f":"IF(Calculations!B58>=(DesiredRetirementAge-1),K58,NA())","v":1246969.9658263675},null,null,733765.21148907836]
[null,{"$f":"Age","v":67},{"$f":"Salary","v":0},null,null,{"$f":"Balance","v":1246969.9658263675},{"$f":"Interest","v":74818.197949582041},{"$f":"YearlySavings","v":0},{"$f":"DesiredRetirementIncome","v":86146.667475933442},{"$f":"PensionIncome","v":0},{"$f":"EndBalance","v":1235641.4963000161},null,null,{"$f":"Balance_Under","v":932853.62408389384},{"$f":"Interest_Under","v":46642.681204194691},{"$f":"YearlySavings_Under","v":0},{"$f":"DesiredRetirementIncome","v":86146.667475933442},{"$f":"PensionIncome_Under","v":0},{"$f":"EndBalance","v":893349.63781215507},null,null,{"$f":"Balance_Over","v":1666618.8355729722},{"$f":"Interest_Over","v":116663.31849010804},{"$f":"YearlySavings_Over","v":0},{"$f":"DesiredRetirementIncome","v":86146.667475933442},{"$f":"PensionIncome_Over","v":0},{"$f":"EndBalance","v":1697135.4865871468},null,null,{"$f":"IF(Calculations!B59<DesiredRetirementAge,K59,NA())","v":{"$error":"#N/A"}},{"$f":"IF(Calculations!B59>=(DesiredRetirementAge-1),K59,NA())","v":1235641.4963000161},null,null,803785.8487749917]
[null,{"$f":"Age","v":68},{"$f":"Salary","v":0},null,null,{"$f":"Balance","v":1235641.4963000161},{"$f":"Interest","v":74138.489778000963},{"$f":"YearlySavings","v":0},{"$f":"DesiredRetirementIncome","v":87869.6008254521},{"$f":"PensionIncome","v":0},{"$f":"EndBalance","v":1221910.3852525649},null,null,{"$f":"Balance_Under","v":893349.63781215507},{"$f":"Interest_Under","v":44667.481890607749},{"$f":"YearlySavings_Under","v":0},{"$f":"DesiredRetirementIncome","v":87869.6008254521},{"$f":"PensionIncome_Under","v":0},{"$f":"EndBalance","v":850147.51887731068},null,null,{"$f":"Balance_Over","v":1697135.4865871468},{"$f":"Interest_Over","v":118799.48406110026},{"$f":"YearlySavings_Over","v":0},{"$f":"DesiredRetirementIncome","v":87869.6008254521},{"$f":"PensionIncome_Over","v":0},{"$f":"EndBalance","v":1728065.369822795},null,null,{"$f":"IF(Calculations!B60<DesiredRetirementAge,K60,NA())","v":{"$error":"#N/A"}},{"$f":"IF(Calculations!B60>=(DesiredRetirementAge-1),K60,NA())","v":1221910.3852525649},null,null,877917.85094548436]
[null,{"$f":"Age","v":69},{"$f":"Salary","v":0},null,null,{"$f":"Balance","v":1221910.3852525649},{"$f":"Interest","v":73314.623115153896},{"$f":"YearlySavings","v":0},{"$f":"DesiredRetirementIncome","v":89626.992841961153},{"$f":"PensionIncome","v":0},{"$f":"EndBalance","v":1205598.0155257578},null,null,{"$f":"Balance_Under","v":850147.51887731068},{"$f":"Interest_Under","v":42507.375943865532},{"$f":"YearlySavings_Under","v":0},{"$f":"DesiredRetirementIncome","v":89626.992841961153},{"$f":"PensionIncome_Under","v":0},{"$f":"EndBalance","v":803027.90197921498},null,null,{"$f":"Balance_Over","v":1728065.369822795},{"$f":"Interest_Over","v":120964.57588759564},{"$f":"YearlySavings_Over","v":0},{"$f":"DesiredRetirementIncome","v":89626.992841961153},{"$f":"PensionIncome_Over","v":0},{"$f":"EndBalance","v":1759402.9528684295},null,null,{"$f":"IF(Calculations!B61<DesiredRetirementAge,K61,NA())","v":{"$error":"#N/A"}},{"$f":"IF(Calculations!B61>=(DesiredRetirementAge-1),K61,NA())","v":1205598.0155257578},null,null,956375.0508892145]
[null,{"$f":"Age","v":70},{"$f":"Salary","v":0},null,null,{"$f":"Balance","v":1205598.0155257578},{"$f":"Interest","v":72335.880931545471},{"$f":"YearlySavings","v":0},{"$f":"DesiredRetirementIncome","v":91419.532698800365},{"$f":"PensionIncome","v":0},{"$f":"EndBalance","v":1186514.363758503},null,null,{"$f":"Balance_Under","v":803027.90197921498},{"$f":"Interest_Under","v":40151.395098960747},{"$f":"YearlySavings_Under","v":0},{"$f":"DesiredRetirementIncome","v":91419.532698800365},{"$f":"PensionIncome_Under","v":0},{"$f":"EndBalance","v":751759.76437937538},null,null,{"$f":"Balance_Over","v":1759402.9528684295},{"$f":"Interest_Over","v":123158.20670079005},{"$f":"YearlySavings_Over","v":0},{"$f":"DesiredRetirementIncome","v":91419.532698800365},{"$f":"PensionIncome_Over","v":0},{"$f":"EndBalance","v":1791141.6268704191},null,null,{"$f":"IF(Calculations!B62<DesiredRetirementAge,K62,NA())","v":{"$error":"#N/A"}},{"$f":"IF(Calculations!B62>=(DesiredRetirementAge-1),K62,NA())","v":1186514.363758503},null,null,1039381.8624910438]
[null,{"$f":"Age","v":71},{"$f":"Salary","v":0},null,null,{"$f":"Balance","v":1186514.363758503},{"$f":"Interest","v":71190.861825510176},{"$f":"YearlySavings","v":0},{"$f":"DesiredRetirementIncome","v":93247.923352776386},{"$f":"PensionIncome","v":0},{"$f":"EndBalance","v":1164457.3022312368},null,null,{"$f":"Balance_Under","v":751759.76437937538},{"$f":"Interest_Under","v":37587.988218968763},{"$f":"YearlySavings_Under","v":0},{"$f":"DesiredRetirementIncome","v":93247.923352776386},{"$f":"PensionIncome_Under","v":0},{"$f":"EndBalance","v":696099.82924556779},null,null,{"$f":"Balance_Over","v":1791141.6268704191},{"$f":"Interest_Over","v":125379.91388092932},{"$f":"YearlySavings_Over","v":0},{"$f":"DesiredRetirementIncome","v":93247.923352776386},{"$f":"PensionIncome_Over","v":0},{"$f":"EndBalance","v":1823273.6173985722},null,null,{"$f":"IF(Calculations!B63<DesiredRetirementAge,K63,NA())","v":{"$error":"#N/A"}},{"$f":"IF(Calculations!B63>=(DesiredRetirementAge-1),K63,NA())","v":1164457.3022312368},null,null,1127173.7881530044]
[null,{"$f":"Age","v":72},{"$f":"Salary","v":0},null,null,{"$f":"Balance","v":1164457.3022312368},{"$f":"Interest","v":69867.43813387421},{"$f":"YearlySavings","v":0},{"$f":"DesiredRetirementIncome","v":95112.881819831891},{"$f":"PensionIncome","v":0},{"$f":"EndBalance","v":1139211.8585452791},null,null,{"$f":"Balance_Under","v":696099.82924556779},{"$f":"Interest_Under","v":34804.991462278384},{"$f":"YearlySavings_Under","v":0},{"$f":"DesiredRetirementIncome","v":95112.881819831891},{"$f":"PensionIncome_Under","v":0},{"$f":"EndBalance","v":635791.93888801429},null,null,{"$f":"Balance_Over","v":1823273.6173985722},{"$f":"Interest_Over","v":127629.15321790004},{"$f":"YearlySavings_Over","v":0},{"$f":"DesiredRetirementIncome","v":95112.881819831891},{"$f":"PensionIncome_Over","v":0},{"$f":"EndBalance","v":1855789.8887966403},null,null,{"$f":"IF(Calculations!B64<DesiredRetirementAge,K64,NA())","v":{"$error":"#N/A"}},{"$f":"IF(Calculations!B64>=(DesiredRetirementAge-1),K64,NA())","v":1139211.8585452791},null,null,1219997.949908626]
[null,{"$f":"Age","v":73},{"$f":"Salary","v":0},null,null,{"$f":"Balance","v":1139211.8585452791},{"$f":"Interest","v":68352.711512716749},{"$f":"YearlySavings","v":0},{"$f":"DesiredRetirementIncome","v":97015.139456228542},{"$f":"PensionIncome","v":0},{"$f":"EndBalance","v":1110549.4306017673},null,null,{"$f":"Balance_Under","v":635791.93888801429},{"$f":"Interest_Under","v":31789.596944400713},{"$f":"YearlySavings_Under","v":0},{"$f":"DesiredRetirementIncome","v":97015.139456228542},{"$f":"PensionIncome_Under","v":0},{"$f":"EndBalance","v":570566.3963761864},null,null,{"$f":"Balance_Over","v":1855789.8887966403},{"$f":"Interest_Over","v":129905.29221576481},{"$f":"YearlySavings_Over","v":0},{"$f":"DesiredRetirementIncome","v":97015.139456228542},{"$f":"PensionIncome_Over","v":0},{"$f":"EndBalance","v":1888680.0415561765},null,null,{"$f":"IF(Calculations!B65<DesiredRetirementAge,K65,NA())","v":{"$error":"#N/A"}},{"$f":"IF(Calculations!B65>=(DesiredRetirementAge-1),K65,NA())","v":1110549.4306017673},null,null,1318113.6451799902]
[null,{"$f":"Age","v":74},{"$f":"Salary","v":0},null,null,{"$f":"Balance","v":1110549.4306017673},{"$f":"Interest","v":66632.965836106028},{"$f":"YearlySavings","v":0},{"$f":"DesiredRetirementIncome","v":98955.442245353115},{"$f":"PensionIncome","v":0},{"$f":"EndBalance","v":1078226.9541925204},null,null,{"$f":"Balance_Under","v":570566.3963761864},{"$f":"Interest_Under","v":28528.319818809319},{"$f":"YearlySavings_Under","v":0},{"$f":"DesiredRetirementIncome","v":98955.442245353115},{"$f":"PensionIncome_Under","v":0},{"$f":"EndBalance","v":500139.27394964255},null,null,{"$f":"Balance_Over","v":1888680.0415561765},{"$f":"Interest_Over","v":132207.60290893234},{"$f":"YearlySavings_Over","v":0},{"$f":"DesiredRetirementIncome","v":98955.442245353115},{"$f":"PensionIncome_Over","v":0},{"$f":"EndBalance","v":1921932.2022197559},null,null,{"$f":"IF(Calculations!B66<DesiredRetirementAge,K66,NA())","v":{"$error":"#N/A"}},{"$f":"IF(Calculations!B66>=(DesiredRetirementAge-1),K66,NA())","v":1078226.9541925204},null,null,1421792.9282701132]
[null,{"$f":"Age","v":75},{"$f":"Salary","v":0},null,null,{"$f":"Balance","v":1078226.9541925204},{"$f":"Interest","v":64693.617251551215},{"$f":"YearlySavings","v":0},{"$f":"DesiredRetirementIncome","v":100934.55109026018},{"$f":"PensionIncome","v":0},{"$f":"EndBalance","v":1041986.0203538114},null,null,{"$f":"Balance_Under","v":500139.27394964255},{"$f":"Interest_Under","v":25006.963697482126},{"$f":"YearlySavings_Under","v":0},{"$f":"DesiredRetirementIncome","v":100934.55109026018},{"$f":"PensionIncome_Under","v":0},{"$f":"EndBalance","v":424211.68655686453},null,null,{"$f":"Balance_Over","v":1921932.2022197559},{"$f":"Interest_Over","v":134535.25415538289},{"$f":"YearlySavings_Over","v":0},{"$f":"DesiredRetirementIncome","v":100934.55109026018},{"$f":"PensionIncome_Over","v":0},{"$f":"EndBalance","v":1955532.9052848786},null,null,{"$f":"IF(Calculations!B67<DesiredRetirementAge,K67,NA())","v":{"$error":"#N/A"}},{"$f":"IF(Calculations!B67>=(DesiredRetirementAge-1),K67,NA())","v":1041986.0203538114},null,null,1531321.218728014]
[null,{"$f":"Age","v":76},{"$f":"Salary","v":0},null,null,{"$f":"Balance","v":1041986.0203538114},{"$f":"Interest","v":62519.161221228685},{"$f":"YearlySavings","v":0},{"$f":"DesiredRetirementIncome","v":102953.24211206537},{"$f":"PensionIncome","v":0},{"$f":"EndBalance","v":1001551.9394629747},null,null,{"$f":"Balance_Under","v":424211.68655686453},{"$f":"Interest_Under","v":21210.584327843226},{"$f":"YearlySavings_Under","v":0},{"$f":"DesiredRetirementIncome","v":102953.24211206537},{"$f":"PensionIncome_Under","v":0},{"$f":"EndBalance","v":342469.02877264237},null,null,{"$f":"Balance_Over","v":1955532.9052848786},{"$f":"Interest_Over","v":136887.30336994148},{"$f":"YearlySavings_Over","v":0},{"$f":"DesiredRetirementIncome","v":102953.24211206537},{"$f":"PensionIncome_Over","v":0},{"$f":"EndBalance","v":1989466.9665427546},null,null,{"$f":"IF(Calculations!B68<DesiredRetirementAge,K68,NA())","v":{"$error":"#N/A"}},{"$f":"IF(Calculations!B68>=(DesiredRetirementAge-1),K68,NA())","v":1001551.9394629747},null,null,1646997.9377701122]
[null,{"$f":"Age","v":77},{"$f":"Salary","v":0},null,null,{"$f":"Balance","v":1001551.9394629747},{"$f":"Interest","v":60093.116367778479},{"$f":"YearlySavings","v":0},{"$f":"DesiredRetirementIncome","v":105012.3069543067},{"$f":"PensionIncome","v":0},{"$f":"EndBalance","v":956632.74887644651},null,null,{"$f":"Balance_Under","v":342469.02877264237},{"$f":"Interest_Under","v":17123.451438632117},{"$f":"YearlySavings_Under","v":0},{"$f":"DesiredRetirementIncome","v":105012.3069543067},{"$f":"PensionIncome_Under","v":0},{"$f":"EndBalance","v":254580.17325696777},null,null,{"$f":"Balance_Over","v":1989466.9665427546},{"$f":"Interest_Over","v":139262.68765799279},{"$f":"YearlySavings_Over","v":0},{"$f":"DesiredRetirementIncome","v":105012.3069543067},{"$f":"PensionIncome_Over","v":0},{"$f":"EndBalance","v":2023717.3472464404},null,null,{"$f":"IF(Calculations!B69<DesiredRetirementAge,K69,NA())","v":{"$error":"#N/A"}},{"$f":"IF(Calculations!B69>=(DesiredRetirementAge-1),K69,NA())","v":956632.74887644651},null,null,1769137.1739894727]
[null,{"$f":"Age","v":78},{"$f":"Salary","v":0},null,null,{"$f":"Balance","v":956632.74887644651},{"$f":"Interest","v":57397.964932586787},{"$f":"YearlySavings","v":0},{"$f":"DesiredRetirementIncome","v":107112.55309339281},{"$f":"PensionIncome","v":0},{"$f":"EndBalance","v":906918.16071564052},null,null,{"$f":"Balance_Under","v":254580.17325696777},{"$f":"Interest_Under","v":12729.008662848388},{"$f":"YearlySavings_Under","v":0},{"$f":"DesiredRetirementIncome","v":107112.55309339281},{"$f":"PensionIncome_Under","v":0},{"$f":"EndBalance","v":160196.62882642337},null,null,{"$f":"Balance_Over","v":2023717.3472464404},{"$f":"Interest_Over","v":141660.2143072508},{"$f":"YearlySavings_Over","v":0},{"$f":"DesiredRetirementIncome","v":107112.55309339281},{"$f":"PensionIncome_Over","v":0},{"$f":"EndBalance","v":2058265.0084602982},null,null,{"$f":"IF(Calculations!B70<DesiredRetirementAge,K70,NA())","v":{"$error":"#N/A"}},{"$f":"IF(Calculations!B70>=(DesiredRetirementAge-1),K70,NA())","v":906918.16071564052},null,null,1898068.3796338749]
[null,{"$f":"Age","v":79},{"$f":"Salary","v":0},null,null,{"$f":"Balance","v":906918.16071564052},{"$f":"Interest","v":54415.08964293843},{"$f":"YearlySavings","v":0},{"$f":"DesiredRetirementIncome","v":109254.80415526069},{"$f":"PensionIncome","v":0},{"$f":"EndBalance","v":852078.44620331831},null,null,{"$f":"Balance_Under","v":160196.62882642337},{"$f":"Interest_Under","v":8009.8314413211683},{"$f":"YearlySavings_Under","v":0},{"$f":"DesiredRetirementIncome","v":109254.80415526069},{"$f":"PensionIncome_Under","v":0},{"$f":"EndBalance","v":58951.656112483863},null,null,{"$f":"Balance_Over","v":2058265.0084602982},{"$f":"Interest_Over","v":144078.55059222085},{"$f":"YearlySavings_Over","v":0},{"$f":"DesiredRetirementIncome","v":109254.80415526069},{"$f":"PensionIncome_Over","v":0},{"$f":"EndBalance","v":2093088.7548972582},null,null,{"$f":"IF(Calculations!B71<DesiredRetirementAge,K71,NA())","v":{"$error":"#N/A"}},{"$f":"IF(Calculations!B71>=(DesiredRetirementAge-1),K71,NA())","v":852078.44620331831},null,null,2034137.0987847743]
[null,{"$f":"Age","v":80},{"$f":"Salary","v":0},null,null,{"$f":"Balance","v":852078.44620331831},{"$f":"Interest","v":51124.706772199097},{"$f":"YearlySavings","v":0},{"$f":"DesiredRetirementIncome","v":111439.90023836587},{"$f":"PensionIncome","v":0},{"$f":"EndBalance","v":791763.25273715158},null,null,{"$f":"Balance_Under","v":58951.656112483863},{"$f":"Interest_Under","v":2947.582805624193},{"$f":"YearlySavings_Under","v":0},{"$f":"DesiredRetirementIncome","v":111439.90023836587},{"$f":"PensionIncome_Under","v":0},{"$f":"EndBalance","v":-49540.661320257808},null,null,{"$f":"Balance_Over","v":2093088.7548972582},{"$f":"Interest_Over","v":146516.21284280808},{"$f":"YearlySavings_Over","v":0},{"$f":"DesiredRetirementIncome","v":111439.90023836587},{"$f":"PensionIncome_Over","v":0},{"$f":"EndBalance","v":2128165.0675017005},null,null,{"$f":"IF(Calculations!B72<DesiredRetirementAge,K72,NA())","v":{"$error":"#N/A"}},{"$f":"IF(Calculations!B72>=(DesiredRetirementAge-1),K72,NA())","v":791763.25273715158},null,null,2177705.7288219584]
[null,{"$f":"Age","v":81},{"$f":"Salary","v":0},null,null,{"$f":"Balance","v":791763.25273715158},{"$f":"Interest","v":47505.795164229094},{"$f":"YearlySavings","v":0},{"$f":"DesiredRetirementIncome","v":113668.69824313319},{"$f":"PensionIncome","v":0},{"$f":"EndBalance","v":725600.34965824755},null,null,{"$f":"Balance_Under","v":-49540.661320257808},{"$f":"Interest_Under","v":-2477.0330660128902},{"$f":"YearlySavings_Under","v":0},{"$f":"DesiredRetirementIncome","v":113668.69824313319},{"$f":"PensionIncome_Under","v":0},{"$f":"EndBalance","v":-165686.39262940388},null,null,{"$f":"Balance_Over","v":2128165.0675017005},{"$f":"Interest_Over","v":148971.55472511903},{"$f":"YearlySavings_Over","v":0},{"$f":"DesiredRetirementIncome","v":113668.69824313319},{"$f":"PensionIncome_Over","v":0},{"$f":"EndBalance","v":2163467.9239836861},null,null,{"$f":"IF(Calculations!B73<DesiredRetirementAge,K73,NA())","v":{"$error":"#N/A"}},{"$f":"IF(Calculations!B73>=(DesiredRetirementAge-1),K73,NA())","v":725600.34965824755},null,null,2329154.3166130902]
[null,{"$f":"Age","v":82},{"$f":"Salary","v":0},null,null,{"$f":"Balance","v":725600.34965824755},{"$f":"Interest","v":43536.020979494853},{"$f":"YearlySavings","v":0},{"$f":"DesiredRetirementIncome","v":115942.07220799585},{"$f":"PensionIncome","v":0},{"$f":"EndBalance","v":653194.29842974665},null,null,{"$f":"Balance_Under","v":-165686.39262940388},{"$f":"Interest_Under","v":-8284.3196314701927},{"$f":"YearlySavings_Under","v":0},{"$f":"DesiredRetirementIncome","v":115942.07220799585},{"$f":"PensionIncome_Under","v":0},{"$f":"EndBalance","v":-289912.78446886991},null,null,{"$f":"Balance_Over","v":2163467.9239836861},{"$f":"Interest_Over","v":151442.75467885801},{"$f":"YearlySavings_Over","v":0},{"$f":"DesiredRetirementIncome","v":115942.07220799585},{"$f":"PensionIncome_Over","v":0},{"$f":"EndBalance","v":2198968.6064545484},null,null,{"$f":"IF(Calculations!B74<DesiredRetirementAge,K74,NA())","v":{"$error":"#N/A"}},{"$f":"IF(Calculations!B74>=(DesiredRetirementAge-1),K74,NA())","v":653194.29842974665},null,null,2488881.3909234181]
[null,{"$f":"Age","v":83},{"$f":"Salary","v":0},null,null,{"$f":"Balance","v":653194.29842974665},{"$f":"Interest","v":39191.657905784799},{"$f":"YearlySavings","v":0},{"$f":"DesiredRetirementIncome","v":118260.91365215578},{"$f":"PensionIncome","v":0},{"$f":"EndBalance","v":574125.04268337565},null,null,{"$f":"Balance_Under","v":-289912.78446886991},{"$f":"Interest_Under","v":-14495.639223443495},{"$f":"YearlySavings_Under","v":0},{"$f":"DesiredRetirementIncome","v":118260.91365215578},{"$f":"PensionIncome_Under","v":0},{"$f":"EndBalance","v":-422669.33734446921},null,null,{"$f":"Balance_Over","v":2198968.6064545484},{"$f":"Interest_Over","v":153927.80245181837},{"$f":"YearlySavings_Over","v":0},{"$f":"DesiredRetirementIncome","v":118260.91365215578},{"$f":"PensionIncome_Over","v":0},{"$f":"EndBalance","v":2234635.4952542111},null,null,{"$f":"IF(Calculations!B75<DesiredRetirementAge,K75,NA())","v":{"$error":"#N/A"}},{"$f":"IF(Calculations!B75>=(DesiredRetirementAge-1),K75,NA())","v":574125.04268337565},null,null,2657304.8325986802]
[null,{"$f":"Age","v":84},{"$f":"Salary","v":0},null,null,{"$f":"Balance","v":574125.04268337565},{"$f":"Interest","v":34447.50256100254},{"$f":"YearlySavings","v":0},{"$f":"DesiredRetirementIncome","v":120626.13192519888},{"$f":"PensionIncome","v":0},{"$f":"EndBalance","v":487946.41331917926},null,null,{"$f":"Balance_Under","v":-422669.33734446921},{"$f":"Interest_Under","v":-21133.466867223458},{"$f":"YearlySavings_Under","v":0},{"$f":"DesiredRetirementIncome","v":120626.13192519888},{"$f":"PensionIncome_Under","v":0},{"$f":"EndBalance","v":-564428.93613689148},null,null,{"$f":"Balance_Over","v":2234635.4952542111},{"$f":"Interest_Over","v":156424.48466779475},{"$f":"YearlySavings_Over","v":0},{"$f":"DesiredRetirementIncome","v":120626.13192519888},{"$f":"PensionIncome_Over","v":0},{"$f":"EndBalance","v":2270433.8479968072},null,null,{"$f":"IF(Calculations!B76<DesiredRetirementAge,K76,NA())","v":{"$error":"#N/A"}},{"$f":"IF(Calculations!B76>=(DesiredRetirementAge-1),K76,NA())","v":487946.41331917926},null,null,2834862.7841336988]
[null,{"$f":"Age","v":{"$error":"#N/A"}},{"$f":"Salary","v":{"$error":"#N/A"}},null,null,{"$f":"Balance","v":{"$error":"#N/A"}},{"$f":"Interest","v":{"$error":"#N/A"}},{"$f":"YearlySavings","v":{"$error":"#N/A"}},{"$f":"DesiredRetirementIncome","v":{"$error":"#N/A"}},{"$f":"PensionIncome","v":{"$error":"#N/A"}},{"$f":"EndBalance","v":{"$error":"#N/A"}},null,null,{"$f":"Balance_Under","v":{"$error":"#N/A"}},{"$f":"Interest_Under","v":{"$error":"#N/A"}},{"$f":"YearlySavings_Under","v":{"$error":"#N/A"}},{"$f":"DesiredRetirementIncome","v":{"$error":"#N/A"}},{"$f":"PensionIncome_Under","v":{"$error":"#N/A"}},{"$f":"EndBalance","v":{"$error":"#N/A"}},null,null,{"$f":"Balance_Over","v":{"$error":"#N/A"}},{"$f":"Interest_Over","v":{"$error":"#N/A"}},{"$f":"YearlySavings_Over","v":{"$error":"#N/A"}},{"$f":"DesiredRetirementIncome","v":{"$error":"#N/A"}},{"$f":"PensionIncome_Over","v":{"$error":"#N/A"}},{"$f":"EndBalance","v":{"$error":"#N/A"}},null,null,{"$f":"IF(Calculations!B77<DesiredRetirementAge,K77,NA())","v":{"$error":"#N/A"}},{"$f":"IF(Calculations!B77>=(DesiredRetirementAge-1),K77,NA())","v":{"$error":"#N/A"}},null,null,{"$error":"#N/A"}]
[null,{"$f":"Age","v":{"$error":"#N/A"}},{"$f":"Salary","v":{"$error":"#N/A"}},null,null,{"$f":"Balance","v":{"$error":"#N/A"}},{"$f":"Interest","v":{"$error":"#N/A"}},{"$f":"YearlySavings","v":{"$error":"#N/A"}},{"$f":"DesiredRetirementIncome","v":{"$error":"#N/A"}},{"$f":"PensionIncome","v":{"$error":"#N/A"}},{"$f":"EndBalance","v":{"$error":"#N/A"}},null,null,{"$f":"Balance_Under","v":{"$error":"#N/A"}},{"$f":"Interest_Under","v":{"$error":"#N/A"}},{"$f":"YearlySavings_Under","v":{"$error":"#N/A"}},{"$f":"DesiredRetirementIncome","v":{"$error":"#N/A"}},{"$f":"PensionIncome_Under","v":{"$error":"#N/A"}},{"$f":"EndBalance","v":{"$error":"#N/A"}},null,null,{"$f":"Balance_Over","v":{"$error":"#N/A"}},{"$f":"Interest_Over","v":{"$error":"#N/A"}},{"$f":"YearlySavings_Over","v":{"$error":"#N/A"}},{"$f":"DesiredRetirementIncome","v":{"$error":"#N/A"}},{"$f":"PensionIncome_Over","v":{"$error":"#N/A"}},{"$f":"EndBalance","v":{"$error":"#N/A"}},null,null,{"$f":"IF(Calculations!B78<DesiredRetirementAge,K78,NA())","v":{"$error":"#N/A"}},{"$f":"IF(Calculations!B78>=(DesiredRetirementAge-1),K78,NA())","v":{"$error":"#N/A"}},null,null,{"$error":"#N/A"}]
[null,{"$f":"Age","v":{"$error":"#N/A"}},{"$f":"Salary","v":{"$error":"#N/A"}},null,null,{"$f":"Balance","v":{"$error":"#N/A"}},{"$f":"Interest","v":{"$error":"#N/A"}},{"$f":"YearlySavings","v":{"$error":"#N/A"}},{"$f":"DesiredRetirementIncome","v":{"$error":"#N/A"}},{"$f":"PensionIncome","v":{"$error":"#N/A"}},{"$f":"EndBalance","v":{"$error":"#N/A"}},null,null,{"$f":"Balance_Under","v":{"$error":"#N/A"}},{"$f":"Interest_Under","v":{"$error":"#N/A"}},{"$f":"YearlySavings_Under","v":{"$error":"#N/A"}},{"$f":"DesiredRetirementIncome","v":{"$error":"#N/A"}},{"$f":"PensionIncome_Under","v":{"$error":"#N/A"}},{"$f":"EndBalance","v":{"$error":"#N/A"}},null,null,{"$f":"Balance_Over","v":{"$error":"#N/A"}},{"$f":"Interest_Over","v":{"$error":"#N/A"}},{"$f":"YearlySavings_Over","v":{"$error":"#N/A"}},{"$f":"DesiredRetirementIncome","v":{"$error":"#N/A"}},{"$f":"PensionIncome_Over","v":{"$error":"#N/A"}},{"$f":"EndBalance","v":{"$error":"#N/A"}},null,null,{"$f":"IF(Calculations!B79<DesiredRetirementAge,K79,NA())","v":{"$error":"#N/A"}},{"$f":"IF(Calculations!B79>=(DesiredRetirementAge-1),K79,NA())","v":{"$error":"#N/A"}},null,null,{"$error":"#N/A"}]
[null,{"$f":"Age","v":{"$error":"#N/A"}},{"$f":"Salary","v":{"$error":"#N/A"}},null,null,{"$f":"Balance","v":{"$error":"#N/A"}},{"$f":"Interest","v":{"$error":"#N/A"}},{"$f":"YearlySavings","v":{"$error":"#N/A"}},{"$f":"DesiredRetirementIncome","v":{"$error":"#N/A"}},{"$f":"PensionIncome","v":{"$error":"#N/A"}},{"$f":"EndBalance","v":{"$error":"#N/A"}},null,null,{"$f":"Balance_Under","v":{"$error":"#N/A"}},{"$f":"Interest_Under","v":{"$error":"#N/A"}},{"$f":"YearlySavings_Under","v":{"$error":"#N/A"}},{"$f":"DesiredRetirementIncome","v":{"$error":"#N/A"}},{"$f":"PensionIncome_Under","v":{"$error":"#N/A"}},{"$f":"EndBalance","v":{"$error":"#N/A"}},null,null,{"$f":"Balance_Over","v":{"$error":"#N/A"}},{"$f":"Interest_Over","v":{"$error":"#N/A"}},{"$f":"YearlySavings_Over","v":{"$error":"#N/A"}},{"$f":"DesiredRetirementIncome","v":{"$error":"#N/A"}},{"$f":"PensionIncome_Over","v":{"$error":"#N/A"}},{"$f":"EndBalance","v":{"$error":"#N/A"}},null,null,{"$f":"IF(Calculations!B80<DesiredRetirementAge,K80,NA())","v":{"$error":"#N/A"}},{"$f":"IF(Calculations!B80>=(DesiredRetirementAge-1),K80,NA())","v":{"$error":"#N/A"}},null,null,{"$error":"#N/A"}]
[null,{"$f":"Age","v":{"$error":"#N/A"}},{"$f":"Salary","v":{"$error":"#N/A"}},null,null,{"$f":"Balance","v":{"$error":"#N/A"}},{"$f":"Interest","v":{"$error":"#N/A"}},{"$f":"YearlySavings","v":{"$error":"#N/A"}},{"$f":"DesiredRetirementIncome","v":{"$error":"#N/A"}},{"$f":"PensionIncome","v":{"$error":"#N/A"}},{"$f":"EndBalance","v":{"$error":"#N/A"}},null,null,{"$f":"Balance_Under","v":{"$error":"#N/A"}},{"$f":"Interest_Under","v":{"$error":"#N/A"}},{"$f":"YearlySavings_Under","v":{"$error":"#N/A"}},{"$f":"DesiredRetirementIncome","v":{"$error":"#N/A"}},{"$f":"PensionIncome_Under","v":{"$error":"#N/A"}},{"$f":"EndBalance","v":{"$error":"#N/A"}},null,null,{"$f":"Balance_Over","v":{"$error":"#N/A"}},{"$f":"Interest_Over","v":{"$error":"#N/A"}},{"$f":"YearlySavings_Over","v":{"$error":"#N/A"}},{"$f":"DesiredRetirementIncome","v":{"$error":"#N/A"}},{"$f":"PensionIncome_Over","v":{"$error":"#N/A"}},{"$f":"EndBalance","v":{"$error":"#N/A"}},null,null,{"$f":"IF(Calculations!B81<DesiredRetirementAge,K81,NA())","v":{"$error":"#N/A"}},{"$f":"IF(Calculations!B81>=(DesiredRetirementAge-1),K81,NA())","v":{"$error":"#N/A"}},null,null,{"$error":"#N/A"}]
[null,{"$f":"Age","v":{"$error":"#N/A"}},{"$f":"Salary","v":{"$error":"#N/A"}},null,null,{"$f":"Balance","v":{"$error":"#N/A"}},{"$f":"Interest","v":{"$error":"#N/A"}},{"$f":"YearlySavings","v":{"$error":"#N/A"}},{"$f":"DesiredRetirementIncome","v":{"$error":"#N/A"}},{"$f":"PensionIncome","v":{"$error":"#N/A"}},{"$f":"EndBalance","v":{"$error":"#N/A"}},null,null,{"$f":"Balance_Under","v":{"$error":"#N/A"}},{"$f":"Interest_Under","v":{"$error":"#N/A"}},{"$f":"YearlySavings_Under","v":{"$error":"#N/A"}},{"$f":"DesiredRetirementIncome","v":{"$error":"#N/A"}},{"$f":"PensionIncome_Under","v":{"$error":"#N/A"}},{"$f":"EndBalance","v":{"$error":"#N/A"}},null,null,{"$f":"Balance_Over","v":{"$error":"#N/A"}},{"$f":"Interest_Over","v":{"$error":"#N/A"}},{"$f":"YearlySavings_Over","v":{"$error":"#N/A"}},{"$f":"DesiredRetirementIncome","v":{"$error":"#N/A"}},{"$f":"PensionIncome_Over","v":{"$error":"#N/A"}},{"$f":"EndBalance","v":{"$error":"#N/A"}},null,null,{"$f":"IF(Calculations!B82<DesiredRetirementAge,K82,NA())","v":{"$error":"#N/A"}},{"$f":"IF(Calculations!B82>=(DesiredRetirementAge-1),K82,NA())","v":{"$error":"#N/A"}},null,null,{"$f":"AA82-S82","v":{"$error":"#N/A"}}]
[null,{"$f":"Age","v":{"$error":"#N/A"}},{"$f":"Salary","v":{"$error":"#N/A"}},null,null,{"$f":"Balance","v":{"$error":"#N/A"}},{"$f":"Interest","v":{"$error":"#N/A"}},{"$f":"YearlySavings","v":{"$error":"#N/A"}},{"$f":"DesiredRetirementIncome","v":{"$error":"#N/A"}},{"$f":"PensionIncome","v":{"$error":"#N/A"}},{"$f":"EndBalance","v":{"$error":"#N/A"}},null,null,{"$f":"Balance_Under","v":{"$error":"#N/A"}},{"$f":"Interest_Under","v":{"$error":"#N/A"}},{"$f":"YearlySavings_Under","v":{"$error":"#N/A"}},{"$f":"DesiredRetirementIncome","v":{"$error":"#N/A"}},{"$f":"PensionIncome_Under","v":{"$error":"#N/A"}},{"$f":"EndBalance","v":{"$error":"#N/A"}},null,null,{"$f":"Balance_Over","v":{"$error":"#N/A"}},{"$f":"Interest_Over","v":{"$error":"#N/A"}},{"$f":"YearlySavings_Over","v":{"$error":"#N/A"}},{"$f":"DesiredRetirementIncome","v":{"$error":"#N/A"}},{"$f":"PensionIncome_Over","v":{"$error":"#N/A"}},{"$f":"EndBalance","v":{"$error":"#N/A"}},null,null,{"$f":"IF(Calculations!B83<DesiredRetirementAge,K83,NA())","v":{"$error":"#N/A"}},{"$f":"IF(Calculations!B83>=(DesiredRetirementAge-1),K83,NA())","v":{"$error":"#N/A"}},null,null,{"$error":"#N/A"}]
[null,{"$f":"Age","v":{"$error":"#N/A"}},{"$f":"Salary","v":{"$error":"#N/A"}},null,null,{"$f":"Balance","v":{"$error":"#N/A"}},{"$f":"Interest","v":{"$error":"#N/A"}},{"$f":"YearlySavings","v":{"$error":"#N/A"}},{"$f":"DesiredRetirementIncome","v":{"$error":"#N/A"}},{"$f":"PensionIncome","v":{"$error":"#N/A"}},{"$f":"EndBalance","v":{"$error":"#N/A"}},null,null,{"$f":"Balance_Under","v":{"$error":"#N/A"}},{"$f":"Interest_Under","v":{"$error":"#N/A"}},{"$f":"YearlySavings_Under","v":{"$error":"#N/A"}},{"$f":"DesiredRetirementIncome","v":{"$error":"#N/A"}},{"$f":"PensionIncome_Under","v":{"$error":"#N/A"}},{"$f":"EndBalance","v":{"$error":"#N/A"}},null,null,{"$f":"Balance_Over","v":{"$error":"#N/A"}},{"$f":"Interest_Over","v":{"$error":"#N/A"}},{"$f":"YearlySavings_Over","v":{"$error":"#N/A"}},{"$f":"DesiredRetirementIncome","v":{"$error":"#N/A"}},{"$f":"PensionIncome_Over","v":{"$error":"#N/A"}},{"$f":"EndBalance","v":{"$error":"#N/A"}},null,null,{"$f":"IF(Calculations!B84<DesiredRetirementAge,K84,NA())","v":{"$error":"#N/A"}},{"$f":"IF(Calculations!B84>=(DesiredRetirementAge-1),K84,NA())","v":{"$error":"#N/A"}},null,null,{"$error":"#N/A"}]
[null,{"$f":"Age","v":{"$error":"#N/A"}},{"$f":"Salary","v":{"$error":"#N/A"}},null,null,{"$f":"Balance","v":{"$error":"#N/A"}},{"$f":"Interest","v":{"$error":"#N/A"}},{"$f":"YearlySavings","v":{"$error":"#N/A"}},{"$f":"DesiredRetirementIncome","v":{"$error":"#N/A"}},{"$f":"PensionIncome","v":{"$error":"#N/A"}},{"$f":"EndBalance","v":{"$error":"#N/A"}},null,null,{"$f":"Balance_Under","v":{"$error":"#N/A"}},{"$f":"Interest_Under","v":{"$error":"#N/A"}},{"$f":"YearlySavings_Under","v":{"$error":"#N/A"}},{"$f":"DesiredRetirementIncome","v":{"$error":"#N/A"}},{"$f":"PensionIncome_Under","v":{"$error":"#N/A"}},{"$f":"EndBalance","v":{"$error":"#N/A"}},null,null,{"$f":"Balance_Over","v":{"$error":"#N/A"}},{"$f":"Interest_Over","v":{"$error":"#N/A"}},{"$f":"YearlySavings_Over","v":{"$error":"#N/A"}},{"$f":"DesiredRetirementIncome","v":{"$error":"#N/A"}},{"$f":"PensionIncome_Over","v":{"$error":"#N/A"}},{"$f":"EndBalance","v":{"$error":"#N/A"}},null,null,{"$f":"IF(Calculations!B85<DesiredRetirementAge,K85,NA())","v":{"$error":"#N/A"}},{"$f":"IF(Calculations!B85>=(DesiredRetirementAge-1),K85,NA())","v":{"$error":"#N/A"}},null,null,{"$error":"#N/A"}]
[null,{"$f":"Age","v":{"$error":"#N/A"}},{"$f":"Salary","v":{"$error":"#N/A"}},null,null,{"$f":"Balance","v":{"$error":"#N/A"}},{"$f":"Interest","v":{"$error":"#N/A"}},{"$f":"YearlySavings","v":{"$error":"#N/A"}},{"$f":"DesiredRetirementIncome","v":{"$error":"#N/A"}},{"$f":"PensionIncome","v":{"$error":"#N/A"}},{"$f":"EndBalance","v":{"$error":"#N/A"}},null,null,{"$f":"Balance_Under","v":{"$error":"#N/A"}},{"$f":"Interest_Under","v":{"$error":"#N/A"}},{"$f":"YearlySavings_Under","v":{"$error":"#N/A"}},{"$f":"DesiredRetirementIncome","v":{"$error":"#N/A"}},{"$f":"PensionIncome_Under","v":{"$error":"#N/A"}},{"$f":"EndBalance","v":{"$error":"#N/A"}},null,null,{"$f":"Balance_Over","v":{"$error":"#N/A"}},{"$f":"Interest_Over","v":{"$error":"#N/A"}},{"$f":"YearlySavings_Over","v":{"$error":"#N/A"}},{"$f":"DesiredRetirementIncome","v":{"$error":"#N/A"}},{"$f":"PensionIncome_Over","v":{"$error":"#N/A"}},{"$f":"EndBalance","v":{"$error":"#N/A"}},null,null,{"$f":"IF(Calculations!B86<DesiredRetirementAge,K86,NA())","v":{"$error":"#N/A"}},{"$f":"IF(Calculations!B86>=(DesiredRetirementAge-1),K86,NA())","v":{"$error":"#N/A"}},null,null,{"$error":"#N/A"}]
[null,{"$f":"Age","v":{"$error":"#N/A"}},{"$f":"Salary","v":{"$error":"#N/A"}},null,null,{"$f":"Balance","v":{"$error":"#N/A"}},{"$f":"Interest","v":{"$error":"#N/A"}},{"$f":"YearlySavings","v":{"$error":"#N/A"}},{"$f":"DesiredRetirementIncome","v":{"$error":"#N/A"}},{"$f":"PensionIncome","v":{"$error":"#N/A"}},{"$f":"EndBalance","v":{"$error":"#N/A"}},null,null,{"$f":"Balance_Under","v":{"$error":"#N/A"}},{"$f":"Interest_Under","v":{"$error":"#N/A"}},{"$f":"YearlySavings_Under","v":{"$error":"#N/A"}},{"$f":"DesiredRetirementIncome","v":{"$error":"#N/A"}},{"$f":"PensionIncome_Under","v":{"$error":"#N/A"}},{"$f":"EndBalance","v":{"$error":"#N/A"}},null,null,{"$f":"Balance_Over","v":{"$error":"#N/A"}},{"$f":"Interest_Over","v":{"$error":"#N/A"}},{"$f":"YearlySavings_Over","v":{"$error":"#N/A"}},{"$f":"DesiredRetirementIncome","v":{"$error":"#N/A"}},{"$f":"PensionIncome_Over","v":{"$error":"#N/A"}},{"$f":"EndBalance","v":{"$error":"#N/A"}},null,null,{"$f":"IF(Calculations!B87<DesiredRetirementAge,K87,NA())","v":{"$error":"#N/A"}},{"$f":"IF(Calculations!B87>=(DesiredRetirementAge-1),K87,NA())","v":{"$error":"#N/A"}},null,null,{"$error":"#N/A"}]
[null,{"$f":"Age","v":{"$error":"#N/A"}},{"$f":"Salary","v":{"$error":"#N/A"}},null,null,{"$f":"Balance","v":{"$error":"#N/A"}},{"$f":"Interest","v":{"$error":"#N/A"}},{"$f":"YearlySavings","v":{"$error":"#N/A"}},{"$f":"DesiredRetirementIncome","v":{"$error":"#N/A"}},{"$f":"PensionIncome","v":{"$error":"#N/A"}},{"$f":"EndBalance","v":{"$error":"#N/A"}},null,null,{"$f":"Balance_Under","v":{"$error":"#N/A"}},{"$f":"Interest_Under","v":{"$error":"#N/A"}},{"$f":"YearlySavings_Under","v":{"$error":"#N/A"}},{"$f":"DesiredRetirementIncome","v":{"$error":"#N/A"}},{"$f":"PensionIncome_Under","v":{"$error":"#N/A"}},{"$f":"EndBalance","v":{"$error":"#N/A"}},null,null,{"$f":"Balance_Over","v":{"$error":"#N/A"}},{"$f":"Interest_Over","v":{"$error":"#N/A"}},{"$f":"YearlySavings_Over","v":{"$error":"#N/A"}},{"$f":"DesiredRetirementIncome","v":{"$error":"#N/A"}},{"$f":"PensionIncome_Over","v":{"$error":"#N/A"}},{"$f":"EndBalance","v":{"$error":"#N/A"}},null,null,{"$f":"IF(Calculations!B88<DesiredRetirementAge,K88,NA())","v":{"$error":"#N/A"}},{"$f":"IF(Calculations!B88>=(DesiredRetirementAge-1),K88,NA())","v":{"$error":"#N/A"}},null,null,{"$error":"#N/A"}]
[null,{"$f":"Age","v":{"$error":"#N/A"}},{"$f":"Salary","v":{"$error":"#N/A"}},null,null,{"$f":"Balance","v":{"$error":"#N/A"}},{"$f":"Interest","v":{"$error":"#N/A"}},{"$f":"YearlySavings","v":{"$error":"#N/A"}},{"$f":"DesiredRetirementIncome","v":{"$error":"#N/A"}},{"$f":"PensionIncome","v":{"$error":"#N/A"}},{"$f":"EndBalance","v":{"$error":"#N/A"}},null,null,{"$f":"Balance_Under","v":{"$error":"#N/A"}},{"$f":"Interest_Under","v":{"$error":"#N/A"}},{"$f":"YearlySavings_Under","v":{"$error":"#N/A"}},{"$f":"DesiredRetirementIncome","v":{"$error":"#N/A"}},{"$f":"PensionIncome_Under","v":{"$error":"#N/A"}},{"$f":"EndBalance","v":{"$error":"#N/A"}},null,null,{"$f":"Balance_Over","v":{"$error":"#N/A"}},{"$f":"Interest_Over","v":{"$error":"#N/A"}},{"$f":"YearlySavings_Over","v":{"$error":"#N/A"}},{"$f":"DesiredRetirementIncome","v":{"$error":"#N/A"}},{"$f":"PensionIncome_Over","v":{"$error":"#N/A"}},{"$f":"EndBalance","v":{"$error":"#N/A"}},null,null,{"$f":"IF(Calculations!B89<DesiredRetirementAge,K89,NA())","v":{"$error":"#N/A"}},{"$f":"IF(Calculations!B89>=(DesiredRetirementAge-1),K89,NA())","v":{"$error":"#N/A"}},null,null,{"$error":"#N/A"}]
[null,{"$f":"Age","v":{"$error":"#N/A"}},{"$f":"Salary","v":{"$error":"#N/A"}},null,null,{"$f":"Balance","v":{"$error":"#N/A"}},{"$f":"Interest","v":{"$error":"#N/A"}},{"$f":"YearlySavings","v":{"$error":"#N/A"}},{"$f":"DesiredRetirementIncome","v":{"$error":"#N/A"}},{"$f":"PensionIncome","v":{"$error":"#N/A"}},{"$f":"EndBalance","v":{"$error":"#N/A"}},null,null,{"$f":"Balance_Under","v":{"$error":"#N/A"}},{"$f":"Interest_Under","v":{"$error":"#N/A"}},{"$f":"YearlySavings_Under","v":{"$error":"#N/A"}},{"$f":"DesiredRetirementIncome","v":{"$error":"#N/A"}},{"$f":"PensionIncome_Under","v":{"$error":"#N/A"}},{"$f":"EndBalance","v":{"$error":"#N/A"}},null,null,{"$f":"Balance_Over","v":{"$error":"#N/A"}},{"$f":"Interest_Over","v":{"$error":"#N/A"}},{"$f":"YearlySavings_Over","v":{"$error":"#N/A"}},{"$f":"DesiredRetirementIncome","v":{"$error":"#N/A"}},{"$f":"PensionIncome_Over","v":{"$error":"#N/A"}},{"$f":"EndBalance","v":{"$error":"#N/A"}},null,null,{"$f":"IF(Calculations!B90<DesiredRetirementAge,K90,NA())","v":{"$error":"#N/A"}},{"$f":"IF(Calculations!B90>=(DesiredRetirementAge-1),K90,NA())","v":{"$error":"#N/A"}},null,null,{"$error":"#N/A"}]
[null,{"$f":"Age","v":{"$error":"#N/A"}},{"$f":"Salary","v":{"$error":"#N/A"}},null,null,{"$f":"Balance","v":{"$error":"#N/A"}},{"$f":"Interest","v":{"$error":"#N/A"}},{"$f":"YearlySavings","v":{"$error":"#N/A"}},{"$f":"DesiredRetirementIncome","v":{"$error":"#N/A"}},{"$f":"PensionIncome","v":{"$error":"#N/A"}},{"$f":"EndBalance","v":{"$error":"#N/A"}},null,null,{"$f":"Balance_Under","v":{"$error":"#N/A"}},{"$f":"Interest_Under","v":{"$error":"#N/A"}},{"$f":"YearlySavings_Under","v":{"$error":"#N/A"}},{"$f":"DesiredRetirementIncome","v":{"$error":"#N/A"}},{"$f":"PensionIncome_Under","v":{"$error":"#N/A"}},{"$f":"EndBalance","v":{"$error":"#N/A"}},null,null,{"$f":"Balance_Over","v":{"$error":"#N/A"}},{"$f":"Interest_Over","v":{"$error":"#N/A"}},{"$f":"YearlySavings_Over","v":{"$error":"#N/A"}},{"$f":"DesiredRetirementIncome","v":{"$error":"#N/A"}},{"$f":"PensionIncome_Over","v":{"$error":"#N/A"}},{"$f":"EndBalance","v":{"$error":"#N/A"}},null,null,{"$f":"IF(Calculations!B91<DesiredRetirementAge,K91,NA())","v":{"$error":"#N/A"}},{"$f":"IF(Calculations!B91>=(DesiredRetirementAge-1),K91,NA())","v":{"$error":"#N/A"}},null,null,{"$error":"#N/A"}]
[null,{"$f":"Age","v":{"$error":"#N/A"}},{"$f":"Salary","v":{"$error":"#N/A"}},null,null,{"$f":"Balance","v":{"$error":"#N/A"}},{"$f":"Interest","v":{"$error":"#N/A"}},{"$f":"YearlySavings","v":{"$error":"#N/A"}},{"$f":"DesiredRetirementIncome","v":{"$error":"#N/A"}},{"$f":"PensionIncome","v":{"$error":"#N/A"}},{"$f":"EndBalance","v":{"$error":"#N/A"}},null,null,{"$f":"Balance_Under","v":{"$error":"#N/A"}},{"$f":"Interest_Under","v":{"$error":"#N/A"}},{"$f":"YearlySavings_Under","v":{"$error":"#N/A"}},{"$f":"DesiredRetirementIncome","v":{"$error":"#N/A"}},{"$f":"PensionIncome_Under","v":{"$error":"#N/A"}},{"$f":"EndBalance","v":{"$error":"#N/A"}},null,null,{"$f":"Balance_Over","v":{"$error":"#N/A"}},{"$f":"Interest_Over","v":{"$error":"#N/A"}},{"$f":"YearlySavings_Over","v":{"$error":"#N/A"}},{"$f":"DesiredRetirementIncome","v":{"$error":"#N/A"}},{"$f":"PensionIncome_Over","v":{"$error":"#N/A"}},{"$f":"EndBalance","v":{"$error":"#N/A"}},null,null,{"$f":"IF(Calculations!B92<DesiredRetirementAge,K92,NA())","v":{"$error":"#N/A"}},{"$f":"IF(Calculations!B92>=(DesiredRetirementAge-1),K92,NA())","v":{"$error":"#N/A"}},null,null,{"$error":"#N/A"}]
[null,{"$f":"Age","v":{"$error":"#N/A"}},{"$f":"Salary","v":{"$error":"#N/A"}},null,null,{"$f":"Balance","v":{"$error":"#N/A"}},{"$f":"Interest","v":{"$error":"#N/A"}},{"$f":"YearlySavings","v":{"$error":"#N/A"}},{"$f":"DesiredRetirementIncome","v":{"$error":"#N/A"}},{"$f":"PensionIncome","v":{"$error":"#N/A"}},{"$f":"EndBalance","v":{"$error":"#N/A"}},null,null,{"$f":"Balance_Under","v":{"$error":"#N/A"}},{"$f":"Interest_Under","v":{"$error":"#N/A"}},{"$f":"YearlySavings_Under","v":{"$error":"#N/A"}},{"$f":"DesiredRetirementIncome","v":{"$error":"#N/A"}},{"$f":"PensionIncome_Under","v":{"$error":"#N/A"}},{"$f":"EndBalance","v":{"$error":"#N/A"}},null,null,{"$f":"Balance_Over","v":{"$error":"#N/A"}},{"$f":"Interest_Over","v":{"$error":"#N/A"}},{"$f":"YearlySavings_Over","v":{"$error":"#N/A"}},{"$f":"DesiredRetirementIncome","v":{"$error":"#N/A"}},{"$f":"PensionIncome_Over","v":{"$error":"#N/A"}},{"$f":"EndBalance","v":{"$error":"#N/A"}},null,null,{"$f":"IF(Calculations!B93<DesiredRetirementAge,K93,NA())","v":{"$error":"#N/A"}},{"$f":"IF(Calculations!B93>=(DesiredRetirementAge-1),K93,NA())","v":{"$error":"#N/A"}},null,null,{"$error":"#N/A"}]
[null,{"$f":"Age","v":{"$error":"#N/A"}},{"$f":"Salary","v":{"$error":"#N/A"}},null,null,{"$f":"Balance","v":{"$error":"#N/A"}},{"$f":"Interest","v":{"$error":"#N/A"}},{"$f":"YearlySavings","v":{"$error":"#N/A"}},{"$f":"DesiredRetirementIncome","v":{"$error":"#N/A"}},{"$f":"PensionIncome","v":{"$error":"#N/A"}},{"$f":"EndBalance","v":{"$error":"#N/A"}},null,null,{"$f":"Balance_Under","v":{"$error":"#N/A"}},{"$f":"Interest_Under","v":{"$error":"#N/A"}},{"$f":"YearlySavings_Under","v":{"$error":"#N/A"}},{"$f":"DesiredRetirementIncome","v":{"$error":"#N/A"}},{"$f":"PensionIncome_Under","v":{"$error":"#N/A"}},{"$f":"EndBalance","v":{"$error":"#N/A"}},null,null,{"$f":"Balance_Over","v":{"$error":"#N/A"}},{"$f":"Interest_Over","v":{"$error":"#N/A"}},{"$f":"YearlySavings_Over","v":{"$error":"#N/A"}},{"$f":"DesiredRetirementIncome","v":{"$error":"#N/A"}},{"$f":"PensionIncome_Over","v":{"$error":"#N/A"}},{"$f":"EndBalance","v":{"$error":"#N/A"}},null,null,{"$f":"IF(Calculations!B94<DesiredRetirementAge,K94,NA())","v":{"$error":"#N/A"}},{"$f":"IF(Calculations!B94>=(DesiredRetirementAge-1),K94,NA())","v":{"$error":"#N/A"}},null,null,{"$error":"#N/A"}]
[null,{"$f":"Age","v":{"$error":"#N/A"}},{"$f":"Salary","v":{"$error":"#N/A"}},null,null,{"$f":"Balance","v":{"$error":"#N/A"}},{"$f":"Interest","v":{"$error":"#N/A"}},{"$f":"YearlySavings","v":{"$error":"#N/A"}},{"$f":"DesiredRetirementIncome","v":{"$error":"#N/A"}},{"$f":"PensionIncome","v":{"$error":"#N/A"}},{"$f":"EndBalance","v":{"$error":"#N/A"}},null,null,{"$f":"Balance_Under","v":{"$error":"#N/A"}},{"$f":"Interest_Under","v":{"$error":"#N/A"}},{"$f":"YearlySavings_Under","v":{"$error":"#N/A"}},{"$f":"DesiredRetirementIncome","v":{"$error":"#N/A"}},{"$f":"PensionIncome_Under","v":{"$error":"#N/A"}},{"$f":"EndBalance","v":{"$error":"#N/A"}},null,null,{"$f":"Balance_Over","v":{"$error":"#N/A"}},{"$f":"Interest_Over","v":{"$error":"#N/A"}},{"$f":"YearlySavings_Over","v":{"$error":"#N/A"}},{"$f":"DesiredRetirementIncome","v":{"$error":"#N/A"}},{"$f":"PensionIncome_Over","v":{"$error":"#N/A"}},{"$f":"EndBalance","v":{"$error":"#N/A"}},null,null,{"$f":"IF(Calculations!B95<DesiredRetirementAge,K95,NA())","v":{"$error":"#N/A"}},{"$f":"IF(Calculations!B95>=(DesiredRetirementAge-1),K95,NA())","v":{"$error":"#N/A"}},null,null,{"$error":"#N/A"}]
[null,{"$f":"Age","v":{"$error":"#N/A"}},{"$f":"Salary","v":{"$error":"#N/A"}},null,null,{"$f":"Balance","v":{"$error":"#N/A"}},{"$f":"Interest","v":{"$error":"#N/A"}},{"$f":"YearlySavings","v":{"$error":"#N/A"}},{"$f":"DesiredRetirementIncome","v":{"$error":"#N/A"}},{"$f":"PensionIncome","v":{"$error":"#N/A"}},{"$f":"EndBalance","v":{"$error":"#N/A"}},null,null,{"$f":"Balance_Under","v":{"$error":"#N/A"}},{"$f":"Interest_Under","v":{"$error":"#N/A"}},{"$f":"YearlySavings_Under","v":{"$error":"#N/A"}},{"$f":"DesiredRetirementIncome","v":{"$error":"#N/A"}},{"$f":"PensionIncome_Under","v":{"$error":"#N/A"}},{"$f":"EndBalance","v":{"$error":"#N/A"}},null,null,{"$f":"Balance_Over","v":{"$error":"#N/A"}},{"$f":"Interest_Over","v":{"$error":"#N/A"}},{"$f":"YearlySavings_Over","v":{"$error":"#N/A"}},{"$f":"DesiredRetirementIncome","v":{"$error":"#N/A"}},{"$f":"PensionIncome_Over","v":{"$error":"#N/A"}},{"$f":"EndBalance","v":{"$error":"#N/A"}},null,null,{"$f":"IF(Calculations!B96<DesiredRetirementAge,K96,NA())","v":{"$error":"#N/A"}},{"$f":"IF(Calculations!B96>=(DesiredRetirementAge-1),K96,NA())","v":{"$error":"#N/A"}},null,null,{"$error":"#N/A"}]
[null,{"$f":"Age","v":{"$error":"#N/A"}},{"$f":"Salary","v":{"$error":"#N/A"}},null,null,{"$f":"Balance","v":{"$error":"#N/A"}},{"$f":"Interest","v":{"$error":"#N/A"}},{"$f":"YearlySavings","v":{"$error":"#N/A"}},{"$f":"DesiredRetirementIncome","v":{"$error":"#N/A"}},{"$f":"PensionIncome","v":{"$error":"#N/A"}},{"$f":"EndBalance","v":{"$error":"#N/A"}},null,null,{"$f":"Balance_Under","v":{"$error":"#N/A"}},{"$f":"Interest_Under","v":{"$error":"#N/A"}},{"$f":"YearlySavings_Under","v":{"$error":"#N/A"}},{"$f":"DesiredRetirementIncome","v":{"$error":"#N/A"}},{"$f":"PensionIncome_Under","v":{"$error":"#N/A"}},{"$f":"EndBalance","v":{"$error":"#N/A"}},null,null,{"$f":"Balance_Over","v":{"$error":"#N/A"}},{"$f":"Interest_Over","v":{"$error":"#N/A"}},{"$f":"YearlySavings_Over","v":{"$error":"#N/A"}},{"$f":"DesiredRetirementIncome","v":{"$error":"#N/A"}},{"$f":"PensionIncome_Over","v":{"$error":"#N/A"}},{"$f":"EndBalance","v":{"$error":"#N/A"}},null,null,{"$f":"IF(Calculations!B97<DesiredRetirementAge,K97,NA())","v":{"$error":"#N/A"}},{"$f":"IF(Calculations!B97>=(DesiredRetirementAge-1),K97,NA())","v":{"$error":"#N/A"}},null,null,{"$error":"#N/A"}]
[null,{"$f":"Age","v":{"$error":"#N/A"}},{"$f":"Salary","v":{"$error":"#N/A"}},null,null,{"$f":"Balance","v":{"$error":"#N/A"}},{"$f":"Interest","v":{"$error":"#N/A"}},{"$f":"YearlySavings","v":{"$error":"#N/A"}},{"$f":"DesiredRetirementIncome","v":{"$error":"#N/A"}},{"$f":"PensionIncome","v":{"$error":"#N/A"}},{"$f":"EndBalance","v":{"$error":"#N/A"}},null,null,{"$f":"Balance_Under","v":{"$error":"#N/A"}},{"$f":"Interest_Under","v":{"$error":"#N/A"}},{"$f":"YearlySavings_Under","v":{"$error":"#N/A"}},{"$f":"DesiredRetirementIncome","v":{"$error":"#N/A"}},{"$f":"PensionIncome_Under","v":{"$error":"#N/A"}},{"$f":"EndBalance","v":{"$error":"#N/A"}},null,null,{"$f":"Balance_Over","v":{"$error":"#N/A"}},{"$f":"Interest_Over","v":{"$error":"#N/A"}},{"$f":"YearlySavings_Over","v":{"$error":"#N/A"}},{"$f":"DesiredRetirementIncome","v":{"$error":"#N/A"}},{"$f":"PensionIncome_Over","v":{"$error":"#N/A"}},{"$f":"EndBalance","v":{"$error":"#N/A"}},null,null,{"$f":"IF(Calculations!B98<DesiredRetirementAge,K98,NA())","v":{"$error":"#N/A"}},{"$f":"IF(Calculations!B98>=(DesiredRetirementAge-1),K98,NA())","v":{"$error":"#N/A"}},null,null,{"$error":"#N/A"}]
[null,{"$f":"Age","v":{"$error":"#N/A"}},{"$f":"Salary","v":{"$error":"#N/A"}},null,null,{"$f":"Balance","v":{"$error":"#N/A"}},{"$f":"Interest","v":{"$error":"#N/A"}},{"$f":"YearlySavings","v":{"$error":"#N/A"}},{"$f":"DesiredRetirementIncome","v":{"$error":"#N/A"}},{"$f":"PensionIncome","v":{"$error":"#N/A"}},{"$f":"EndBalance","v":{"$error":"#N/A"}},null,null,{"$f":"Balance_Under","v":{"$error":"#N/A"}},{"$f":"Interest_Under","v":{"$error":"#N/A"}},{"$f":"YearlySavings_Under","v":{"$error":"#N/A"}},{"$f":"DesiredRetirementIncome","v":{"$error":"#N/A"}},{"$f":"PensionIncome_Under","v":{"$error":"#N/A"}},{"$f":"EndBalance","v":{"$error":"#N/A"}},null,null,{"$f":"Balance_Over","v":{"$error":"#N/A"}},{"$f":"Interest_Over","v":{"$error":"#N/A"}},{"$f":"YearlySavings_Over","v":{"$error":"#N/A"}},{"$f":"DesiredRetirementIncome","v":{"$error":"#N/A"}},{"$f":"PensionIncome_Over","v":{"$error":"#N/A"}},{"$f":"EndBalance","v":{"$error":"#N/A"}},null,null,{"$f":"IF(Calculations!B99<DesiredRetirementAge,K99,NA())","v":{"$error":"#N/A"}},{"$f":"IF(Calculations!B99>=(DesiredRetirementAge-1),K99,NA())","v":{"$error":"#N/A"}},null,null,{"$error":"#N/A"}]
[null,{"$f":"Age","v":{"$error":"#N/A"}},{"$f":"Salary","v":{"$error":"#N/A"}},null,null,{"$f":"Balance","v":{"$error":"#N/A"}},{"$f":"Interest","v":{"$error":"#N/A"}},{"$f":"YearlySavings","v":{"$error":"#N/A"}},{"$f":"DesiredRetirementIncome","v":{"$error":"#N/A"}},{"$f":"PensionIncome","v":{"$error":"#N/A"}},{"$f":"EndBalance","v":{"$error":"#N/A"}},null,null,{"$f":"Balance_Under","v":{"$error":"#N/A"}},{"$f":"Interest_Under","v":{"$error":"#N/A"}},{"$f":"YearlySavings_Under","v":{"$error":"#N/A"}},{"$f":"DesiredRetirementIncome","v":{"$error":"#N/A"}},{"$f":"PensionIncome_Under","v":{"$error":"#N/A"}},{"$f":"EndBalance","v":{"$error":"#N/A"}},null,null,{"$f":"Balance_Over","v":{"$error":"#N/A"}},{"$f":"Interest_Over","v":{"$error":"#N/A"}},{"$f":"YearlySavings_Over","v":{"$error":"#N/A"}},{"$f":"DesiredRetirementIncome","v":{"$error":"#N/A"}},{"$f":"PensionIncome_Over","v":{"$error":"#N/A"}},{"$f":"EndBalance","v":{"$error":"#N/A"}},null,null,{"$f":"IF(Calculations!B100<DesiredRetirementAge,K100,NA())","v":{"$error":"#N/A"}},{"$f":"IF(Calculations!B100>=(DesiredRetirementAge-1),K100,NA())","v":{"$error":"#N/A"}},null,null,{"$error":"#N/A"}]
[null,{"$f":"Age","v":{"$error":"#N/A"}},{"$f":"Salary","v":{"$error":"#N/A"}},null,null,{"$f":"Balance","v":{"$error":"#N/A"}},{"$f":"Interest","v":{"$error":"#N/A"}},{"$f":"YearlySavings","v":{"$error":"#N/A"}},{"$f":"DesiredRetirementIncome","v":{"$error":"#N/A"}},{"$f":"PensionIncome","v":{"$error":"#N/A"}},{"$f":"EndBalance","v":{"$error":"#N/A"}},null,null,{"$f":"Balance_Under","v":{"$error":"#N/A"}},{"$f":"Interest_Under","v":{"$error":"#N/A"}},{"$f":"YearlySavings_Under","v":{"$error":"#N/A"}},{"$f":"DesiredRetirementIncome","v":{"$error":"#N/A"}},{"$f":"PensionIncome_Under","v":{"$error":"#N/A"}},{"$f":"EndBalance","v":{"$error":"#N/A"}},null,null,{"$f":"Balance_Over","v":{"$error":"#N/A"}},{"$f":"Interest_Over","v":{"$error":"#N/A"}},{"$f":"YearlySavings_Over","v":{"$error":"#N/A"}},{"$f":"DesiredRetirementIncome","v":{"$error":"#N/A"}},{"$f":"PensionIncome_Over","v":{"$error":"#N/A"}},{"$f":"EndBalance","v":{"$error":"#N/A"}},null,null,{"$f":"IF(Calculations!B101<DesiredRetirementAge,K101,NA())","v":{"$error":"#N/A"}},{"$f":"IF(Calculations!B101>=(DesiredRetirementAge-1),K101,NA())","v":{"$error":"#N/A"}},null,null,{"$error":"#N/A"}]
[null,{"$f":"Age","v":{"$error":"#N/A"}},{"$f":"Salary","v":{"$error":"#N/A"}},null,null,{"$f":"Balance","v":{"$error":"#N/A"}},{"$f":"Interest","v":{"$error":"#N/A"}},{"$f":"YearlySavings","v":{"$error":"#N/A"}},{"$f":"DesiredRetirementIncome","v":{"$error":"#N/A"}},{"$f":"PensionIncome","v":{"$error":"#N/A"}},{"$f":"EndBalance","v":{"$error":"#N/A"}},null,null,{"$f":"Balance_Under","v":{"$error":"#N/A"}},{"$f":"Interest_Under","v":{"$error":"#N/A"}},{"$f":"YearlySavings_Under","v":{"$error":"#N/A"}},{"$f":"DesiredRetirementIncome","v":{"$error":"#N/A"}},{"$f":"PensionIncome_Under","v":{"$error":"#N/A"}},{"$f":"EndBalance","v":{"$error":"#N/A"}},null,null,{"$f":"Balance_Over","v":{"$error":"#N/A"}},{"$f":"Interest_Over","v":{"$error":"#N/A"}},{"$f":"YearlySavings_Over","v":{"$error":"#N/A"}},{"$f":"DesiredRetirementIncome","v":{"$error":"#N/A"}},{"$f":"PensionIncome_Over","v":{"$error":"#N/A"}},{"$f":"EndBalance","v":{"$error":"#N/A"}},null,null,{"$f":"IF(Calculations!B102<DesiredRetirementAge,K102,NA())","v":{"$error":"#N/A"}},{"$f":"IF(Calculations!B102>=(DesiredRetirementAge-1),K102,NA())","v":{"$error":"#N/A"}},null,null,{"$error":"#N/A"}]
[null,{"$f":"Age","v":{"$error":"#N/A"}},{"$f":"Salary","v":{"$error":"#N/A"}},null,null,{"$f":"Balance","v":{"$error":"#N/A"}},{"$f":"Interest","v":{"$error":"#N/A"}},{"$f":"YearlySavings","v":{"$error":"#N/A"}},{"$f":"DesiredRetirementIncome","v":{"$error":"#N/A"}},{"$f":"PensionIncome","v":{"$error":"#N/A"}},{"$f":"EndBalance","v":{"$error":"#N/A"}},null,null,{"$f":"Balance_Under","v":{"$error":"#N/A"}},{"$f":"Interest_Under","v":{"$error":"#N/A"}},{"$f":"YearlySavings_Under","v":{"$error":"#N/A"}},{"$f":"DesiredRetirementIncome","v":{"$error":"#N/A"}},{"$f":"PensionIncome_Under","v":{"$error":"#N/A"}},{"$f":"EndBalance","v":{"$error":"#N/A"}},null,null,{"$f":"Balance_Over","v":{"$error":"#N/A"}},{"$f":"Interest_Over","v":{"$error":"#N/A"}},{"$f":"YearlySavings_Over","v":{"$error":"#N/A"}},{"$f":"DesiredRetirementIncome","v":{"$error":"#N/A"}},{"$f":"PensionIncome_Over","v":{"$error":"#N/A"}},{"$f":"EndBalance","v":{"$error":"#N/A"}},null,null,{"$f":"IF(Calculations!B103<DesiredRetirementAge,K103,NA())","v":{"$error":"#N/A"}},{"$f":"IF(Calculations!B103>=(DesiredRetirementAge-1),K103,NA())","v":{"$error":"#N/A"}},null,null,{"$error":"#N/A"}]
[null,{"$f":"Age","v":{"$error":"#N/A"}},{"$f":"Salary","v":{"$error":"#N/A"}},null,null,{"$f":"Balance","v":{"$error":"#N/A"}},{"$f":"Interest","v":{"$error":"#N/A"}},{"$f":"YearlySavings","v":{"$error":"#N/A"}},{"$f":"DesiredRetirementIncome","v":{"$error":"#N/A"}},{"$f":"PensionIncome","v":{"$error":"#N/A"}},{"$f":"EndBalance","v":{"$error":"#N/A"}},null,null,{"$f":"Balance_Under","v":{"$error":"#N/A"}},{"$f":"Interest_Under","v":{"$error":"#N/A"}},{"$f":"YearlySavings_Under","v":{"$error":"#N/A"}},{"$f":"DesiredRetirementIncome","v":{"$error":"#N/A"}},{"$f":"PensionIncome_Under","v":{"$error":"#N/A"}},{"$f":"EndBalance","v":{"$error":"#N/A"}},null,null,{"$f":"Balance_Over","v":{"$error":"#N/A"}},{"$f":"Interest_Over","v":{"$error":"#N/A"}},{"$f":"YearlySavings_Over","v":{"$error":"#N/A"}},{"$f":"DesiredRetirementIncome","v":{"$error":"#N/A"}},{"$f":"PensionIncome_Over","v":{"$error":"#N/A"}},{"$f":"EndBalance","v":{"$error":"#N/A"}},null,null,{"$f":"IF(Calculations!B104<DesiredRetirementAge,K104,NA())","v":{"$error":"#N/A"}},{"$f":"IF(Calculations!B104>=(DesiredRetirementAge-1),K104,NA())","v":{"$error":"#N/A"}},null,null,{"$error":"#N/A"}]
[null,{"$f":"Age","v":{"$error":"#N/A"}},{"$f":"Salary","v":{"$error":"#N/A"}},null,null,{"$f":"Balance","v":{"$error":"#N/A"}},{"$f":"Interest","v":{"$error":"#N/A"}},{"$f":"YearlySavings","v":{"$error":"#N/A"}},{"$f":"DesiredRetirementIncome","v":{"$error":"#N/A"}},{"$f":"PensionIncome","v":{"$error":"#N/A"}},{"$f":"EndBalance","v":{"$error":"#N/A"}},null,null,{"$f":"Balance_Under","v":{"$error":"#N/A"}},{"$f":"Interest_Under","v":{"$error":"#N/A"}},{"$f":"YearlySavings_Under","v":{"$error":"#N/A"}},{"$f":"DesiredRetirementIncome","v":{"$error":"#N/A"}},{"$f":"PensionIncome_Under","v":{"$error":"#N/A"}},{"$f":"EndBalance","v":{"$error":"#N/A"}},null,null,{"$f":"Balance_Over","v":{"$error":"#N/A"}},{"$f":"Interest_Over","v":{"$error":"#N/A"}},{"$f":"YearlySavings_Over","v":{"$error":"#N/A"}},{"$f":"DesiredRetirementIncome","v":{"$error":"#N/A"}},{"$f":"PensionIncome_Over","v":{"$error":"#N/A"}},{"$f":"EndBalance","v":{"$error":"#N/A"}},null,null,{"$f":"IF(Calculations!B105<DesiredRetirementAge,K105,NA())","v":{"$error":"#N/A"}},{"$f":"IF(Calculations!B105>=(DesiredRetirementAge-1),K105,NA())","v":{"$error":"#N/A"}},null,null,{"$error":"#N/A"}]
[null,{"$f":"Age","v":{"$error":"#N/A"}},{"$f":"Salary","v":{"$error":"#N/A"}},null,null,{"$f":"Balance","v":{"$error":"#N/A"}},{"$f":"Interest","v":{"$error":"#N/A"}},{"$f":"YearlySavings","v":{"$error":"#N/A"}},{"$f":"DesiredRetirementIncome","v":{"$error":"#N/A"}},{"$f":"PensionIncome","v":{"$error":"#N/A"}},{"$f":"EndBalance","v":{"$error":"#N/A"}},null,null,{"$f":"Balance_Under","v":{"$error":"#N/A"}},{"$f":"Interest_Under","v":{"$error":"#N/A"}},{"$f":"YearlySavings_Under","v":{"$error":"#N/A"}},{"$f":"DesiredRetirementIncome","v":{"$error":"#N/A"}},{"$f":"PensionIncome_Under","v":{"$error":"#N/A"}},{"$f":"EndBalance","v":{"$error":"#N/A"}},null,null,{"$f":"Balance_Over","v":{"$error":"#N/A"}},{"$f":"Interest_Over","v":{"$error":"#N/A"}},{"$f":"YearlySavings_Over","v":{"$error":"#N/A"}},{"$f":"DesiredRetirementIncome","v":{"$error":"#N/A"}},{"$f":"PensionIncome_Over","v":{"$error":"#N/A"}},{"$f":"EndBalance","v":{"$error":"#N/A"}},null,null,{"$f":"IF(Calculations!B106<DesiredRetirementAge,K106,NA())","v":{"$error":"#N/A"}},{"$f":"IF(Calculations!B106>=(DesiredRetirementAge-1),K106,NA())","v":{"$error":"#N/A"}},null,null,{"$error":"#N/A"}]
[null,{"$f":"Age","v":{"$error":"#N/A"}},{"$f":"Salary","v":{"$error":"#N/A"}},null,null,{"$f":"Balance","v":{"$error":"#N/A"}},{"$f":"Interest","v":{"$error":"#N/A"}},{"$f":"YearlySavings","v":{"$error":"#N/A"}},{"$f":"DesiredRetirementIncome","v":{"$error":"#N/A"}},{"$f":"PensionIncome","v":{"$error":"#N/A"}},{"$f":"EndBalance","v":{"$error":"#N/A"}},null,null,{"$f":"Balance_Under","v":{"$error":"#N/A"}},{"$f":"Interest_Under","v":{"$error":"#N/A"}},{"$f":"YearlySavings_Under","v":{"$error":"#N/A"}},{"$f":"DesiredRetirementIncome","v":{"$error":"#N/A"}},{"$f":"PensionIncome_Under","v":{"$error":"#N/A"}},{"$f":"EndBalance","v":{"$error":"#N/A"}},null,null,{"$f":"Balance_Over","v":{"$error":"#N/A"}},{"$f":"Interest_Over","v":{"$error":"#N/A"}},{"$f":"YearlySavings_Over","v":{"$error":"#N/A"}},{"$f":"DesiredRetirementIncome","v":{"$error":"#N/A"}},{"$f":"PensionIncome_Over","v":{"$error":"#N/A"}},{"$f":"EndBalance","v":{"$error":"#N/A"}},null,null,{"$f":"IF(Calculations!B107<DesiredRetirementAge,K107,NA())","v":{"$error":"#N/A"}},{"$f":"IF(Calculations!B107>=(DesiredRetirementAge-1),K107,NA())","v":{"$error":"#N/A"}},null,null,{"$error":"#N/A"}]
[null,{"$f":"Age","v":{"$error":"#N/A"}},{"$f":"Salary","v":{"$error":"#N/A"}},null,null,{"$f":"Balance","v":{"$error":"#N/A"}},{"$f":"Interest","v":{"$error":"#N/A"}},{"$f":"YearlySavings","v":{"$error":"#N/A"}},{"$f":"DesiredRetirementIncome","v":{"$error":"#N/A"}},{"$f":"PensionIncome","v":{"$error":"#N/A"}},{"$f":"EndBalance","v":{"$error":"#N/A"}},null,null,{"$f":"Balance_Under","v":{"$error":"#N/A"}},{"$f":"Interest_Under","v":{"$error":"#N/A"}},{"$f":"YearlySavings_Under","v":{"$error":"#N/A"}},{"$f":"DesiredRetirementIncome","v":{"$error":"#N/A"}},{"$f":"PensionIncome_Under","v":{"$error":"#N/A"}},{"$f":"EndBalance","v":{"$error":"#N/A"}},null,null,{"$f":"Balance_Over","v":{"$error":"#N/A"}},{"$f":"Interest_Over","v":{"$error":"#N/A"}},{"$f":"YearlySavings_Over","v":{"$error":"#N/A"}},{"$f":"DesiredRetirementIncome","v":{"$error":"#N/A"}},{"$f":"PensionIncome_Over","v":{"$error":"#N/A"}},{"$f":"EndBalance","v":{"$error":"#N/A"}},null,null,{"$f":"IF(Calculations!B108<DesiredRetirementAge,K108,NA())","v":{"$error":"#N/A"}},{"$f":"IF(Calculations!B108>=(DesiredRetirementAge-1),K108,NA())","v":{"$error":"#N/A"}},null,null,{"$error":"#N/A"}]
[null,{"$f":"Age","v":{"$error":"#N/A"}},{"$f":"Salary","v":{"$error":"#N/A"}},null,null,{"$f":"Balance","v":{"$error":"#N/A"}},{"$f":"Interest","v":{"$error":"#N/A"}},{"$f":"YearlySavings","v":{"$error":"#N/A"}},{"$f":"DesiredRetirementIncome","v":{"$error":"#N/A"}},{"$f":"PensionIncome","v":{"$error":"#N/A"}},{"$f":"EndBalance","v":{"$error":"#N/A"}},null,null,{"$f":"Balance_Under","v":{"$error":"#N/A"}},{"$f":"Interest_Under","v":{"$error":"#N/A"}},{"$f":"YearlySavings_Under","v":{"$error":"#N/A"}},{"$f":"DesiredRetirementIncome","v":{"$error":"#N/A"}},{"$f":"PensionIncome_Under","v":{"$error":"#N/A"}},{"$f":"EndBalance","v":{"$error":"#N/A"}},null,null,{"$f":"Balance_Over","v":{"$error":"#N/A"}},{"$f":"Interest_Over","v":{"$error":"#N/A"}},{"$f":"YearlySavings_Over","v":{"$error":"#N/A"}},{"$f":"DesiredRetirementIncome","v":{"$error":"#N/A"}},{"$f":"PensionIncome_Over","v":{"$error":"#N/A"}},{"$f":"EndBalance","v":{"$error":"#N/A"}},null,null,{"$f":"IF(Calculations!B109<DesiredRetirementAge,K109,NA())","v":{"$error":"#N/A"}},{"$f":"IF(Calculations!B109>=(DesiredRetirementAge-1),K109,NA())","v":{"$error":"#N/A"}},null,null,{"$error":"#N/A"}]
[null,{"$f":"Age","v":{"$error":"#N/A"}},{"$f":"Salary","v":{"$error":"#N/A"}},null,null,{"$f":"Balance","v":{"$error":"#N/A"}},{"$f":"Interest","v":{"$error":"#N/A"}},{"$f":"YearlySavings","v":{"$error":"#N/A"}},{"$f":"DesiredRetirementIncome","v":{"$error":"#N/A"}},{"$f":"PensionIncome","v":{"$error":"#N/A"}},{"$f":"EndBalance","v":{"$error":"#N/A"}},null,null,{"$f":"Balance_Under","v":{"$error":"#N/A"}},{"$f":"Interest_Under","v":{"$error":"#N/A"}},{"$f":"YearlySavings_Under","v":{"$error":"#N/A"}},{"$f":"DesiredRetirementIncome","v":{"$error":"#N/A"}},{"$f":"PensionIncome_Under","v":{"$error":"#N/A"}},{"$f":"EndBalance","v":{"$error":"#N/A"}},null,null,{"$f":"Balance_Over","v":{"$error":"#N/A"}},{"$f":"Interest_Over","v":{"$error":"#N/A"}},{"$f":"YearlySavings_Over","v":{"$error":"#N/A"}},{"$f":"DesiredRetirementIncome","v":{"$error":"#N/A"}},{"$f":"PensionIncome_Over","v":{"$error":"#N/A"}},{"$f":"EndBalance","v":{"$error":"#N/A"}},null,null,{"$f":"IF(Calculations!B110<DesiredRetirementAge,K110,NA())","v":{"$error":"#N/A"}},{"$f":"IF(Calculations!B110>=(DesiredRetirementAge-1),K110,NA())","v":{"$error":"#N/A"}},null,null,{"$error":"#N/A"}]
[null,{"$f":"Age","v":{"$error":"#N/A"}},{"$f":"Salary","v":{"$error":"#N/A"}},null,null,{"$f":"Balance","v":{"$error":"#N/A"}},{"$f":"Interest","v":{"$error":"#N/A"}},{"$f":"YearlySavings","v":{"$error":"#N/A"}},{"$f":"DesiredRetirementIncome","v":{"$error":"#N/A"}},{"$f":"PensionIncome","v":{"$error":"#N/A"}},{"$f":"EndBalance","v":{"$error":"#N/A"}},null,null,{"$f":"Balance_Under","v":{"$error":"#N/A"}},{"$f":"Interest_Under","v":{"$error":"#N/A"}},{"$f":"YearlySavings_Under","v":{"$error":"#N/A"}},{"$f":"DesiredRetirementIncome","v":{"$error":"#N/A"}},{"$f":"PensionIncome_Under","v":{"$error":"#N/A"}},{"$f":"EndBalance","v":{"$error":"#N/A"}},null,null,{"$f":"Balance_Over","v":{"$error":"#N/A"}},{"$f":"Interest_Over","v":{"$error":"#N/A"}},{"$f":"YearlySavings_Over","v":{"$error":"#N/A"}},{"$f":"DesiredRetirementIncome","v":{"$error":"#N/A"}},{"$f":"PensionIncome_Over","v":{"$error":"#N/A"}},{"$f":"EndBalance","v":{"$error":"#N/A"}},null,null,{"$f":"IF(Calculations!B111<DesiredRetirementAge,K111,NA())","v":{"$error":"#N/A"}},{"$f":"IF(Calculations!B111>=(DesiredRetirementAge-1),K111,NA())","v":{"$error":"#N/A"}},null,null,{"$error":"#N/A"}]
[null,{"$f":"Age","v":{"$error":"#N/A"}},{"$f":"Salary","v":{"$error":"#N/A"}},null,null,{"$f":"Balance","v":{"$error":"#N/A"}},{"$f":"Interest","v":{"$error":"#N/A"}},{"$f":"YearlySavings","v":{"$error":"#N/A"}},{"$f":"DesiredRetirementIncome","v":{"$error":"#N/A"}},{"$f":"PensionIncome","v":{"$error":"#N/A"}},{"$f":"EndBalance","v":{"$error":"#N/A"}},null,null,{"$f":"Balance_Under","v":{"$error":"#N/A"}},{"$f":"Interest_Under","v":{"$error":"#N/A"}},{"$f":"YearlySavings_Under","v":{"$error":"#N/A"}},{"$f":"DesiredRetirementIncome","v":{"$error":"#N/A"}},{"$f":"PensionIncome_Under","v":{"$error":"#N/A"}},{"$f":"EndBalance","v":{"$error":"#N/A"}},null,null,{"$f":"Balance_Over","v":{"$error":"#N/A"}},{"$f":"Interest_Over","v":{"$error":"#N/A"}},{"$f":"YearlySavings_Over","v":{"$error":"#N/A"}},{"$f":"DesiredRetirementIncome","v":{"$error":"#N/A"}},{"$f":"PensionIncome_Over","v":{"$error":"#N/A"}},{"$f":"EndBalance","v":{"$error":"#N/A"}},null,null,{"$f":"IF(Calculations!B112<DesiredRetirementAge,K112,NA())","v":{"$error":"#N/A"}},{"$f":"IF(Calculations!B112>=(DesiredRetirementAge-1),K112,NA())","v":{"$error":"#N/A"}},null,null,{"$error":"#N/A"}]
[null,{"$f":"Age","v":{"$error":"#N/A"}},{"$f":"Salary","v":{"$error":"#N/A"}},null,null,{"$f":"Balance","v":{"$error":"#N/A"}},{"$f":"Interest","v":{"$error":"#N/A"}},{"$f":"YearlySavings","v":{"$error":"#N/A"}},{"$f":"DesiredRetirementIncome","v":{"$error":"#N/A"}},{"$f":"PensionIncome","v":{"$error":"#N/A"}},{"$f":"EndBalance","v":{"$error":"#N/A"}},null,null,{"$f":"Balance_Under","v":{"$error":"#N/A"}},{"$f":"Interest_Under","v":{"$error":"#N/A"}},{"$f":"YearlySavings_Under","v":{"$error":"#N/A"}},{"$f":"DesiredRetirementIncome","v":{"$error":"#N/A"}},{"$f":"PensionIncome_Under","v":{"$error":"#N/A"}},{"$f":"EndBalance","v":{"$error":"#N/A"}},null,null,{"$f":"Balance_Over","v":{"$error":"#N/A"}},{"$f":"Interest_Over","v":{"$error":"#N/A"}},{"$f":"YearlySavings_Over","v":{"$error":"#N/A"}},{"$f":"DesiredRetirementIncome","v":{"$error":"#N/A"}},{"$f":"PensionIncome_Over","v":{"$error":"#N/A"}},{"$f":"EndBalance","v":{"$error":"#N/A"}},null,null,{"$f":"IF(Calculations!B113<DesiredRetirementAge,K113,NA())","v":{"$error":"#N/A"}},{"$f":"IF(Calculations!B113>=(DesiredRetirementAge-1),K113,NA())","v":{"$error":"#N/A"}},null,null,{"$error":"#N/A"}]
[null,{"$f":"Age","v":{"$error":"#N/A"}},{"$f":"Salary","v":{"$error":"#N/A"}},null,null,{"$f":"Balance","v":{"$error":"#N/A"}},{"$f":"Interest","v":{"$error":"#N/A"}},{"$f":"YearlySavings","v":{"$error":"#N/A"}},{"$f":"DesiredRetirementIncome","v":{"$error":"#N/A"}},{"$f":"PensionIncome","v":{"$error":"#N/A"}},{"$f":"EndBalance","v":{"$error":"#N/A"}},null,null,{"$f":"Balance_Under","v":{"$error":"#N/A"}},{"$f":"Interest_Under","v":{"$error":"#N/A"}},{"$f":"YearlySavings_Under","v":{"$error":"#N/A"}},{"$f":"DesiredRetirementIncome","v":{"$error":"#N/A"}},{"$f":"PensionIncome_Under","v":{"$error":"#N/A"}},{"$f":"EndBalance","v":{"$error":"#N/A"}},null,null,{"$f":"Balance_Over","v":{"$error":"#N/A"}},{"$f":"Interest_Over","v":{"$error":"#N/A"}},{"$f":"YearlySavings_Over","v":{"$error":"#N/A"}},{"$f":"DesiredRetirementIncome","v":{"$error":"#N/A"}},{"$f":"PensionIncome_Over","v":{"$error":"#N/A"}},{"$f":"EndBalance","v":{"$error":"#N/A"}},null,null,{"$f":"IF(Calculations!B114<DesiredRetirementAge,K114,NA())","v":{"$error":"#N/A"}},{"$f":"IF(Calculations!B114>=(DesiredRetirementAge-1),K114,NA())","v":{"$error":"#N/A"}},null,null,{"$error":"#N/A"}]
[null,{"$f":"Age","v":{"$error":"#N/A"}},{"$f":"Salary","v":{"$error":"#N/A"}},null,null,{"$f":"Balance","v":{"$error":"#N/A"}},{"$f":"Interest","v":{"$error":"#N/A"}},{"$f":"YearlySavings","v":{"$error":"#N/A"}},{"$f":"DesiredRetirementIncome","v":{"$error":"#N/A"}},{"$f":"PensionIncome","v":{"$error":"#N/A"}},{"$f":"EndBalance","v":{"$error":"#N/A"}},null,null,{"$f":"Balance_Under","v":{"$error":"#N/A"}},{"$f":"Interest_Under","v":{"$error":"#N/A"}},{"$f":"YearlySavings_Under","v":{"$error":"#N/A"}},{"$f":"DesiredRetirementIncome","v":{"$error":"#N/A"}},{"$f":"PensionIncome_Under","v":{"$error":"#N/A"}},{"$f":"EndBalance","v":{"$error":"#N/A"}},null,null,{"$f":"Balance_Over","v":{"$error":"#N/A"}},{"$f":"Interest_Over","v":{"$error":"#N/A"}},{"$f":"YearlySavings_Over","v":{"$error":"#N/A"}},{"$f":"DesiredRetirementIncome","v":{"$error":"#N/A"}},{"$f":"PensionIncome_Over","v":{"$error":"#N/A"}},{"$f":"EndBalance","v":{"$error":"#N/A"}},null,null,{"$f":"IF(Calculations!B115<DesiredRetirementAge,K115,NA())","v":{"$error":"#N/A"}},{"$f":"IF(Calculations!B115>=(DesiredRetirementAge-1),K115,NA())","v":{"$error":"#N/A"}},null,null,{"$error":"#N/A"}]
[null,{"$f":"Age","v":{"$error":"#N/A"}},{"$f":"Salary","v":{"$error":"#N/A"}},null,null,{"$f":"Balance","v":{"$error":"#N/A"}},{"$f":"Interest","v":{"$error":"#N/A"}},{"$f":"YearlySavings","v":{"$error":"#N/A"}},{"$f":"DesiredRetirementIncome","v":{"$error":"#N/A"}},{"$f":"PensionIncome","v":{"$error":"#N/A"}},{"$f":"EndBalance","v":{"$error":"#N/A"}},null,null,{"$f":"Balance_Under","v":{"$error":"#N/A"}},{"$f":"Interest_Under","v":{"$error":"#N/A"}},{"$f":"YearlySavings_Under","v":{"$error":"#N/A"}},{"$f":"DesiredRetirementIncome","v":{"$error":"#N/A"}},{"$f":"PensionIncome_Under","v":{"$error":"#N/A"}},{"$f":"EndBalance","v":{"$error":"#N/A"}},null,null,{"$f":"Balance_Over","v":{"$error":"#N/A"}},{"$f":"Interest_Over","v":{"$error":"#N/A"}},{"$f":"YearlySavings_Over","v":{"$error":"#N/A"}},{"$f":"DesiredRetirementIncome","v":{"$error":"#N/A"}},{"$f":"PensionIncome_Over","v":{"$error":"#N/A"}},{"$f":"EndBalance","v":{"$error":"#N/A"}},null,null,{"$f":"IF(Calculations!B116<DesiredRetirementAge,K116,NA())","v":{"$error":"#N/A"}},{"$f":"IF(Calculations!B116>=(DesiredRetirementAge-1),K116,NA())","v":{"$error":"#N/A"}},null,null,{"$error":"#N/A"}]